Workbook

Sheet Rekapitulace stavby
A1: Export Komplet | BA1: 2.0 | BT1: False | BU1: False | BV1: {9858fc5f-f50c-4ff9-9ad9-9b7ad302b99e}
AR2: >> skryté sloupce << | BS2: 0,01 | BT2: 21
BS3: 0,01 | BT3: 12
D4: REKAPITULACE STAVBY | AS4: v --- níže se nacházejí doplnkové a pomocné údaje k sestavám --- v | BE4: Návod na vyplnění | BS4: 0,001
D5: Kód: | K5: 04425 | BE5: Měnit lze pouze buňky se žlutým podbarvením!_x000D_ _x000D_ 1) na prvním listu Rekapitulace stavby vyplňte v sestavě_x000D_ _x000D_ a) Souhrnný list_x000D_ - údaje o Uchazeči_x000D_ (přenesou se do ostatních sestav i v jiných listech)_x000D_ _x000D_ b) Rekapitulace objektů_x000D_ - potřebné Ostatní náklady_x000D_ _x000D_ 2) na vybraných listech vyplňte v sestavě_x000D_ _x000D_ a) Krycí list_x000D_ - údaje o Uchazeči, pokud se liší od údajů o Uchazeči na Souhrnném listu_x000D_ (údaje se přenesou do ostatních sestav v daném listu)_x000D_ _x000D_ b) Rekapitulace rozpočtu_x000D_ - potřebné Ostatní náklady_x000D_ _x000D_ c) Celkové náklady za stavbu_x000D_ - ceny u položek_x000D_ - množství, pokud má žluté podbarvení_x000D_ - a v případě potřeby poznámku (ta je ve skrytém sloupci) | BS5: 0,01
D6: Stavba: | K6: KAPLE SV VÁCLAVA VONOKLASY Na Návsi, Vonoklasy | BS6: 0,01
D7: KSO: | AK7: CC-CZ: | BS7: 0,01
D8: Místo: | K8: Vonoklasy | AK8: Datum: | AN8: 20. 8. 2025 | BS8: 0,01
BS9: 0,01
D10: Zadavatel: | AK10: IČ: | BS10: 0,01
AK11: DIČ: | BS11: 0,01
BS12: 0,01
D13: Uchazeč: | AK13: IČ: | AN13: Vyplň údaj | BS13: 0,01
E14: Vyplň údaj | AK14: DIČ: | AN14: Vyplň údaj | BS14: 0,01
BS15: False
D16: Projektant: | AK16: IČ: | BS16: False
E17: Ing.arch.Ester Miluničová | AK17: DIČ: | BS17: True
BS18: 0,01
D19: Zpracovatel: | AK19: IČ: | BS19: 0,01
E20: Hana Pejšová | AK20: DIČ: | BS20: True
D22: Poznámka:
D26: Cena bez DPH | AK26: =ROUND(AG94,2) -> 0
L28: Sazba daně | W28: Základ daně | AK28: Výše daně
D29: DPH | F29: základní | L29: 0.21 | W29: =ROUND(AZ94, 2) -> 0 | AK29: =ROUND(AV94, 2) -> 0
F30: snížená | L30: 0.12 | W30: =ROUND(BA94, 2) -> 0 | AK30: =ROUND(AW94, 2) -> 0
F31: zákl. přenesená | L31: 0.21 | W31: =ROUND(BB94, 2) -> 0 | AK31: 0
F32: sníž. přenesená | L32: 0.12 | W32: =ROUND(BC94, 2) -> 0 | AK32: 0
F33: nulová | L33: 0 | W33: =ROUND(BD94, 2) -> 0 | AK33: 0
D35: Cena s DPH | T35: v | X35: CZK | AK35: =SUM(AK26:AK33) -> 0
D49: Projektant | AH49: Zpracovatel
D60: Datum a podpis: | V60: Razítko | AH60: Datum a podpis: | AM60: Razítko
D64: Objednavatel | AH64: Uchazeč
D75: Datum a podpis: | V75: Razítko | AH75: Datum a podpis: | AM75: Razítko
C82: REKAPITULACE OBJEKTŮ STAVBY A SOUPISŮ PRACÍ
C84: Kód: | L84: =K5 -> 04425
C85: Stavba: | L85: =K6 -> KAPLE SV VÁCLAVA VONOKLASY Na Návsi, Vonoklasy
C87: Místo: | L87: =IF(K8="","",K8) -> Vonoklasy | AI87: Datum: | AM87: =IF(AN8= "","",AN8) -> 20. 8. 2025
C89: Zadavatel: | L89: =IF(E11= "","",E11) | AI89: Projektant: | AM89: =IF(E17="","",E17) -> Ing.arch.Ester Miluničová | AS89: Informatívní údaje z listů zakázek
C90: Uchazeč: | L90: =IF(E14= "Vyplň údaj","",E14) | AI90: Zpracovatel: | AM90: =IF(E20="","",E20) -> Hana Pejšová
C92: Kód | I92: Popis | AG92: Cena bez DPH [CZK] | AN92: Cena s DPH [CZK] | AQ92: Typ | AS92: z toho Ostat._x000D_ náklady [CZK] | AT92: DPH [CZK] | AU92: Normohodiny [h] | AV92: DPH základní [CZK] | AW92: DPH snížená [CZK] | AX92: DPH základní přenesená_x000D_ [CZK] | AY92: DPH snížená přenesená_x000D_ [CZK] | AZ92: Základna_x000D_ DPH základní | BA92: Základna_x000D_ DPH snížená | BB92: Základna_x000D_ DPH zákl. přenesená | BC92: Základna_x000D_ DPH sníž. přenesená | BD92: Základna_x000D_ DPH nulová
...

Sheet 01 - Výměna krovu a střeš...
L2: >> skryté sloupce << | AT2: {7333c7ff-391e-4950-8393-3cea0f48d193}
AT3: 2
D4: KRYCÍ LIST SOUPISU PRACÍ | M4: v --- níže se nacházejí doplnkové a pomocné údaje k sestavám --- v | AT4: False
D6: Stavba:
E7: ='Rekapitulace stavby'!K6 -> KAPLE SV VÁCLAVA VONOKLASY Na Návsi, Vonoklasy
D8: Objekt:
E9: 01 - Výměna krovu a střešní krytiny
D11: KSO: | I11: CC-CZ:
D12: Místo: | F12: Vonoklasy | I12: Datum: | J12: ='Rekapitulace stavby'!AN8 -> 20. 8. 2025
D14: Zadavatel: | I14: IČ: | J14: =IF('Rekapitulace stavby'!AN10="","",'Rekapitulace stavby'!AN10)
E15: =IF('Rekapitulace stavby'!E11="","",'Rekapitulace stavby'!E11) | I15: DIČ: | J15: =IF('Rekapitulace stavby'!AN11="","",'Rekapitulace stavby'!AN11)
D17: Uchazeč: | I17: IČ: | J17: ='Rekapitulace stavby'!AN13 -> Vyplň údaj
E18: ='Rekapitulace stavby'!E14 -> Vyplň údaj | I18: DIČ: | J18: ='Rekapitulace stavby'!AN14 -> Vyplň údaj
D20: Projektant: | I20: IČ:
E21: Ing.arch.Ester Miluničová | I21: DIČ:
D23: Zpracovatel: | I23: IČ:
E24: Hana Pejšová | I24: DIČ:
D26: Poznámka:
D30: Cena bez DPH | J30: =ROUND(J131, 2) -> 0
F32: Základ daně | I32: Sazba daně | J32: Výše daně
D33: DPH | E33: základní | F33: =ROUND((SUM(BE131:BE288)), 2) -> 0 | I33: 0.21 | J33: =ROUND(((SUM(BE131:BE288))*I33), 2) -> 0
E34: snížená | F34: =ROUND((SUM(BF131:BF288)), 2) -> 0 | I34: 0.12 | J34: =ROUND(((SUM(BF131:BF288))*I34), 2) -> 0
E35: zákl. přenesená | F35: =ROUND((SUM(BG131:BG288)), 2) -> 0 | I35: 0.21 | J35: =0 -> 0
E36: sníž. přenesená | F36: =ROUND((SUM(BH131:BH288)), 2) -> 0 | I36: 0.12 | J36: =0 -> 0
E37: nulová | F37: =ROUND((SUM(BI131:BI288)), 2) -> 0 | I37: 0 | J37: =0 -> 0
D39: Cena s DPH | G39: v | H39: CZK | J39: =SUM(J30:J37) -> 0
D50: Projektant | G50: Zpracovatel
D61: Datum a podpis: | F61: Razítko | G61: Datum a podpis: | J61: Razítko
D65: Objednavatel | G65: Uchazeč
D76: Datum a podpis: | F76: Razítko | G76: Datum a podpis: | J76: Razítko
C82: REKAPITULACE ČLENĚNÍ SOUPISU PRACÍ
C84: Stavba:
E85: =E7 -> KAPLE SV VÁCLAVA VONOKLASY Na Návsi, Vonoklasy
C86: Objekt:
E87: =E9 -> 01 - Výměna krovu a střešní krytiny
C89: Místo: | F89: =F12 -> Vonoklasy | I89: Datum: | J89: =IF(J12="","",J12) -> 20. 8. 2025
C91: Zadavatel: | F91: =E15 | I91: Projektant: | J91: =E21 -> Ing.arch.Ester Miluničová
C92: Uchazeč: | F92: =IF(E18="","",E18) -> Vyplň údaj | I92: Zpracovatel: | J92: =E24 -> Hana Pejšová
C94: Kód dílu - Popis | J94: Cena celkem [CZK]
C96: Náklady ze soupisu prací | J96: =J131 -> 0 | AU96: -1
...

Sheet 02 - Oprava fasády
L2: >> skryté sloupce << | AT2: {4ede8f5e-a675-48fd-850d-09477d01986f}
AT3: 2
D4: KRYCÍ LIST SOUPISU PRACÍ | M4: v --- níže se nacházejí doplnkové a pomocné údaje k sestavám --- v | AT4: False
D6: Stavba:
E7: ='Rekapitulace stavby'!K6 -> KAPLE SV VÁCLAVA VONOKLASY Na Návsi, Vonoklasy
D8: Objekt:
E9: 02 - Oprava fasády
D11: KSO: | I11: CC-CZ:
D12: Místo: | F12: Vonoklasy | I12: Datum: | J12: ='Rekapitulace stavby'!AN8 -> 20. 8. 2025
D14: Zadavatel: | I14: IČ: | J14: =IF('Rekapitulace stavby'!AN10="","",'Rekapitulace stavby'!AN10)
E15: =IF('Rekapitulace stavby'!E11="","",'Rekapitulace stavby'!E11) | I15: DIČ: | J15: =IF('Rekapitulace stavby'!AN11="","",'Rekapitulace stavby'!AN11)
D17: Uchazeč: | I17: IČ: | J17: ='Rekapitulace stavby'!AN13 -> Vyplň údaj
E18: ='Rekapitulace stavby'!E14 -> Vyplň údaj | I18: DIČ: | J18: ='Rekapitulace stavby'!AN14 -> Vyplň údaj
D20: Projektant: | I20: IČ:
E21: Ing.arch.Ester Miluničová | I21: DIČ:
D23: Zpracovatel: | I23: IČ:
E24: Hana Pejšová | I24: DIČ:
D26: Poznámka:
D30: Cena bez DPH | J30: =ROUND(J128, 2) -> 0
F32: Základ daně | I32: Sazba daně | J32: Výše daně
D33: DPH | E33: základní | F33: =ROUND((SUM(BE128:BE172)), 2) -> 0 | I33: 0.21 | J33: =ROUND(((SUM(BE128:BE172))*I33), 2) -> 0
E34: snížená | F34: =ROUND((SUM(BF128:BF172)), 2) -> 0 | I34: 0.12 | J34: =ROUND(((SUM(BF128:BF172))*I34), 2) -> 0
E35: zákl. přenesená | F35: =ROUND((SUM(BG128:BG172)), 2) -> 0 | I35: 0.21 | J35: =0 -> 0
E36: sníž. přenesená | F36: =ROUND((SUM(BH128:BH172)), 2) -> 0 | I36: 0.12 | J36: =0 -> 0
E37: nulová | F37: =ROUND((SUM(BI128:BI172)), 2) -> 0 | I37: 0 | J37: =0 -> 0
D39: Cena s DPH | G39: v | H39: CZK | J39: =SUM(J30:J37) -> 0
D50: Projektant | G50: Zpracovatel
D61: Datum a podpis: | F61: Razítko | G61: Datum a podpis: | J61: Razítko
D65: Objednavatel | G65: Uchazeč
D76: Datum a podpis: | F76: Razítko | G76: Datum a podpis: | J76: Razítko
C82: REKAPITULACE ČLENĚNÍ SOUPISU PRACÍ
C84: Stavba:
E85: =E7 -> KAPLE SV VÁCLAVA VONOKLASY Na Návsi, Vonoklasy
C86: Objekt:
E87: =E9 -> 02 - Oprava fasády
C89: Místo: | F89: =F12 -> Vonoklasy | I89: Datum: | J89: =IF(J12="","",J12) -> 20. 8. 2025
C91: Zadavatel: | F91: =E15 | I91: Projektant: | J91: =E21 -> Ing.arch.Ester Miluničová
C92: Uchazeč: | F92: =IF(E18="","",E18) -> Vyplň údaj | I92: Zpracovatel: | J92: =E24 -> Hana Pejšová
C94: Kód dílu - Popis | J94: Cena celkem [CZK]
C96: Náklady ze soupisu prací | J96: =J128 -> 0 | AU96: -1
...

Sheet 03 - Truhlářské konstrukce
L2: >> skryté sloupce << | AT2: {042d4d51-137d-414f-bf69-e23f6cb28589}
AT3: 2
D4: KRYCÍ LIST SOUPISU PRACÍ | M4: v --- níže se nacházejí doplnkové a pomocné údaje k sestavám --- v | AT4: False
D6: Stavba:
E7: ='Rekapitulace stavby'!K6 -> KAPLE SV VÁCLAVA VONOKLASY Na Návsi, Vonoklasy
D8: Objekt:
E9: 03 - Truhlářské konstrukce
D11: KSO: | I11: CC-CZ:
D12: Místo: | F12: Vonoklasy | I12: Datum: | J12: ='Rekapitulace stavby'!AN8 -> 20. 8. 2025
D14: Zadavatel: | I14: IČ: | J14: =IF('Rekapitulace stavby'!AN10="","",'Rekapitulace stavby'!AN10)
E15: =IF('Rekapitulace stavby'!E11="","",'Rekapitulace stavby'!E11) | I15: DIČ: | J15: =IF('Rekapitulace stavby'!AN11="","",'Rekapitulace stavby'!AN11)
D17: Uchazeč: | I17: IČ: | J17: ='Rekapitulace stavby'!AN13 -> Vyplň údaj
E18: ='Rekapitulace stavby'!E14 -> Vyplň údaj | I18: DIČ: | J18: ='Rekapitulace stavby'!AN14 -> Vyplň údaj
D20: Projektant: | I20: IČ:
E21: Ing.arch.Ester Miluničová | I21: DIČ:
D23: Zpracovatel: | I23: IČ:
E24: Hana Pejšová | I24: DIČ:
D26: Poznámka:
D30: Cena bez DPH | J30: =ROUND(J127, 2) -> 0
F32: Základ daně | I32: Sazba daně | J32: Výše daně
D33: DPH | E33: základní | F33: =ROUND((SUM(BE127:BE180)), 2) -> 0 | I33: 0.21 | J33: =ROUND(((SUM(BE127:BE180))*I33), 2) -> 0
E34: snížená | F34: =ROUND((SUM(BF127:BF180)), 2) -> 0 | I34: 0.12 | J34: =ROUND(((SUM(BF127:BF180))*I34), 2) -> 0
E35: zákl. přenesená | F35: =ROUND((SUM(BG127:BG180)), 2) -> 0 | I35: 0.21 | J35: =0 -> 0
E36: sníž. přenesená | F36: =ROUND((SUM(BH127:BH180)), 2) -> 0 | I36: 0.12 | J36: =0 -> 0
E37: nulová | F37: =ROUND((SUM(BI127:BI180)), 2) -> 0 | I37: 0 | J37: =0 -> 0
D39: Cena s DPH | G39: v | H39: CZK | J39: =SUM(J30:J37) -> 0
D50: Projektant | G50: Zpracovatel
D61: Datum a podpis: | F61: Razítko | G61: Datum a podpis: | J61: Razítko
D65: Objednavatel | G65: Uchazeč
D76: Datum a podpis: | F76: Razítko | G76: Datum a podpis: | J76: Razítko
C82: REKAPITULACE ČLENĚNÍ SOUPISU PRACÍ
C84: Stavba:
E85: =E7 -> KAPLE SV VÁCLAVA VONOKLASY Na Návsi, Vonoklasy
C86: Objekt:
E87: =E9 -> 03 - Truhlářské konstrukce
C89: Místo: | F89: =F12 -> Vonoklasy | I89: Datum: | J89: =IF(J12="","",J12) -> 20. 8. 2025
C91: Zadavatel: | F91: =E15 | I91: Projektant: | J91: =E21 -> Ing.arch.Ester Miluničová
C92: Uchazeč: | F92: =IF(E18="","",E18) -> Vyplň údaj | I92: Zpracovatel: | J92: =E24 -> Hana Pejšová
C94: Kód dílu - Popis | J94: Cena celkem [CZK]
C96: Náklady ze soupisu prací | J96: =J127 -> 0 | AU96: -1
...

Sheet truhlářské prvky
A1: KAPLE SV. VÁCLAVA VONOKLASY Na návsi, 252 028 Vonoklasy
A2: TRUHLÁŘSKÉ PRVKY
A3: Název | B3: Schéma/foto | C3: ks | D3: Šířka | E3: Výška | F3: jc/ks | G3: cena celkem | H3: Pozn.
A4: okno jednoduché východní a západní fasáda | C4: 2 | D4: 0.77 | E4: 1.7 | F4: 0 | G4: =F4*C4 -> 0 | H4: TYP: OKNO JEDNODUCHÉ - 3 křídlé (nadsvětlík je neotvíraví) Zasklení: JEDNODUCHÉ S DEKOREM Materiál: smrkový nastavovaný profil 44mm Šířka: 765 mm Výška : 1700 mm Barva: RAL 8017 pozn.: konečná barevnost a dekor skla bude vyvzorkován. Dále bude vyvzorkováno kování. Podrobnějí viz. výkresová dokumentace
A5: okno jednoduché jižní fasáda | C5: 1 | D5: 0.7 | E5: 0.7 | F5: 0 | G5: =F5*C5 -> 0 | H5: TYP: OKNO JEDNODUCHÉ - 1 křídlé (otvírání na obtlíky) Zasklení: JEDNODUCHÉ S DEKOREM Materiál: smrkový nastavovaný profil 44mm Šířka: 674 mm Výška : 674 mm Barva: RAL 8017 pozn.: konečná barevnost a dekor skla bude vyvzorkován. Dále bude představeno kování viz. výkresová dokumentace
A6: dřevěné žaluzie na věži | C6: 4 | D6: 0.52 | E6: 1.7 | F6: 0 | G6: =F6*C6 -> 0 | H6: TYP: DŘEVĚNÉ ŽALUZIE Materiál: smrkový nastavovaný profil 44mm Šířka: 520 mm Výška : 1700 mm Barva: RAL 8017 pozn.: konečná barevnost bude vyvzorkována. Nové žaluzie budou po celém rámu. Stávající žaluzie mají plný nadsvětlík.
A7: vstupní dveře do kaple vč. pevného nadsvětlíku | C7: 1 | D7: 1.2 | E7: 3.3 | F7: 0 | G7: =F7*C7 -> 0 | H7: Stávající vstupní dveře dvoukřídlé, výplňové z měkkého dřeva určeného k ochraně krycím nátěrem. Nadsvětlík je tvořen pevným zasklením s příčlemi, zasklení je jednoduché s dekorem. Kování dveří je původní. Vstupní dveře budou repasovány. Křídla budou vysazena a repasována na dílně restaurátora, rám bude restaurován na místě. Budou demontovány kovové mechanismy (panty, zámky, zástrče), které budou na dílně restaurovány a následně opět osazeny. Konečná barevnost bude vyvzorkována. Kování dveří bude repasováno a povrch bude dokončen kovářskou černou barvou s příměsí grafitu.
A8: vstupní dveře do kaple - interiér | C8: 1 | D8: 1.2 | E8: 2.2 | F8: 0 | G8: =F8*C8 -> 0 | H8: Stávající vstupní dveře dvoukřídlé, výplňové z měkkého dřeva určeného k ochraně krycím nátěrem. Dveře nejsou vystavena povětrnostním vlivům a jsou v lepším stavu než vstupní dveře. Kování dveří je původní. Vstupní dveře budou repasovány. Křídla budou vysazena a repasována na dílně restaurátora, rám bude restaurován na místě. Budou demontovány kovové mechanismy (panty, zámky, zástrče), které budou na dílně restaurovány a následně opět osazeny. Konečná barevnost bude vyvzorkována. Kování dveří bude repasováno a povrch bude dokončen kovářskou černou barvou s příměsí grafitu.
A9: nové vrata suterén | C9: 1 | D9: 2.2 | E9: 1.98 | F9: 0 | G9: =F9*C9 -> 0 | H9: TYP: DŘEVĚNÉ ŽALUZIE Materiál: smrkový nastavovaný profil 44mm Šířka: 2200 mm Výška : 1975 mm Barva: RAL 8017 pozn.: konečná barevnost a dekor skla bude vyvzorkován. Dále bude vyvzorkováno kování. Podrobnějí viz. výkresová dokumentace
A10: Celkem cena
A11: Veškeré rozměry nutno před výrobou ověřit přímo na stavbě !!!! Rozměry nesmí být použity k přípravě výrobně-technic. dokumentace, dokumentace výrobků dodaných na stavbu, dílenských ani výrobních výkresů a jiných výkresů vedoucích k výrobě koncového produktu.

Sheet 04 - Kamenické konstrukce
L2: >> skryté sloupce << | AT2: {49a59aad-a1d7-415d-9e47-7d5caf588236}
AT3: 2
D4: KRYCÍ LIST SOUPISU PRACÍ | M4: v --- níže se nacházejí doplnkové a pomocné údaje k sestavám --- v | AT4: False
D6: Stavba:
E7: ='Rekapitulace stavby'!K6 -> KAPLE SV VÁCLAVA VONOKLASY Na Návsi, Vonoklasy
D8: Objekt:
E9: 04 - Kamenické konstrukce
D11: KSO: | I11: CC-CZ:
D12: Místo: | F12: Vonoklasy | I12: Datum: | J12: ='Rekapitulace stavby'!AN8 -> 20. 8. 2025
D14: Zadavatel: | I14: IČ: | J14: =IF('Rekapitulace stavby'!AN10="","",'Rekapitulace stavby'!AN10)
E15: =IF('Rekapitulace stavby'!E11="","",'Rekapitulace stavby'!E11) | I15: DIČ: | J15: =IF('Rekapitulace stavby'!AN11="","",'Rekapitulace stavby'!AN11)
D17: Uchazeč: | I17: IČ: | J17: ='Rekapitulace stavby'!AN13 -> Vyplň údaj
E18: ='Rekapitulace stavby'!E14 -> Vyplň údaj | I18: DIČ: | J18: ='Rekapitulace stavby'!AN14 -> Vyplň údaj
D20: Projektant: | I20: IČ:
E21: Ing.arch.Ester Miluničová | I21: DIČ:
D23: Zpracovatel: | I23: IČ:
E24: Hana Pejšová | I24: DIČ:
D26: Poznámka:
D30: Cena bez DPH | J30: =ROUND(J123, 2) -> 0
F32: Základ daně | I32: Sazba daně | J32: Výše daně
D33: DPH | E33: základní | F33: =ROUND((SUM(BE123:BE138)), 2) -> 0 | I33: 0.21 | J33: =ROUND(((SUM(BE123:BE138))*I33), 2) -> 0
E34: snížená | F34: =ROUND((SUM(BF123:BF138)), 2) -> 0 | I34: 0.12 | J34: =ROUND(((SUM(BF123:BF138))*I34), 2) -> 0
E35: zákl. přenesená | F35: =ROUND((SUM(BG123:BG138)), 2) -> 0 | I35: 0.21 | J35: =0 -> 0
E36: sníž. přenesená | F36: =ROUND((SUM(BH123:BH138)), 2) -> 0 | I36: 0.12 | J36: =0 -> 0
E37: nulová | F37: =ROUND((SUM(BI123:BI138)), 2) -> 0 | I37: 0 | J37: =0 -> 0
D39: Cena s DPH | G39: v | H39: CZK | J39: =SUM(J30:J37) -> 0
D50: Projektant | G50: Zpracovatel
D61: Datum a podpis: | F61: Razítko | G61: Datum a podpis: | J61: Razítko
D65: Objednavatel | G65: Uchazeč
D76: Datum a podpis: | F76: Razítko | G76: Datum a podpis: | J76: Razítko
C82: REKAPITULACE ČLENĚNÍ SOUPISU PRACÍ
C84: Stavba:
E85: =E7 -> KAPLE SV VÁCLAVA VONOKLASY Na Návsi, Vonoklasy
C86: Objekt:
E87: =E9 -> 04 - Kamenické konstrukce
C89: Místo: | F89: =F12 -> Vonoklasy | I89: Datum: | J89: =IF(J12="","",J12) -> 20. 8. 2025
C91: Zadavatel: | F91: =E15 | I91: Projektant: | J91: =E21 -> Ing.arch.Ester Miluničová
C92: Uchazeč: | F92: =IF(E18="","",E18) -> Vyplň údaj | I92: Zpracovatel: | J92: =E24 -> Hana Pejšová
C94: Kód dílu - Popis | J94: Cena celkem [CZK]
C96: Náklady ze soupisu prací | J96: =J123 -> 0 | AU96: -1
...

Sheet kamenické prvky 
A1: KAPLE SV. VÁCLAVA VONOKLASY Na návsi, 252 028 Vonoklasy
A2: KAMENICKÉ PRVKY
A3: Název | B3: Schéma/foto | C3: ks | D3: Šířka | E3: Výška | F3: jc/ks | G3: cena celkem | H3: Pozn.
A4: portál s poutcem severní fasáda | C4: 1 | D4: 1.6 | E4: 3.7 | F4: 0 | G4: =F4*C4 -> 0 | H4: Kamenný portál vstupních dveří. Portál je bez ozdobné profilace. Portál bude restaurátorsky očištěn a ošetřen.
A5: schody jižní fasáda | C5: 2 | D5: 1.6 | E5: 0.4 | F5: 0 | G5: =F5*C5 -> 0 | H5: Dva kamenné schdy vč. prahu dveří. Před očištěním schodů bude zkontrolováno jejich uložení, v případě potřeby bude opraven sklon schodů. Poté budou restaurátorsky očištěny a ošetřeny.
A6: cedule s datací | C6: 1 | D6: 0.6 | E6: 0.4 | F6: 0 | G6: =F6*C6 -> 0 | H6: Kamenný deska s letopočtem. Deska je bez ozdobné profilace. Deska bude restaurátorsky očištěn a ošetřen. V případě potřeby bude obnoveno zlacení písma.
A7: Celkem cena
A8: Veškeré rozměry nutno před výrobou ověřit přímo na stavbě !!!! Rozměry nesmí být použity k přípravě výrobně-technic. dokumentace, dokumentace výrobků dodaných na stavbu, dílenských ani výrobních výkresů a jiných výkresů vedoucích k výrobě koncového produktu.

Sheet 05 - Malby
L2: >> skryté sloupce << | AT2: {44ec1581-7c8b-49d4-8dee-683f6e7d2a17}
AT3: 2
D4: KRYCÍ LIST SOUPISU PRACÍ | M4: v --- níže se nacházejí doplnkové a pomocné údaje k sestavám --- v | AT4: False
D6: Stavba:
E7: ='Rekapitulace stavby'!K6 -> KAPLE SV VÁCLAVA VONOKLASY Na Návsi, Vonoklasy
D8: Objekt:
E9: 05 - Malby
D11: KSO: | I11: CC-CZ:
D12: Místo: | F12: Vonoklasy | I12: Datum: | J12: ='Rekapitulace stavby'!AN8 -> 20. 8. 2025
D14: Zadavatel: | I14: IČ: | J14: =IF('Rekapitulace stavby'!AN10="","",'Rekapitulace stavby'!AN10)
E15: =IF('Rekapitulace stavby'!E11="","",'Rekapitulace stavby'!E11) | I15: DIČ: | J15: =IF('Rekapitulace stavby'!AN11="","",'Rekapitulace stavby'!AN11)
D17: Uchazeč: | I17: IČ: | J17: ='Rekapitulace stavby'!AN13 -> Vyplň údaj
E18: ='Rekapitulace stavby'!E14 -> Vyplň údaj | I18: DIČ: | J18: ='Rekapitulace stavby'!AN14 -> Vyplň údaj
D20: Projektant: | I20: IČ:
E21: Ing.arch.Ester Miluničová | I21: DIČ:
D23: Zpracovatel: | I23: IČ:
E24: Hana Pejšová | I24: DIČ:
D26: Poznámka:
D30: Cena bez DPH | J30: =ROUND(J127, 2) -> 0
F32: Základ daně | I32: Sazba daně | J32: Výše daně
D33: DPH | E33: základní | F33: =ROUND((SUM(BE127:BE183)), 2) -> 0 | I33: 0.21 | J33: =ROUND(((SUM(BE127:BE183))*I33), 2) -> 0
E34: snížená | F34: =ROUND((SUM(BF127:BF183)), 2) -> 0 | I34: 0.12 | J34: =ROUND(((SUM(BF127:BF183))*I34), 2) -> 0
E35: zákl. přenesená | F35: =ROUND((SUM(BG127:BG183)), 2) -> 0 | I35: 0.21 | J35: =0 -> 0
E36: sníž. přenesená | F36: =ROUND((SUM(BH127:BH183)), 2) -> 0 | I36: 0.12 | J36: =0 -> 0
E37: nulová | F37: =ROUND((SUM(BI127:BI183)), 2) -> 0 | I37: 0 | J37: =0 -> 0
D39: Cena s DPH | G39: v | H39: CZK | J39: =SUM(J30:J37) -> 0
D50: Projektant | G50: Zpracovatel
D61: Datum a podpis: | F61: Razítko | G61: Datum a podpis: | J61: Razítko
D65: Objednavatel | G65: Uchazeč
D76: Datum a podpis: | F76: Razítko | G76: Datum a podpis: | J76: Razítko
C82: REKAPITULACE ČLENĚNÍ SOUPISU PRACÍ
C84: Stavba:
E85: =E7 -> KAPLE SV VÁCLAVA VONOKLASY Na Návsi, Vonoklasy
C86: Objekt:
E87: =E9 -> 05 - Malby
C89: Místo: | F89: =F12 -> Vonoklasy | I89: Datum: | J89: =IF(J12="","",J12) -> 20. 8. 2025
C91: Zadavatel: | F91: =E15 | I91: Projektant: | J91: =E21 -> Ing.arch.Ester Miluničová
C92: Uchazeč: | F92: =IF(E18="","",E18) -> Vyplň údaj | I92: Zpracovatel: | J92: =E24 -> Hana Pejšová
C94: Kód dílu - Popis | J94: Cena celkem [CZK]
C96: Náklady ze soupisu prací | J96: =J127 -> 0 | AU96: -1
...

Sheet 06 - Dlažba
L2: >> skryté sloupce << | AT2: {9a9eaa77-47a2-426d-938e-cb8ed0fd40f5}
AT3: 2
D4: KRYCÍ LIST SOUPISU PRACÍ | M4: v --- níže se nacházejí doplnkové a pomocné údaje k sestavám --- v | AT4: False
D6: Stavba:
E7: ='Rekapitulace stavby'!K6 -> KAPLE SV VÁCLAVA VONOKLASY Na Návsi, Vonoklasy
D8: Objekt:
E9: 06 - Dlažba
D11: KSO: | I11: CC-CZ:
D12: Místo: | F12: Vonoklasy | I12: Datum: | J12: ='Rekapitulace stavby'!AN8 -> 20. 8. 2025
D14: Zadavatel: | I14: IČ: | J14: =IF('Rekapitulace stavby'!AN10="","",'Rekapitulace stavby'!AN10)
E15: =IF('Rekapitulace stavby'!E11="","",'Rekapitulace stavby'!E11) | I15: DIČ: | J15: =IF('Rekapitulace stavby'!AN11="","",'Rekapitulace stavby'!AN11)
D17: Uchazeč: | I17: IČ: | J17: ='Rekapitulace stavby'!AN13 -> Vyplň údaj
E18: ='Rekapitulace stavby'!E14 -> Vyplň údaj | I18: DIČ: | J18: ='Rekapitulace stavby'!AN14 -> Vyplň údaj
D20: Projektant: | I20: IČ:
E21: Ing.arch.Ester Miluničová | I21: DIČ:
D23: Zpracovatel: | I23: IČ:
E24: Hana Pejšová | I24: DIČ:
D26: Poznámka:
D30: Cena bez DPH | J30: =ROUND(J128, 2) -> 0
F32: Základ daně | I32: Sazba daně | J32: Výše daně
D33: DPH | E33: základní | F33: =ROUND((SUM(BE128:BE162)), 2) -> 0 | I33: 0.21 | J33: =ROUND(((SUM(BE128:BE162))*I33), 2) -> 0
E34: snížená | F34: =ROUND((SUM(BF128:BF162)), 2) -> 0 | I34: 0.12 | J34: =ROUND(((SUM(BF128:BF162))*I34), 2) -> 0
E35: zákl. přenesená | F35: =ROUND((SUM(BG128:BG162)), 2) -> 0 | I35: 0.21 | J35: =0 -> 0
E36: sníž. přenesená | F36: =ROUND((SUM(BH128:BH162)), 2) -> 0 | I36: 0.12 | J36: =0 -> 0
E37: nulová | F37: =ROUND((SUM(BI128:BI162)), 2) -> 0 | I37: 0 | J37: =0 -> 0
D39: Cena s DPH | G39: v | H39: CZK | J39: =SUM(J30:J37) -> 0
D50: Projektant | G50: Zpracovatel
D61: Datum a podpis: | F61: Razítko | G61: Datum a podpis: | J61: Razítko
D65: Objednavatel | G65: Uchazeč
D76: Datum a podpis: | F76: Razítko | G76: Datum a podpis: | J76: Razítko
C82: REKAPITULACE ČLENĚNÍ SOUPISU PRACÍ
C84: Stavba:
E85: =E7 -> KAPLE SV VÁCLAVA VONOKLASY Na Návsi, Vonoklasy
C86: Objekt:
E87: =E9 -> 06 - Dlažba
C89: Místo: | F89: =F12 -> Vonoklasy | I89: Datum: | J89: =IF(J12="","",J12) -> 20. 8. 2025
C91: Zadavatel: | F91: =E15 | I91: Projektant: | J91: =E21 -> Ing.arch.Ester Miluničová
C92: Uchazeč: | F92: =IF(E18="","",E18) -> Vyplň údaj | I92: Zpracovatel: | J92: =E24 -> Hana Pejšová
C94: Kód dílu - Popis | J94: Cena celkem [CZK]
C96: Náklady ze soupisu prací | J96: =J128 -> 0 | AU96: -1
...

Sheet dlažba
A1: KAPLE SV. VÁCLAVA VONOKLASY Na návsi, 252 028 Vonoklasy
A2: HISTORICKÁ DLAŽBA - DOPLNĚNÍ
A3: Název | B3: Schéma/foto | C3: ks | D3: rozměr dlažby | E3: jc/ks | F3: cena celkem | G3: Pozn.
A4: nová dlažba | C4: 1 | D4: 158x158x15 | E4: 0 | F4: =E4*C4 -> 0 | G4: Po šetrném odstranění dlažby v celém prostoru lodě a jejím uložení, bude zjistěn stav souvrství pod dlažbou. V případě potřeby bude dohodnut postup na opravu souvrství pod dlažbou. Po opravě souvrství bude nepoškozená stávající dlažba znovu položena ve středu lodě kaple. Historická dlažba bude po stranách doplněna novou jednobarevnou celoprobarvené keramickou hladké replikou historické dlažby. Ručně sypané, lisované , ostře pálené, vysoce slinuté. Přesný odstín bude vyvzorkován.
A5: Celkem cena
A6: Veškeré rozměry nutno před výrobou ověřit přímo na stavbě !!!! Rozměry nesmí být použity k přípravě výrobně-technic. dokumentace, dokumentace výrobků dodaných na stavbu, dílenských ani výrobních výkresů a jiných výkresů vedoucích k výrobě koncového produktu.

Sheet 07 - Terénní úpravy
L2: >> skryté sloupce << | AT2: {5ca15ea1-34a7-46fa-bd66-6d78e6668e20}
AT3: 2
D4: KRYCÍ LIST SOUPISU PRACÍ | M4: v --- níže se nacházejí doplnkové a pomocné údaje k sestavám --- v | AT4: False
D6: Stavba:
E7: ='Rekapitulace stavby'!K6 -> KAPLE SV VÁCLAVA VONOKLASY Na Návsi, Vonoklasy
D8: Objekt:
E9: 07 - Terénní úpravy
D11: KSO: | I11: CC-CZ:
D12: Místo: | F12: Vonoklasy | I12: Datum: | J12: ='Rekapitulace stavby'!AN8 -> 20. 8. 2025
D14: Zadavatel: | I14: IČ: | J14: =IF('Rekapitulace stavby'!AN10="","",'Rekapitulace stavby'!AN10)
E15: =IF('Rekapitulace stavby'!E11="","",'Rekapitulace stavby'!E11) | I15: DIČ: | J15: =IF('Rekapitulace stavby'!AN11="","",'Rekapitulace stavby'!AN11)
D17: Uchazeč: | I17: IČ: | J17: ='Rekapitulace stavby'!AN13 -> Vyplň údaj
E18: ='Rekapitulace stavby'!E14 -> Vyplň údaj | I18: DIČ: | J18: ='Rekapitulace stavby'!AN14 -> Vyplň údaj
D20: Projektant: | I20: IČ:
E21: Ing.arch.Ester Miluničová | I21: DIČ:
D23: Zpracovatel: | I23: IČ:
E24: Hana Pejšová | I24: DIČ:
D26: Poznámka:
D30: Cena bez DPH | J30: =ROUND(J128, 2) -> 0
F32: Základ daně | I32: Sazba daně | J32: Výše daně
D33: DPH | E33: základní | F33: =ROUND((SUM(BE128:BE181)), 2) -> 0 | I33: 0.21 | J33: =ROUND(((SUM(BE128:BE181))*I33), 2) -> 0
E34: snížená | F34: =ROUND((SUM(BF128:BF181)), 2) -> 0 | I34: 0.12 | J34: =ROUND(((SUM(BF128:BF181))*I34), 2) -> 0
E35: zákl. přenesená | F35: =ROUND((SUM(BG128:BG181)), 2) -> 0 | I35: 0.21 | J35: =0 -> 0
E36: sníž. přenesená | F36: =ROUND((SUM(BH128:BH181)), 2) -> 0 | I36: 0.12 | J36: =0 -> 0
E37: nulová | F37: =ROUND((SUM(BI128:BI181)), 2) -> 0 | I37: 0 | J37: =0 -> 0
D39: Cena s DPH | G39: v | H39: CZK | J39: =SUM(J30:J37) -> 0
D50: Projektant | G50: Zpracovatel
D61: Datum a podpis: | F61: Razítko | G61: Datum a podpis: | J61: Razítko
D65: Objednavatel | G65: Uchazeč
D76: Datum a podpis: | F76: Razítko | G76: Datum a podpis: | J76: Razítko
C82: REKAPITULACE ČLENĚNÍ SOUPISU PRACÍ
C84: Stavba:
E85: =E7 -> KAPLE SV VÁCLAVA VONOKLASY Na Návsi, Vonoklasy
C86: Objekt:
E87: =E9 -> 07 - Terénní úpravy
C89: Místo: | F89: =F12 -> Vonoklasy | I89: Datum: | J89: =IF(J12="","",J12) -> 20. 8. 2025
C91: Zadavatel: | F91: =E15 | I91: Projektant: | J91: =E21 -> Ing.arch.Ester Miluničová
C92: Uchazeč: | F92: =IF(E18="","",E18) -> Vyplň údaj | I92: Zpracovatel: | J92: =E24 -> Hana Pejšová
C94: Kód dílu - Popis | J94: Cena celkem [CZK]
C96: Náklady ze soupisu prací | J96: =J128 -> 0 | AU96: -1
...

Sheet zvon a hodiny
A1: KAPLE SV. VÁCLAVA VONOKLASY Na návsi, 252 028 Vonoklasy
A2: ZVON A HODINY
A3: Název | B3: Schéma/foto | C3: ks | D3: rozměr | E3: jc/ks | F3: cena celkem | G3: Pozn.
A4: zvon | C4: 1 | E4: 0 | F4: =E4*C4 -> 0 | G4: Kontrola kotvení a časomíry. Přívod el. proudu
A5: hodiny | C5: 1 | D5: ⌀ 0,5 | E5: 0 | F5: =E5*C5 -> 0 | G5: Instalace nových hodin nebo oprava stávajících. Přívod el. proudu
A6: Celkem cena
A7: Veškeré rozměry nutno před výrobou ověřit přímo na stavbě !!!! Rozměry nesmí být použity k přípravě výrobně-technic. dokumentace, dokumentace výrobků dodaných na stavbu, dílenských ani výrobních výkresů a jiných výkresů vedoucích k výrobě koncového produktu.
