Workbook

Sheet Rekapitulace stavby
A1: Export Komplet | BA1: 2.0 | BT1: False | BU1: False | BV1: {9858fc5f-f50c-4ff9-9ad9-9b7ad302b99e}
AR2: >> skryté sloupce << | BS2: 0,01 | BT2: 21
BS3: 0,01 | BT3: 12
D4: REKAPITULACE STAVBY | AS4: v --- níže se nacházejí doplnkové a pomocné údaje k sestavám --- v | BE4: Návod na vyplnění | BS4: 0,001
D5: Kód: | K5: 04425 | BE5: Měnit lze pouze buňky se žlutým podbarvením!_x000D_ _x000D_ 1) na prvním listu Rekapitulace stavby vyplňte v sestavě_x000D_ _x000D_ a) Souhrnný list_x000D_ - údaje o Uchazeči_x000D_ (přenesou se do ostatních sestav i v jiných listech)_x000D_ _x000D_ b) Rekapitulace objektů_x000D_ - potřebné Ostatní náklady_x000D_ _x000D_ 2) na vybraných listech vyplňte v sestavě_x000D_ _x000D_ a) Krycí list_x000D_ - údaje o Uchazeči, pokud se liší od údajů o Uchazeči na Souhrnném listu_x000D_ (údaje se přenesou do ostatních sestav v daném listu)_x000D_ _x000D_ b) Rekapitulace rozpočtu_x000D_ - potřebné Ostatní náklady_x000D_ _x000D_ c) Celkové náklady za stavbu_x000D_ - ceny u položek_x000D_ - množství, pokud má žluté podbarvení_x000D_ - a v případě potřeby poznámku (ta je ve skrytém sloupci) | BS5: 0,01
D6: Stavba: | K6: KAPLE SV VÁCLAVA VONOKLASY Na Návsi, Vonoklasy | BS6: 0,01
D7: KSO: | AK7: CC-CZ: | BS7: 0,01
D8: Místo: | K8: Vonoklasy | AK8: Datum: | AN8: 20. 8. 2025 | BS8: 0,01
BS9: 0,01
D10: Zadavatel: | AK10: IČ: | BS10: 0,01
AK11: DIČ: | BS11: 0,01
BS12: 0,01
D13: Uchazeč: | AK13: IČ: | AN13: Vyplň údaj | BS13: 0,01
E14: Vyplň údaj | AK14: DIČ: | AN14: Vyplň údaj | BS14: 0,01
BS15: False
D16: Projektant: | AK16: IČ: | BS16: False
E17: Ing.arch.Ester Miluničová | AK17: DIČ: | BS17: True
BS18: 0,01
D19: Zpracovatel: | AK19: IČ: | BS19: 0,01
E20: Hana Pejšová | AK20: DIČ: | BS20: True
D22: Poznámka:
D26: Cena bez DPH | AK26: =ROUND(AG94,2) -> 0
L28: Sazba daně | W28: Základ daně | AK28: Výše daně
D29: DPH | F29: základní | L29: 0.21 | W29: =ROUND(AZ94, 2) -> 0 | AK29: =ROUND(AV94, 2) -> 0
F30: snížená | L30: 0.12 | W30: =ROUND(BA94, 2) -> 0 | AK30: =ROUND(AW94, 2) -> 0
F31: zákl. přenesená | L31: 0.21 | W31: =ROUND(BB94, 2) -> 0 | AK31: 0
F32: sníž. přenesená | L32: 0.12 | W32: =ROUND(BC94, 2) -> 0 | AK32: 0
F33: nulová | L33: 0 | W33: =ROUND(BD94, 2) -> 0 | AK33: 0
D35: Cena s DPH | T35: v | X35: CZK | AK35: =SUM(AK26:AK33) -> 0
D49: Projektant | AH49: Zpracovatel
D60: Datum a podpis: | V60: Razítko | AH60: Datum a podpis: | AM60: Razítko
D64: Objednavatel | AH64: Uchazeč
D75: Datum a podpis: | V75: Razítko | AH75: Datum a podpis: | AM75: Razítko
C82: REKAPITULACE OBJEKTŮ STAVBY A SOUPISŮ PRACÍ
C84: Kód: | L84: =K5 -> 04425
C85: Stavba: | L85: =K6 -> KAPLE SV VÁCLAVA VONOKLASY Na Návsi, Vonoklasy
C87: Místo: | L87: =IF(K8="","",K8) -> Vonoklasy | AI87: Datum: | AM87: =IF(AN8= "","",AN8) -> 20. 8. 2025
C89: Zadavatel: | L89: =IF(E11= "","",E11) | AI89: Projektant: | AM89: =IF(E17="","",E17) -> Ing.arch.Ester Miluničová | AS89: Informatívní údaje z listů zakázek
C90: Uchazeč: | L90: =IF(E14= "Vyplň údaj","",E14) | AI90: Zpracovatel: | AM90: =IF(E20="","",E20) -> Hana Pejšová
C92: Kód | I92: Popis | AG92: Cena bez DPH [CZK] | AN92: Cena s DPH [CZK] | AQ92: Typ | AS92: z toho Ostat._x000D_ náklady [CZK] | AT92: DPH [CZK] | AU92: Normohodiny [h] | AV92: DPH základní [CZK] | AW92: DPH snížená [CZK] | AX92: DPH základní přenesená_x000D_ [CZK] | AY92: DPH snížená přenesená_x000D_ [CZK] | AZ92: Základna_x000D_ DPH základní | BA92: Základna_x000D_ DPH snížená | BB92: Základna_x000D_ DPH zákl. přenesená | BC92: Základna_x000D_ DPH sníž. přenesená | BD92: Základna_x000D_ DPH nulová
C94: Náklady z rozpočtů | AG94: =ROUND(SUM(AG95:AG101),2) -> 0 | AN94: =SUM(AG94,AT94) -> 0 | AS94: =ROUND(SUM(AS95:AS101),2) -> 0 | AT94: =ROUND(SUM(AV94:AW94),2) -> 0 | AU94: =ROUND(SUM(AU95:AU101),5) -> 0 | AV94: =ROUND(AZ94*L29,2) -> 0 | AW94: =ROUND(BA94*L30,2) -> 0 | AX94: =ROUND(BB94*L29,2) -> 0 | AY94: =ROUND(BC94*L30,2) -> 0 | AZ94: =ROUND(SUM(AZ95:AZ101),2) -> 0 | BA94: =ROUND(SUM(BA95:BA101),2) -> 0 | BB94: =ROUND(SUM(BB95:BB101),2) -> 0 | BC94: =ROUND(SUM(BC95:BC101),2) -> 0 | BD94: =ROUND(SUM(BD95:BD101),2) -> 0 | BS94: D | BT94: 0 | BU94: ###NOIMPORT### | BV94: IMPORT | BW94: {9858fc5f-f50c-4ff9-9ad9-9b7ad302b99e} | BX94: {00000000-0000-0000-0000-000000000000}
A95: / | D95: 01 | J95: Výměna krovu a střešní krytiny | AG95: ='01 - Výměna krovu a střeš...'!J30 -> 0 | AN95: =SUM(AG95,AT95) -> 0 | AQ95: STA | AS95: 0 | AT95: =ROUND(SUM(AV95:AW95),2) -> 0 | AU95: ='01 - Výměna krovu a střeš...'!P131 -> 0 | AV95: ='01 - Výměna krovu a střeš...'!J33 -> 0 | AW95: ='01 - Výměna krovu a střeš...'!J34 -> 0 | AX95: ='01 - Výměna krovu a střeš...'!J35 -> 0 | AY95: ='01 - Výměna krovu a střeš...'!J36 -> 0 | AZ95: ='01 - Výměna krovu a střeš...'!F33 -> 0 | BA95: ='01 - Výměna krovu a střeš...'!F34 -> 0 | BB95: ='01 - Výměna krovu a střeš...'!F35 -> 0 | BC95: ='01 - Výměna krovu a střeš...'!F36 -> 0 | BD95: ='01 - Výměna krovu a střeš...'!F37 -> 0 | BT95: 1 | BV95: IMPORT | BW95: {7333c7ff-391e-4950-8393-3cea0f48d193} | BX95: {9858fc5f-f50c-4ff9-9ad9-9b7ad302b99e} | CM95: 2
A96: / | D96: 02 | J96: Oprava fasády | AG96: ='02 - Oprava fasády'!J30 -> 0 | AN96: =SUM(AG96,AT96) -> 0 | AQ96: STA | AS96: 0 | AT96: =ROUND(SUM(AV96:AW96),2) -> 0 | AU96: ='02 - Oprava fasády'!P128 -> 0 | AV96: ='02 - Oprava fasády'!J33 -> 0 | AW96: ='02 - Oprava fasády'!J34 -> 0 | AX96: ='02 - Oprava fasády'!J35 -> 0 | AY96: ='02 - Oprava fasády'!J36 -> 0 | AZ96: ='02 - Oprava fasády'!F33 -> 0 | BA96: ='02 - Oprava fasády'!F34 -> 0 | BB96: ='02 - Oprava fasády'!F35 -> 0 | BC96: ='02 - Oprava fasády'!F36 -> 0 | BD96: ='02 - Oprava fasády'!F37 -> 0 | BT96: 1 | BV96: IMPORT | BW96: {4ede8f5e-a675-48fd-850d-09477d01986f} | BX96: {9858fc5f-f50c-4ff9-9ad9-9b7ad302b99e} | CM96: 2
A97: / | D97: 03 | J97: Truhlářské konstrukce | AG97: ='03 - Truhlářské konstrukce'!J30 -> 0 | AN97: =SUM(AG97,AT97) -> 0 | AQ97: STA | AS97: 0 | AT97: =ROUND(SUM(AV97:AW97),2) -> 0 | AU97: ='03 - Truhlářské konstrukce'!P127 -> 0 | AV97: ='03 - Truhlářské konstrukce'!J33 -> 0 | AW97: ='03 - Truhlářské konstrukce'!J34 -> 0 | AX97: ='03 - Truhlářské konstrukce'!J35 -> 0 | AY97: ='03 - Truhlářské konstrukce'!J36 -> 0 | AZ97: ='03 - Truhlářské konstrukce'!F33 -> 0 | BA97: ='03 - Truhlářské konstrukce'!F34 -> 0 | BB97: ='03 - Truhlářské konstrukce'!F35 -> 0 | BC97: ='03 - Truhlářské konstrukce'!F36 -> 0 | BD97: ='03 - Truhlářské konstrukce'!F37 -> 0 | BT97: 1 | BV97: IMPORT | BW97: {042d4d51-137d-414f-bf69-e23f6cb28589} | BX97: {9858fc5f-f50c-4ff9-9ad9-9b7ad302b99e} | CM97: 2
A98: / | D98: 04 | J98: Kamenické konstrukce | AG98: ='04 - Kamenické konstrukce'!J30 -> 0 | AN98: =SUM(AG98,AT98) -> 0 | AQ98: STA | AS98: 0 | AT98: =ROUND(SUM(AV98:AW98),2) -> 0 | AU98: ='04 - Kamenické konstrukce'!P123 -> 0 | AV98: ='04 - Kamenické konstrukce'!J33 -> 0 | AW98: ='04 - Kamenické konstrukce'!J34 -> 0 | AX98: ='04 - Kamenické konstrukce'!J35 -> 0 | AY98: ='04 - Kamenické konstrukce'!J36 -> 0 | AZ98: ='04 - Kamenické konstrukce'!F33 -> 0 | BA98: ='04 - Kamenické konstrukce'!F34 -> 0 | BB98: ='04 - Kamenické konstrukce'!F35 -> 0 | BC98: ='04 - Kamenické konstrukce'!F36 -> 0 | BD98: ='04 - Kamenické konstrukce'!F37 -> 0 | BT98: 1 | BV98: IMPORT | BW98: {49a59aad-a1d7-415d-9e47-7d5caf588236} | BX98: {9858fc5f-f50c-4ff9-9ad9-9b7ad302b99e} | CM98: 2
A99: / | D99: 05 | J99: Malby | AG99: ='05 - Malby'!J30 -> 0 | AN99: =SUM(AG99,AT99) -> 0 | AQ99: STA | AS99: 0 | AT99: =ROUND(SUM(AV99:AW99),2) -> 0 | AU99: ='05 - Malby'!P127 -> 0 | AV99: ='05 - Malby'!J33 -> 0 | AW99: ='05 - Malby'!J34 -> 0 | AX99: ='05 - Malby'!J35 -> 0 | AY99: ='05 - Malby'!J36 -> 0 | AZ99: ='05 - Malby'!F33 -> 0 | BA99: ='05 - Malby'!F34 -> 0 | BB99: ='05 - Malby'!F35 -> 0 | BC99: ='05 - Malby'!F36 -> 0 | BD99: ='05 - Malby'!F37 -> 0 | BT99: 1 | BV99: IMPORT | BW99: {44ec1581-7c8b-49d4-8dee-683f6e7d2a17} | BX99: {9858fc5f-f50c-4ff9-9ad9-9b7ad302b99e} | CM99: 2
A100: / | D100: 06 | J100: Dlažba | AG100: ='06 - Dlažba'!J30 -> 0 | AN100: =SUM(AG100,AT100) -> 0 | AQ100: STA | AS100: 0 | AT100: =ROUND(SUM(AV100:AW100),2) -> 0 | AU100: ='06 - Dlažba'!P128 -> 0 | AV100: ='06 - Dlažba'!J33 -> 0 | AW100: ='06 - Dlažba'!J34 -> 0 | AX100: ='06 - Dlažba'!J35 -> 0 | AY100: ='06 - Dlažba'!J36 -> 0 | AZ100: ='06 - Dlažba'!F33 -> 0 | BA100: ='06 - Dlažba'!F34 -> 0 | BB100: ='06 - Dlažba'!F35 -> 0 | BC100: ='06 - Dlažba'!F36 -> 0 | BD100: ='06 - Dlažba'!F37 -> 0 | BT100: 1 | BV100: IMPORT | BW100: {9a9eaa77-47a2-426d-938e-cb8ed0fd40f5} | BX100: {9858fc5f-f50c-4ff9-9ad9-9b7ad302b99e} | CM100: 2
A101: / | D101: 07 | J101: Terénní úpravy | AG101: ='07 - Terénní úpravy'!J30 -> 0 | AN101: =SUM(AG101,AT101) -> 0 | AQ101: STA | AS101: 0 | AT101: =ROUND(SUM(AV101:AW101),2) -> 0 | AU101: ='07 - Terénní úpravy'!P128 -> 0 | AV101: ='07 - Terénní úpravy'!J33 -> 0 | AW101: ='07 - Terénní úpravy'!J34 -> 0 | AX101: ='07 - Terénní úpravy'!J35 -> 0 | AY101: ='07 - Terénní úpravy'!J36 -> 0 | AZ101: ='07 - Terénní úpravy'!F33 -> 0 | BA101: ='07 - Terénní úpravy'!F34 -> 0 | BB101: ='07 - Terénní úpravy'!F35 -> 0 | BC101: ='07 - Terénní úpravy'!F36 -> 0 | BD101: ='07 - Terénní úpravy'!F37 -> 0 | BT101: 1 | BV101: IMPORT | BW101: {5ca15ea1-34a7-46fa-bd66-6d78e6668e20} | BX101: {9858fc5f-f50c-4ff9-9ad9-9b7ad302b99e} | CM101: 2

Sheet 01 - Výměna krovu a střeš...
L2: >> skryté sloupce << | AT2: {7333c7ff-391e-4950-8393-3cea0f48d193}
AT3: 2
D4: KRYCÍ LIST SOUPISU PRACÍ | M4: v --- níže se nacházejí doplnkové a pomocné údaje k sestavám --- v | AT4: False
D6: Stavba:
E7: ='Rekapitulace stavby'!K6 -> KAPLE SV VÁCLAVA VONOKLASY Na Návsi, Vonoklasy
D8: Objekt:
E9: 01 - Výměna krovu a střešní krytiny
D11: KSO: | I11: CC-CZ:
D12: Místo: | F12: Vonoklasy | I12: Datum: | J12: ='Rekapitulace stavby'!AN8 -> 20. 8. 2025
D14: Zadavatel: | I14: IČ: | J14: =IF('Rekapitulace stavby'!AN10="","",'Rekapitulace stavby'!AN10)
E15: =IF('Rekapitulace stavby'!E11="","",'Rekapitulace stavby'!E11) | I15: DIČ: | J15: =IF('Rekapitulace stavby'!AN11="","",'Rekapitulace stavby'!AN11)
D17: Uchazeč: | I17: IČ: | J17: ='Rekapitulace stavby'!AN13 -> Vyplň údaj
E18: ='Rekapitulace stavby'!E14 -> Vyplň údaj | I18: DIČ: | J18: ='Rekapitulace stavby'!AN14 -> Vyplň údaj
D20: Projektant: | I20: IČ:
E21: Ing.arch.Ester Miluničová | I21: DIČ:
D23: Zpracovatel: | I23: IČ:
E24: Hana Pejšová | I24: DIČ:
D26: Poznámka:
D30: Cena bez DPH | J30: =ROUND(J131, 2) -> 0
F32: Základ daně | I32: Sazba daně | J32: Výše daně
D33: DPH | E33: základní | F33: =ROUND((SUM(BE131:BE288)), 2) -> 0 | I33: 0.21 | J33: =ROUND(((SUM(BE131:BE288))*I33), 2) -> 0
E34: snížená | F34: =ROUND((SUM(BF131:BF288)), 2) -> 0 | I34: 0.12 | J34: =ROUND(((SUM(BF131:BF288))*I34), 2) -> 0
E35: zákl. přenesená | F35: =ROUND((SUM(BG131:BG288)), 2) -> 0 | I35: 0.21 | J35: =0 -> 0
E36: sníž. přenesená | F36: =ROUND((SUM(BH131:BH288)), 2) -> 0 | I36: 0.12 | J36: =0 -> 0
E37: nulová | F37: =ROUND((SUM(BI131:BI288)), 2) -> 0 | I37: 0 | J37: =0 -> 0
D39: Cena s DPH | G39: v | H39: CZK | J39: =SUM(J30:J37) -> 0
D50: Projektant | G50: Zpracovatel
D61: Datum a podpis: | F61: Razítko | G61: Datum a podpis: | J61: Razítko
D65: Objednavatel | G65: Uchazeč
D76: Datum a podpis: | F76: Razítko | G76: Datum a podpis: | J76: Razítko
C82: REKAPITULACE ČLENĚNÍ SOUPISU PRACÍ
C84: Stavba:
E85: =E7 -> KAPLE SV VÁCLAVA VONOKLASY Na Návsi, Vonoklasy
C86: Objekt:
E87: =E9 -> 01 - Výměna krovu a střešní krytiny
C89: Místo: | F89: =F12 -> Vonoklasy | I89: Datum: | J89: =IF(J12="","",J12) -> 20. 8. 2025
C91: Zadavatel: | F91: =E15 | I91: Projektant: | J91: =E21 -> Ing.arch.Ester Miluničová
C92: Uchazeč: | F92: =IF(E18="","",E18) -> Vyplň údaj | I92: Zpracovatel: | J92: =E24 -> Hana Pejšová
C94: Kód dílu - Popis | J94: Cena celkem [CZK]
C96: Náklady ze soupisu prací | J96: =J131 -> 0 | AU96: -1
D97: HSV - Práce a dodávky HSV | J97: =J132 -> 0
D98: 4 - Vodorovné konstrukce | J98: =J133 -> 0
D99: 9 - Ostatní konstrukce a práce, bourání | J99: =J144 -> 0
D100: 997 - Přesun sutě | J100: =J156 -> 0
D101: 998 - Přesun hmot | J101: =J165 -> 0
D102: PSV - Práce a dodávky PSV | J102: =J167 -> 0
D103: 762 - Konstrukce tesařské | J103: =J168 -> 0
D104: 764 - Konstrukce klempířské | J104: =J229 -> 0
D105: 765 - Krytina skládaná | J105: =J243 -> 0
D106: 783 - Dokončovací práce - nátěry | J106: =J271 -> 0
D107: VRN - Vedlejší rozpočtové náklady | J107: =J280 -> 0
D108: VRN3 - Zařízení staveniště | J108: =J281 -> 0
D109: VRN4 - Inženýrská činnost | J109: =J283 -> 0
D110: VRN6 - Územní vlivy | J110: =J285 -> 0
D111: VRN9 - Ostatní náklady | J111: =J287 -> 0
C118: SOUPIS PRACÍ
C120: Stavba:
E121: =E7 -> KAPLE SV VÁCLAVA VONOKLASY Na Návsi, Vonoklasy
C122: Objekt:
E123: =E9 -> 01 - Výměna krovu a střešní krytiny
C125: Místo: | F125: =F12 -> Vonoklasy | I125: Datum: | J125: =IF(J12="","",J12) -> 20. 8. 2025
C127: Zadavatel: | F127: =E15 | I127: Projektant: | J127: =E21 -> Ing.arch.Ester Miluničová
C128: Uchazeč: | F128: =IF(E18="","",E18) -> Vyplň údaj | I128: Zpracovatel: | J128: =E24 -> Hana Pejšová
C130: PČ | D130: Typ | E130: Kód | F130: Popis | G130: MJ | H130: Množství | I130: J.cena [CZK] | J130: Cena celkem [CZK] | K130: Cenová soustava | N130: DPH | O130: J. Nh [h] | P130: Nh celkem [h] | Q130: J. hmotnost [t] | R130: Hmotnost celkem [t] | S130: J. suť [t] | T130: Suť Celkem [t]
C131: Náklady soupisu celkem | J131: =BK131 -> 0 | P131: =P132+P167+P280 -> 0 | R131: =R132+R167+R280 -> 57.199371 | T131: =T132+T167+T280 -> 7.7161385 | AT131: D | AU131: -1 | BK131: =BK132+BK167+BK280 -> 0
D132: D | E132: HSV | F132: Práce a dodávky HSV | J132: =BK132 -> 0 | P132: =P133+P144+P156+P165 -> 0 | R132: =R133+R144+R156+R165 -> 7.0258165 | T132: =T133+T144+T156+T165 -> 0.576 | AR132: 1 | AT132: D | AU132: 0 | AY132: ROZPOCET | BK132: =BK133+BK144+BK156+BK165 -> 0
D133: D | E133: 4 | F133: Vodorovné konstrukce | J133: =BK133 -> 0 | P133: =SUM(P134:P143) -> 0 | R133: =SUM(R134:R143) -> 7.0258165 | T133: =SUM(T134:T143) -> 0 | AR133: 1 | AT133: D | AU133: 1 | AY133: ROZPOCET | BK133: =SUM(BK134:BK143) -> 0
C134: 1 | D134: K | E134: 417321616 | F134: Věnce ze ŽB tř. C 30/37 | G134: m3 | H134: 2.677 | J134: =ROUND(I134*H134,2) -> 0 | N134: základní | P134: =O134*H134 -> 0 | Q134: 2.50198 | R134: =Q134*H134 -> 6.6978005 | S134: 0 | T134: =S134*H134 -> 0 | AR134: 4 | AT134: K | AU134: 2 | AY134: ROZPOCET | BE134: =IF(N134="základní",J134,0) -> 0 | BF134: =IF(N134="snížená",J134,0) -> 0 | BG134: =IF(N134="zákl. přenesená",J134,0) -> 0 | BH134: =IF(N134="sníž. přenesená",J134,0) -> 0 | BI134: =IF(N134="nulová",J134,0) -> 0 | BJ134: 1 | BK134: =ROUND(I134*H134,2) -> 0 | BL134: 4 | BM134: -1127954369
D135: VV | F135: 0,2*0,52*3,865 | H135: 0.402 | AT135: VV | AU135: 2 | AV135: 2 | AW135: True | AX135: 0 | AY135: ROZPOCET
D136: VV | F136: 0,2*(0,735+0,695)*(5,855+0,405) | H136: 1.79 | AT136: VV | AU136: 2 | AV136: 2 | AW136: True | AX136: 0 | AY136: ROZPOCET
D137: VV | F137: 0,2*0,735*3,3 | H137: 0.485 | AT137: VV | AU137: 2 | AV137: 2 | AW137: True | AX137: 0 | AY137: ROZPOCET
D138: VV | F138: Součet | H138: 2.677 | AT138: VV | AU138: 2 | AV138: 4 | AW138: True | AX138: 1 | AY138: ROZPOCET
C139: 2 | D139: K | E139: 417351115 | F139: Zřízení bednění ztužujících věnců | G139: m2 | H139: 7.874 | J139: =ROUND(I139*H139,2) -> 0 | N139: základní | P139: =O139*H139 -> 0 | Q139: 0.01117 | R139: =Q139*H139 -> 0.08795258 | S139: 0 | T139: =S139*H139 -> 0 | AR139: 4 | AT139: K | AU139: 2 | AY139: ROZPOCET | BE139: =IF(N139="základní",J139,0) -> 0 | BF139: =IF(N139="snížená",J139,0) -> 0 | BG139: =IF(N139="zákl. přenesená",J139,0) -> 0 | BH139: =IF(N139="sníž. přenesená",J139,0) -> 0 | BI139: =IF(N139="nulová",J139,0) -> 0 | BJ139: 1 | BK139: =ROUND(I139*H139,2) -> 0 | BL139: 4 | BM139: -2076167029
D140: VV | F140: 0,2*2*(3,865+5,855*2+0,405*2+3,3) | H140: 7.874 | AT140: VV | AU140: 2 | AV140: 2 | AW140: True | AX140: 1 | AY140: ROZPOCET
C141: 3 | D141: K | E141: 417351116 | F141: Odstranění bednění ztužujících věnců | G141: m2 | H141: 7.874 | J141: =ROUND(I141*H141,2) -> 0 | N141: základní | P141: =O141*H141 -> 0 | Q141: 0 | R141: =Q141*H141 -> 0 | S141: 0 | T141: =S141*H141 -> 0 | AR141: 4 | AT141: K | AU141: 2 | AY141: ROZPOCET | BE141: =IF(N141="základní",J141,0) -> 0 | BF141: =IF(N141="snížená",J141,0) -> 0 | BG141: =IF(N141="zákl. přenesená",J141,0) -> 0 | BH141: =IF(N141="sníž. přenesená",J141,0) -> 0 | BI141: =IF(N141="nulová",J141,0) -> 0 | BJ141: 1 | BK141: =ROUND(I141*H141,2) -> 0 | BL141: 4 | BM141: -741949401
C142: 4 | D142: K | E142: 417361821 | F142: Výztuž věnců betonářskou ocelí 10 505 | G142: t | H142: 0.228 | J142: =ROUND(I142*H142,2) -> 0 | N142: základní | P142: =O142*H142 -> 0 | Q142: 1.05291 | R142: =Q142*H142 -> 0.24006348 | S142: 0 | T142: =S142*H142 -> 0 | AR142: 4 | AT142: K | AU142: 2 | AY142: ROZPOCET | BE142: =IF(N142="základní",J142,0) -> 0 | BF142: =IF(N142="snížená",J142,0) -> 0 | BG142: =IF(N142="zákl. přenesená",J142,0) -> 0 | BH142: =IF(N142="sníž. přenesená",J142,0) -> 0 | BI142: =IF(N142="nulová",J142,0) -> 0 | BJ142: 1 | BK142: =ROUND(I142*H142,2) -> 0 | BL142: 4 | BM142: -526119776
D143: VV | F143: 2,677*0,085 | H143: 0.228 | AT143: VV | AU143: 2 | AV143: 2 | AW143: True | AX143: 1 | AY143: ROZPOCET
D144: D | E144: 9 | F144: Ostatní konstrukce a práce, bourání | J144: =BK144 -> 0 | P144: =SUM(P145:P155) -> 0 | R144: =SUM(R145:R155) -> 0 | T144: =SUM(T145:T155) -> 0.576 | AR144: 1 | AT144: D | AU144: 1 | AY144: ROZPOCET | BK144: =SUM(BK145:BK155) -> 0
C145: 5 | D145: K | E145: 941111132 | F145: Montáž lešení řadového trubkového lehkého s podlahami zatížení do 200 kg/m2 š od 1,2 do 1,5 m v přes 10 do 25 m-pro opravu věžičky | G145: m2 | H145: 156.921 | J145: =ROUND(I145*H145,2) -> 0 | N145: základní | P145: =O145*H145 -> 0 | Q145: 0 | R145: =Q145*H145 -> 0 | S145: 0 | T145: =S145*H145 -> 0 | AR145: 4 | AT145: K | AU145: 2 | AY145: ROZPOCET | BE145: =IF(N145="základní",J145,0) -> 0 | BF145: =IF(N145="snížená",J145,0) -> 0 | BG145: =IF(N145="zákl. přenesená",J145,0) -> 0 | BH145: =IF(N145="sníž. přenesená",J145,0) -> 0 | BI145: =IF(N145="nulová",J145,0) -> 0 | BJ145: 1 | BK145: =ROUND(I145*H145,2) -> 0 | BL145: 4 | BM145: 2045450598
D146: VV | F146: (3,545+3+1,425*2+1,5*2)*12,66 | H146: 156.921 | AT146: VV | AU146: 2 | AV146: 2 | AW146: True | AX146: 1 | AY146: ROZPOCET
C147: 6 | D147: K | E147: 941111232 | F147: Příplatek k lešení řadovému trubkovému lehkému s podlahami do 200 kg/m2 š od 1,2 do 1,5 m v přes 10 do 25 m za každý den použití | G147: m2 | H147: 9572.181 | J147: =ROUND(I147*H147,2) -> 0 | N147: základní | P147: =O147*H147 -> 0 | Q147: 0 | R147: =Q147*H147 -> 0 | S147: 0 | T147: =S147*H147 -> 0 | AR147: 4 | AT147: K | AU147: 2 | AY147: ROZPOCET | BE147: =IF(N147="základní",J147,0) -> 0 | BF147: =IF(N147="snížená",J147,0) -> 0 | BG147: =IF(N147="zákl. přenesená",J147,0) -> 0 | BH147: =IF(N147="sníž. přenesená",J147,0) -> 0 | BI147: =IF(N147="nulová",J147,0) -> 0 | BJ147: 1 | BK147: =ROUND(I147*H147,2) -> 0 | BL147: 4 | BM147: 1838941096
D148: VV | F148: 156,921*61 | H148: 9572.181 | AT148: VV | AU148: 2 | AV148: 2 | AW148: True | AX148: 1 | AY148: ROZPOCET
C149: 7 | D149: K | E149: 941111832 | F149: Demontáž lešení řadového trubkového lehkého s podlahami zatížení do 200 kg/m2 š od 1,2 do 1,5 m v přes 10 do 25 m | G149: m2 | H149: 156.921 | J149: =ROUND(I149*H149,2) -> 0 | N149: základní | P149: =O149*H149 -> 0 | Q149: 0 | R149: =Q149*H149 -> 0 | S149: 0 | T149: =S149*H149 -> 0 | AR149: 4 | AT149: K | AU149: 2 | AY149: ROZPOCET | BE149: =IF(N149="základní",J149,0) -> 0 | BF149: =IF(N149="snížená",J149,0) -> 0 | BG149: =IF(N149="zákl. přenesená",J149,0) -> 0 | BH149: =IF(N149="sníž. přenesená",J149,0) -> 0 | BI149: =IF(N149="nulová",J149,0) -> 0 | BJ149: 1 | BK149: =ROUND(I149*H149,2) -> 0 | BL149: 4 | BM149: 661687012
C150: 8 | D150: K | E150: 944511111 | F150: Montáž ochranné sítě z textilie z umělých vláken | G150: m2 | H150: 156.921 | J150: =ROUND(I150*H150,2) -> 0 | N150: základní | P150: =O150*H150 -> 0 | Q150: 0 | R150: =Q150*H150 -> 0 | S150: 0 | T150: =S150*H150 -> 0 | AR150: 4 | AT150: K | AU150: 2 | AY150: ROZPOCET | BE150: =IF(N150="základní",J150,0) -> 0 | BF150: =IF(N150="snížená",J150,0) -> 0 | BG150: =IF(N150="zákl. přenesená",J150,0) -> 0 | BH150: =IF(N150="sníž. přenesená",J150,0) -> 0 | BI150: =IF(N150="nulová",J150,0) -> 0 | BJ150: 1 | BK150: =ROUND(I150*H150,2) -> 0 | BL150: 4 | BM150: 677206791
C151: 9 | D151: K | E151: 944511211 | F151: Příplatek k ochranné síti za každý den použití | G151: m2 | H151: 9572.181 | J151: =ROUND(I151*H151,2) -> 0 | N151: základní | P151: =O151*H151 -> 0 | Q151: 0 | R151: =Q151*H151 -> 0 | S151: 0 | T151: =S151*H151 -> 0 | AR151: 4 | AT151: K | AU151: 2 | AY151: ROZPOCET | BE151: =IF(N151="základní",J151,0) -> 0 | BF151: =IF(N151="snížená",J151,0) -> 0 | BG151: =IF(N151="zákl. přenesená",J151,0) -> 0 | BH151: =IF(N151="sníž. přenesená",J151,0) -> 0 | BI151: =IF(N151="nulová",J151,0) -> 0 | BJ151: 1 | BK151: =ROUND(I151*H151,2) -> 0 | BL151: 4 | BM151: -1644799610
C152: 10 | D152: K | E152: 944511811 | F152: Demontáž ochranné sítě z textilie z umělých vláken | G152: m2 | H152: 156.921 | J152: =ROUND(I152*H152,2) -> 0 | N152: základní | P152: =O152*H152 -> 0 | Q152: 0 | R152: =Q152*H152 -> 0 | S152: 0 | T152: =S152*H152 -> 0 | AR152: 4 | AT152: K | AU152: 2 | AY152: ROZPOCET | BE152: =IF(N152="základní",J152,0) -> 0 | BF152: =IF(N152="snížená",J152,0) -> 0 | BG152: =IF(N152="zákl. přenesená",J152,0) -> 0 | BH152: =IF(N152="sníž. přenesená",J152,0) -> 0 | BI152: =IF(N152="nulová",J152,0) -> 0 | BJ152: 1 | BK152: =ROUND(I152*H152,2) -> 0 | BL152: 4 | BM152: 1881962068
C153: 11 | D153: K | E153: 959 | F153: Dokončující práce související s výměnou krovu akrytiny (např dozdění po odstranění trámů a uložení nových pozednic, apod) | G153: kpl | H153: 1 | J153: =ROUND(I153*H153,2) -> 0 | N153: základní | P153: =O153*H153 -> 0 | Q153: 0 | R153: =Q153*H153 -> 0 | S153: 0 | T153: =S153*H153 -> 0 | AR153: 4 | AT153: K | AU153: 2 | AY153: ROZPOCET | BE153: =IF(N153="základní",J153,0) -> 0 | BF153: =IF(N153="snížená",J153,0) -> 0 | BG153: =IF(N153="zákl. přenesená",J153,0) -> 0 | BH153: =IF(N153="sníž. přenesená",J153,0) -> 0 | BI153: =IF(N153="nulová",J153,0) -> 0 | BJ153: 1 | BK153: =ROUND(I153*H153,2) -> 0 | BL153: 4 | BM153: -1099006856
C154: 12 | D154: K | E154: 964061331 | F154: Uvolnění zhlaví trámů ze zdiva cihelného průřezu zhlaví do 0,05 m2 | G154: kus | H154: 12 | J154: =ROUND(I154*H154,2) -> 0 | N154: základní | P154: =O154*H154 -> 0 | Q154: 0 | R154: =Q154*H154 -> 0 | S154: 0.048 | T154: =S154*H154 -> 0.576 | AR154: 4 | AT154: K | AU154: 2 | AY154: ROZPOCET | BE154: =IF(N154="základní",J154,0) -> 0 | BF154: =IF(N154="snížená",J154,0) -> 0 | BG154: =IF(N154="zákl. přenesená",J154,0) -> 0 | BH154: =IF(N154="sníž. přenesená",J154,0) -> 0 | BI154: =IF(N154="nulová",J154,0) -> 0 | BJ154: 1 | BK154: =ROUND(I154*H154,2) -> 0 | BL154: 4 | BM154: -240870457
D155: VV | F155: 6*2 | H155: 12 | AT155: VV | AU155: 2 | AV155: 2 | AW155: True | AX155: 1 | AY155: ROZPOCET
D156: D | E156: 997 | F156: Přesun sutě | J156: =BK156 -> 0 | P156: =SUM(P157:P164) -> 0 | R156: =SUM(R157:R164) -> 0 | T156: =SUM(T157:T164) -> 0 | AR156: 1 | AT156: D | AU156: 1 | AY156: ROZPOCET | BK156: =SUM(BK157:BK164) -> 0
C157: 13 | D157: K | E157: 997013214 | F157: Vnitrostaveništní doprava suti a vybouraných hmot pro budovy v přes 12 do 15 m ručně | G157: t | H157: 7.716 | J157: =ROUND(I157*H157,2) -> 0 | N157: základní | P157: =O157*H157 -> 0 | Q157: 0 | R157: =Q157*H157 -> 0 | S157: 0 | T157: =S157*H157 -> 0 | AR157: 4 | AT157: K | AU157: 2 | AY157: ROZPOCET | BE157: =IF(N157="základní",J157,0) -> 0 | BF157: =IF(N157="snížená",J157,0) -> 0 | BG157: =IF(N157="zákl. přenesená",J157,0) -> 0 | BH157: =IF(N157="sníž. přenesená",J157,0) -> 0 | BI157: =IF(N157="nulová",J157,0) -> 0 | BJ157: 1 | BK157: =ROUND(I157*H157,2) -> 0 | BL157: 4 | BM157: 1077915609
C158: 14 | D158: K | E158: 997013509 | F158: Příplatek k odvozu suti a vybouraných hmot na skládku ZKD 1 km přes 1 km | G158: t | H158: 128.534 | J158: =ROUND(I158*H158,2) -> 0 | N158: základní | P158: =O158*H158 -> 0 | Q158: 0 | R158: =Q158*H158 -> 0 | S158: 0 | T158: =S158*H158 -> 0 | AR158: 4 | AT158: K | AU158: 2 | AY158: ROZPOCET | BE158: =IF(N158="základní",J158,0) -> 0 | BF158: =IF(N158="snížená",J158,0) -> 0 | BG158: =IF(N158="zákl. přenesená",J158,0) -> 0 | BH158: =IF(N158="sníž. přenesená",J158,0) -> 0 | BI158: =IF(N158="nulová",J158,0) -> 0 | BJ158: 1 | BK158: =ROUND(I158*H158,2) -> 0 | BL158: 4 | BM158: 192656137
D159: VV | F159: 14*9,181 | H159: 128.534 | AT159: VV | AU159: 2 | AV159: 2 | AW159: True | AX159: 1 | AY159: ROZPOCET
C160: 15 | D160: K | E160: 997013511 | F160: Odvoz suti a vybouraných hmot z meziskládky na skládku do 1 km s naložením a se složením | G160: t | H160: 7.716 | J160: =ROUND(I160*H160,2) -> 0 | N160: základní | P160: =O160*H160 -> 0 | Q160: 0 | R160: =Q160*H160 -> 0 | S160: 0 | T160: =S160*H160 -> 0 | AR160: 4 | AT160: K | AU160: 2 | AY160: ROZPOCET | BE160: =IF(N160="základní",J160,0) -> 0 | BF160: =IF(N160="snížená",J160,0) -> 0 | BG160: =IF(N160="zákl. přenesená",J160,0) -> 0 | BH160: =IF(N160="sníž. přenesená",J160,0) -> 0 | BI160: =IF(N160="nulová",J160,0) -> 0 | BJ160: 1 | BK160: =ROUND(I160*H160,2) -> 0 | BL160: 4 | BM160: 836499539
C161: 16 | D161: K | E161: 997013607 | F161: Poplatek za uložení na skládce (skládkovné) stavebního odpadu keramického kód odpadu 17 01 03 | G161: t | H161: 4.517 | J161: =ROUND(I161*H161,2) -> 0 | N161: základní | P161: =O161*H161 -> 0 | Q161: 0 | R161: =Q161*H161 -> 0 | S161: 0 | T161: =S161*H161 -> 0 | AR161: 4 | AT161: K | AU161: 2 | AY161: ROZPOCET | BE161: =IF(N161="základní",J161,0) -> 0 | BF161: =IF(N161="snížená",J161,0) -> 0 | BG161: =IF(N161="zákl. přenesená",J161,0) -> 0 | BH161: =IF(N161="sníž. přenesená",J161,0) -> 0 | BI161: =IF(N161="nulová",J161,0) -> 0 | BJ161: 1 | BK161: =ROUND(I161*H161,2) -> 0 | BL161: 4 | BM161: 897610005
C162: 17 | D162: K | E162: 997013631 | F162: Poplatek za uložení na skládce (skládkovné) stavebního odpadu směsného kód odpadu 17 09 04 | G162: t | H162: 0.653 | J162: =ROUND(I162*H162,2) -> 0 | N162: základní | P162: =O162*H162 -> 0 | Q162: 0 | R162: =Q162*H162 -> 0 | S162: 0 | T162: =S162*H162 -> 0 | AR162: 4 | AT162: K | AU162: 2 | AY162: ROZPOCET | BE162: =IF(N162="základní",J162,0) -> 0 | BF162: =IF(N162="snížená",J162,0) -> 0 | BG162: =IF(N162="zákl. přenesená",J162,0) -> 0 | BH162: =IF(N162="sníž. přenesená",J162,0) -> 0 | BI162: =IF(N162="nulová",J162,0) -> 0 | BJ162: 1 | BK162: =ROUND(I162*H162,2) -> 0 | BL162: 4 | BM162: -1362957354
D163: VV | F163: 9,181-4,011-4,517 | H163: 0.653 | AT163: VV | AU163: 2 | AV163: 2 | AW163: True | AX163: 1 | AY163: ROZPOCET
C164: 18 | D164: K | E164: 997013811 | F164: Poplatek za uložení na skládce (skládkovné) stavebního odpadu dřevěného kód odpadu 17 02 01 | G164: t | H164: 4.011 | J164: =ROUND(I164*H164,2) -> 0 | N164: základní | P164: =O164*H164 -> 0 | Q164: 0 | R164: =Q164*H164 -> 0 | S164: 0 | T164: =S164*H164 -> 0 | AR164: 4 | AT164: K | AU164: 2 | AY164: ROZPOCET | BE164: =IF(N164="základní",J164,0) -> 0 | BF164: =IF(N164="snížená",J164,0) -> 0 | BG164: =IF(N164="zákl. přenesená",J164,0) -> 0 | BH164: =IF(N164="sníž. přenesená",J164,0) -> 0 | BI164: =IF(N164="nulová",J164,0) -> 0 | BJ164: 1 | BK164: =ROUND(I164*H164,2) -> 0 | BL164: 4 | BM164: -1928994113
D165: D | E165: 998 | F165: Přesun hmot | J165: =BK165 -> 0 | P165: =P166 -> 0 | R165: =R166 -> 0 | T165: =T166 -> 0 | AR165: 1 | AT165: D | AU165: 1 | AY165: ROZPOCET | BK165: =BK166 -> 0
C166: 19 | D166: K | E166: 998018002 | F166: Přesun hmot pro budovy ruční pro budovy v přes 6 do 12 m | G166: t | H166: 7.026 | J166: =ROUND(I166*H166,2) -> 0 | N166: základní | P166: =O166*H166 -> 0 | Q166: 0 | R166: =Q166*H166 -> 0 | S166: 0 | T166: =S166*H166 -> 0 | AR166: 4 | AT166: K | AU166: 2 | AY166: ROZPOCET | BE166: =IF(N166="základní",J166,0) -> 0 | BF166: =IF(N166="snížená",J166,0) -> 0 | BG166: =IF(N166="zákl. přenesená",J166,0) -> 0 | BH166: =IF(N166="sníž. přenesená",J166,0) -> 0 | BI166: =IF(N166="nulová",J166,0) -> 0 | BJ166: 1 | BK166: =ROUND(I166*H166,2) -> 0 | BL166: 4 | BM166: 1721879073
...

Sheet 02 - Oprava fasády
L2: >> skryté sloupce << | AT2: {4ede8f5e-a675-48fd-850d-09477d01986f}
AT3: 2
D4: KRYCÍ LIST SOUPISU PRACÍ | M4: v --- níže se nacházejí doplnkové a pomocné údaje k sestavám --- v | AT4: False
D6: Stavba:
E7: ='Rekapitulace stavby'!K6 -> KAPLE SV VÁCLAVA VONOKLASY Na Návsi, Vonoklasy
D8: Objekt:
E9: 02 - Oprava fasády
D11: KSO: | I11: CC-CZ:
D12: Místo: | F12: Vonoklasy | I12: Datum: | J12: ='Rekapitulace stavby'!AN8 -> 20. 8. 2025
D14: Zadavatel: | I14: IČ: | J14: =IF('Rekapitulace stavby'!AN10="","",'Rekapitulace stavby'!AN10)
E15: =IF('Rekapitulace stavby'!E11="","",'Rekapitulace stavby'!E11) | I15: DIČ: | J15: =IF('Rekapitulace stavby'!AN11="","",'Rekapitulace stavby'!AN11)
D17: Uchazeč: | I17: IČ: | J17: ='Rekapitulace stavby'!AN13 -> Vyplň údaj
E18: ='Rekapitulace stavby'!E14 -> Vyplň údaj | I18: DIČ: | J18: ='Rekapitulace stavby'!AN14 -> Vyplň údaj
D20: Projektant: | I20: IČ:
E21: Ing.arch.Ester Miluničová | I21: DIČ:
D23: Zpracovatel: | I23: IČ:
E24: Hana Pejšová | I24: DIČ:
D26: Poznámka:
D30: Cena bez DPH | J30: =ROUND(J128, 2) -> 0
F32: Základ daně | I32: Sazba daně | J32: Výše daně
D33: DPH | E33: základní | F33: =ROUND((SUM(BE128:BE172)), 2) -> 0 | I33: 0.21 | J33: =ROUND(((SUM(BE128:BE172))*I33), 2) -> 0
E34: snížená | F34: =ROUND((SUM(BF128:BF172)), 2) -> 0 | I34: 0.12 | J34: =ROUND(((SUM(BF128:BF172))*I34), 2) -> 0
E35: zákl. přenesená | F35: =ROUND((SUM(BG128:BG172)), 2) -> 0 | I35: 0.21 | J35: =0 -> 0
E36: sníž. přenesená | F36: =ROUND((SUM(BH128:BH172)), 2) -> 0 | I36: 0.12 | J36: =0 -> 0
E37: nulová | F37: =ROUND((SUM(BI128:BI172)), 2) -> 0 | I37: 0 | J37: =0 -> 0
D39: Cena s DPH | G39: v | H39: CZK | J39: =SUM(J30:J37) -> 0
D50: Projektant | G50: Zpracovatel
D61: Datum a podpis: | F61: Razítko | G61: Datum a podpis: | J61: Razítko
D65: Objednavatel | G65: Uchazeč
D76: Datum a podpis: | F76: Razítko | G76: Datum a podpis: | J76: Razítko
C82: REKAPITULACE ČLENĚNÍ SOUPISU PRACÍ
C84: Stavba:
E85: =E7 -> KAPLE SV VÁCLAVA VONOKLASY Na Návsi, Vonoklasy
C86: Objekt:
E87: =E9 -> 02 - Oprava fasády
C89: Místo: | F89: =F12 -> Vonoklasy | I89: Datum: | J89: =IF(J12="","",J12) -> 20. 8. 2025
C91: Zadavatel: | F91: =E15 | I91: Projektant: | J91: =E21 -> Ing.arch.Ester Miluničová
C92: Uchazeč: | F92: =IF(E18="","",E18) -> Vyplň údaj | I92: Zpracovatel: | J92: =E24 -> Hana Pejšová
C94: Kód dílu - Popis | J94: Cena celkem [CZK]
C96: Náklady ze soupisu prací | J96: =J128 -> 0 | AU96: -1
D97: HSV - Práce a dodávky HSV | J97: =J129 -> 0
D98: 6 - Úpravy povrchů, podlahy a osazování výplní | J98: =J130 -> 0
D99: 9 - Ostatní konstrukce a práce, bourání | J99: =J132 -> 0
D100: 997 - Přesun sutě | J100: =J152 -> 0
D101: 998 - Přesun hmot | J101: =J158 -> 0
D102: PSV - Práce a dodávky PSV | J102: =J160 -> 0
D103: 783 - Dokončovací práce - nátěry | J103: =J161 -> 0
D104: VRN - Vedlejší rozpočtové náklady | J104: =J164 -> 0
D105: VRN3 - Zařízení staveniště | J105: =J165 -> 0
D106: VRN4 - Inženýrská činnost | J106: =J167 -> 0
D107: VRN6 - Územní vlivy | J107: =J169 -> 0
D108: VRN9 - Ostatní náklady | J108: =J171 -> 0
C115: SOUPIS PRACÍ
C117: Stavba:
E118: =E7 -> KAPLE SV VÁCLAVA VONOKLASY Na Návsi, Vonoklasy
C119: Objekt:
E120: =E9 -> 02 - Oprava fasády
C122: Místo: | F122: =F12 -> Vonoklasy | I122: Datum: | J122: =IF(J12="","",J12) -> 20. 8. 2025
C124: Zadavatel: | F124: =E15 | I124: Projektant: | J124: =E21 -> Ing.arch.Ester Miluničová
C125: Uchazeč: | F125: =IF(E18="","",E18) -> Vyplň údaj | I125: Zpracovatel: | J125: =E24 -> Hana Pejšová
C127: PČ | D127: Typ | E127: Kód | F127: Popis | G127: MJ | H127: Množství | I127: J.cena [CZK] | J127: Cena celkem [CZK] | K127: Cenová soustava | N127: DPH | O127: J. Nh [h] | P127: Nh celkem [h] | Q127: J. hmotnost [t] | R127: Hmotnost celkem [t] | S127: J. suť [t] | T127: Suť Celkem [t]
C128: Náklady soupisu celkem | J128: =BK128 -> 0 | P128: =P129+P160+P164 -> 0 | R128: =R129+R160+R164 -> 3.4814595 | T128: =T129+T160+T164 -> 12.043968 | AT128: D | AU128: -1 | BK128: =BK129+BK160+BK164 -> 0
D129: D | E129: HSV | F129: Práce a dodávky HSV | J129: =BK129 -> 0 | P129: =P130+P132+P152+P158 -> 0 | R129: =R130+R132+R152+R158 -> 3.3026818 | T129: =T130+T132+T152+T158 -> 12.043968 | AR129: 1 | AT129: D | AU129: 0 | AY129: ROZPOCET | BK129: =BK130+BK132+BK152+BK158 -> 0
D130: D | E130: 6 | F130: Úpravy povrchů, podlahy a osazování výplní | J130: =BK130 -> 0 | P130: =P131 -> 0 | R130: =R131 -> 3.3026818 | T130: =T131 -> 0 | AR130: 1 | AT130: D | AU130: 1 | AY130: ROZPOCET | BK130: =BK131 -> 0
C131: 1 | D131: K | E131: 622326452 | F131: Oprava vnější vápenocementové omítky s celoplošným přeštukováním členitosti 3 v rozsahu přes 10 do 20 % | G131: m2 | H131: 188.187 | J131: =ROUND(I131*H131,2) -> 0 | N131: základní | P131: =O131*H131 -> 0 | Q131: 0.01755 | R131: =Q131*H131 -> 3.3026818 | S131: 0 | T131: =S131*H131 -> 0 | AR131: 4 | AT131: K | AU131: 2 | AY131: ROZPOCET | BE131: =IF(N131="základní",J131,0) -> 0 | BF131: =IF(N131="snížená",J131,0) -> 0 | BG131: =IF(N131="zákl. přenesená",J131,0) -> 0 | BH131: =IF(N131="sníž. přenesená",J131,0) -> 0 | BI131: =IF(N131="nulová",J131,0) -> 0 | BJ131: 1 | BK131: =ROUND(I131*H131,2) -> 0 | BL131: 4 | BM131: 1385840286
D132: D | E132: 9 | F132: Ostatní konstrukce a práce, bourání | J132: =BK132 -> 0 | P132: =SUM(P133:P151) -> 0 | R132: =SUM(R133:R151) -> 0 | T132: =SUM(T133:T151) -> 12.043968 | AR132: 1 | AT132: D | AU132: 1 | AY132: ROZPOCET | BK132: =SUM(BK133:BK151) -> 0
C133: 2 | D133: K | E133: 941111132 | F133: Montáž lešení řadového trubkového lehkého s podlahami zatížení do 200 kg/m2 š od 1,2 do 1,5 m v přes 10 do 25 m-pro opravu věžičky | G133: m2 | H133: 284.515 | J133: =ROUND(I133*H133,2) -> 0 | N133: základní | P133: =O133*H133 -> 0 | Q133: 0 | R133: =Q133*H133 -> 0 | S133: 0 | T133: =S133*H133 -> 0 | AR133: 4 | AT133: K | AU133: 2 | AY133: ROZPOCET | BE133: =IF(N133="základní",J133,0) -> 0 | BF133: =IF(N133="snížená",J133,0) -> 0 | BG133: =IF(N133="zákl. přenesená",J133,0) -> 0 | BH133: =IF(N133="sníž. přenesená",J133,0) -> 0 | BI133: =IF(N133="nulová",J133,0) -> 0 | BJ133: 1 | BK133: =ROUND(I133*H133,2) -> 0 | BL133: 4 | BM133: 1082660220
D134: VV | F134: (9,195+1,5*2)*5,715*2 | H134: 139.389 | AT134: VV | AU134: 2 | AV134: 2 | AW134: True | AX134: 0 | AY134: ROZPOCET
D135: VV | F135: (4,665+1,5*2)*4,93 | H135: 37.788 | AT135: VV | AU135: 2 | AV135: 2 | AW135: True | AX135: 0 | AY135: ROZPOCET
D136: VV | F136: (4,665+1,5*2)*6,599 | H136: 50.581 | AT136: VV | AU136: 2 | AV136: 2 | AW136: True | AX136: 0 | AY136: ROZPOCET
D137: VV | F137: 4,899*(1,697+1,6)*3+1,77*(1,69+1,5*2) | H137: 56.757 | AT137: VV | AU137: 2 | AV137: 2 | AW137: True | AX137: 0 | AY137: ROZPOCET
D138: VV | F138: Součet | H138: 284.515 | AT138: VV | AU138: 2 | AV138: 4 | AW138: True | AX138: 1 | AY138: ROZPOCET
C139: 3 | D139: K | E139: 941111232 | F139: Příplatek k lešení řadovému trubkovému lehkému s podlahami do 200 kg/m2 š od 1,2 do 1,5 m v přes 10 do 25 m za každý den použití | G139: m2 | H139: 26267.38 | J139: =ROUND(I139*H139,2) -> 0 | N139: základní | P139: =O139*H139 -> 0 | Q139: 0 | R139: =Q139*H139 -> 0 | S139: 0 | T139: =S139*H139 -> 0 | AR139: 4 | AT139: K | AU139: 2 | AY139: ROZPOCET | BE139: =IF(N139="základní",J139,0) -> 0 | BF139: =IF(N139="snížená",J139,0) -> 0 | BG139: =IF(N139="zákl. přenesená",J139,0) -> 0 | BH139: =IF(N139="sníž. přenesená",J139,0) -> 0 | BI139: =IF(N139="nulová",J139,0) -> 0 | BJ139: 1 | BK139: =ROUND(I139*H139,2) -> 0 | BL139: 4 | BM139: 1006981578
D140: VV | F140: 285,515*92 | H140: 26267.38 | AT140: VV | AU140: 2 | AV140: 2 | AW140: True | AX140: 1 | AY140: ROZPOCET
C141: 4 | D141: K | E141: 941111832 | F141: Demontáž lešení řadového trubkového lehkého s podlahami zatížení do 200 kg/m2 š od 1,2 do 1,5 m v přes 10 do 25 m | G141: m2 | H141: 284.515 | J141: =ROUND(I141*H141,2) -> 0 | N141: základní | P141: =O141*H141 -> 0 | Q141: 0 | R141: =Q141*H141 -> 0 | S141: 0 | T141: =S141*H141 -> 0 | AR141: 4 | AT141: K | AU141: 2 | AY141: ROZPOCET | BE141: =IF(N141="základní",J141,0) -> 0 | BF141: =IF(N141="snížená",J141,0) -> 0 | BG141: =IF(N141="zákl. přenesená",J141,0) -> 0 | BH141: =IF(N141="sníž. přenesená",J141,0) -> 0 | BI141: =IF(N141="nulová",J141,0) -> 0 | BJ141: 1 | BK141: =ROUND(I141*H141,2) -> 0 | BL141: 4 | BM141: 937292518
C142: 5 | D142: K | E142: 944511111 | F142: Montáž ochranné sítě z textilie z umělých vláken | G142: m2 | H142: 284.515 | J142: =ROUND(I142*H142,2) -> 0 | N142: základní | P142: =O142*H142 -> 0 | Q142: 0 | R142: =Q142*H142 -> 0 | S142: 0 | T142: =S142*H142 -> 0 | AR142: 4 | AT142: K | AU142: 2 | AY142: ROZPOCET | BE142: =IF(N142="základní",J142,0) -> 0 | BF142: =IF(N142="snížená",J142,0) -> 0 | BG142: =IF(N142="zákl. přenesená",J142,0) -> 0 | BH142: =IF(N142="sníž. přenesená",J142,0) -> 0 | BI142: =IF(N142="nulová",J142,0) -> 0 | BJ142: 1 | BK142: =ROUND(I142*H142,2) -> 0 | BL142: 4 | BM142: -2022905447
C143: 6 | D143: K | E143: 944511211 | F143: Příplatek k ochranné síti za každý den použití | G143: m2 | H143: 26267.38 | J143: =ROUND(I143*H143,2) -> 0 | N143: základní | P143: =O143*H143 -> 0 | Q143: 0 | R143: =Q143*H143 -> 0 | S143: 0 | T143: =S143*H143 -> 0 | AR143: 4 | AT143: K | AU143: 2 | AY143: ROZPOCET | BE143: =IF(N143="základní",J143,0) -> 0 | BF143: =IF(N143="snížená",J143,0) -> 0 | BG143: =IF(N143="zákl. přenesená",J143,0) -> 0 | BH143: =IF(N143="sníž. přenesená",J143,0) -> 0 | BI143: =IF(N143="nulová",J143,0) -> 0 | BJ143: 1 | BK143: =ROUND(I143*H143,2) -> 0 | BL143: 4 | BM143: -1518002756
C144: 7 | D144: K | E144: 944511811 | F144: Demontáž ochranné sítě z textilie z umělých vláken | G144: m2 | H144: 284.515 | J144: =ROUND(I144*H144,2) -> 0 | N144: základní | P144: =O144*H144 -> 0 | Q144: 0 | R144: =Q144*H144 -> 0 | S144: 0 | T144: =S144*H144 -> 0 | AR144: 4 | AT144: K | AU144: 2 | AY144: ROZPOCET | BE144: =IF(N144="základní",J144,0) -> 0 | BF144: =IF(N144="snížená",J144,0) -> 0 | BG144: =IF(N144="zákl. přenesená",J144,0) -> 0 | BH144: =IF(N144="sníž. přenesená",J144,0) -> 0 | BI144: =IF(N144="nulová",J144,0) -> 0 | BJ144: 1 | BK144: =ROUND(I144*H144,2) -> 0 | BL144: 4 | BM144: 2007275238
C145: 8 | D145: K | E145: 978019331 | F145: Otlučení (osekání) vnější vápenné nebo vápenocementové omítky stupně členitosti 3 v rozsahu přes 10 do 20 % | G145: m2 | H145: 188.187 | J145: =ROUND(I145*H145,2) -> 0 | N145: základní | P145: =O145*H145 -> 0 | Q145: 0 | R145: =Q145*H145 -> 0 | S145: 0.014 | T145: =S145*H145 -> 2.634618 | AR145: 4 | AT145: K | AU145: 2 | AY145: ROZPOCET | BE145: =IF(N145="základní",J145,0) -> 0 | BF145: =IF(N145="snížená",J145,0) -> 0 | BG145: =IF(N145="zákl. přenesená",J145,0) -> 0 | BH145: =IF(N145="sníž. přenesená",J145,0) -> 0 | BI145: =IF(N145="nulová",J145,0) -> 0 | BJ145: 1 | BK145: =ROUND(I145*H145,2) -> 0 | BL145: 4 | BM145: -695921163
C146: 9 | D146: K | E146: 978036191 | F146: Odtranění (osekání) novodobého nástřiku omítek vnějších ploch v rozsahu přes 80 do 100 % | G146: m2 | H146: 188.187 | J146: =ROUND(I146*H146,2) -> 0 | N146: základní | P146: =O146*H146 -> 0 | Q146: 0 | R146: =Q146*H146 -> 0 | S146: 0.05 | T146: =S146*H146 -> 9.40935 | AR146: 4 | AT146: K | AU146: 2 | AY146: ROZPOCET | BE146: =IF(N146="základní",J146,0) -> 0 | BF146: =IF(N146="snížená",J146,0) -> 0 | BG146: =IF(N146="zákl. přenesená",J146,0) -> 0 | BH146: =IF(N146="sníž. přenesená",J146,0) -> 0 | BI146: =IF(N146="nulová",J146,0) -> 0 | BJ146: 1 | BK146: =ROUND(I146*H146,2) -> 0 | BL146: 4 | BM146: 852421736
D147: VV | F147: (4,83+6,599)*0,5*9,195*2 | H147: 105.09 | AT147: VV | AU147: 2 | AV147: 2 | AW147: True | AX147: 0 | AY147: ROZPOCET
D148: VV | F148: 5,94*4,665-1,995*1,9+0,745*(1,995+1,9*2)+0,285*3,14*0,7 | H148: 28.863 | AT148: VV | AU148: 2 | AV148: 2 | AW148: True | AX148: 0 | AY148: ROZPOCET
D149: VV | F149: 5,06*4,465-1,22*2,195+0,285*(1,22+2,195) | H149: 20.888 | AT149: VV | AU149: 2 | AV149: 2 | AW149: True | AX149: 0 | AY149: ROZPOCET
D150: VV | F150: 4,899*1,697*3+1,766*1,697+1,6*1,69*0,5*4 | H150: 33.346 | AT150: VV | AU150: 2 | AV150: 2 | AW150: True | AX150: 0 | AY150: ROZPOCET
D151: VV | F151: Součet | H151: 188.187 | AT151: VV | AU151: 2 | AV151: 4 | AW151: True | AX151: 1 | AY151: ROZPOCET
D152: D | E152: 997 | F152: Přesun sutě | J152: =BK152 -> 0 | P152: =SUM(P153:P157) -> 0 | R152: =SUM(R153:R157) -> 0 | T152: =SUM(T153:T157) -> 0 | AR152: 1 | AT152: D | AU152: 1 | AY152: ROZPOCET | BK152: =SUM(BK153:BK157) -> 0
C153: 10 | D153: K | E153: 997013214 | F153: Vnitrostaveništní doprava suti a vybouraných hmot pro budovy v přes 12 do 15 m ručně | G153: t | H153: 12.044 | J153: =ROUND(I153*H153,2) -> 0 | N153: základní | P153: =O153*H153 -> 0 | Q153: 0 | R153: =Q153*H153 -> 0 | S153: 0 | T153: =S153*H153 -> 0 | AR153: 4 | AT153: K | AU153: 2 | AY153: ROZPOCET | BE153: =IF(N153="základní",J153,0) -> 0 | BF153: =IF(N153="snížená",J153,0) -> 0 | BG153: =IF(N153="zákl. přenesená",J153,0) -> 0 | BH153: =IF(N153="sníž. přenesená",J153,0) -> 0 | BI153: =IF(N153="nulová",J153,0) -> 0 | BJ153: 1 | BK153: =ROUND(I153*H153,2) -> 0 | BL153: 4 | BM153: -189855667
C154: 11 | D154: K | E154: 997013509 | F154: Příplatek k odvozu suti a vybouraných hmot na skládku ZKD 1 km přes 1 km | G154: t | H154: 168.616 | J154: =ROUND(I154*H154,2) -> 0 | N154: základní | P154: =O154*H154 -> 0 | Q154: 0 | R154: =Q154*H154 -> 0 | S154: 0 | T154: =S154*H154 -> 0 | AR154: 4 | AT154: K | AU154: 2 | AY154: ROZPOCET | BE154: =IF(N154="základní",J154,0) -> 0 | BF154: =IF(N154="snížená",J154,0) -> 0 | BG154: =IF(N154="zákl. přenesená",J154,0) -> 0 | BH154: =IF(N154="sníž. přenesená",J154,0) -> 0 | BI154: =IF(N154="nulová",J154,0) -> 0 | BJ154: 1 | BK154: =ROUND(I154*H154,2) -> 0 | BL154: 4 | BM154: -531226426
D155: VV | F155: 14*12,044 | H155: 168.616 | AT155: VV | AU155: 2 | AV155: 2 | AW155: True | AX155: 1 | AY155: ROZPOCET
C156: 12 | D156: K | E156: 997013511 | F156: Odvoz suti a vybouraných hmot z meziskládky na skládku do 1 km s naložením a se složením | G156: t | H156: 12.044 | J156: =ROUND(I156*H156,2) -> 0 | N156: základní | P156: =O156*H156 -> 0 | Q156: 0 | R156: =Q156*H156 -> 0 | S156: 0 | T156: =S156*H156 -> 0 | AR156: 4 | AT156: K | AU156: 2 | AY156: ROZPOCET | BE156: =IF(N156="základní",J156,0) -> 0 | BF156: =IF(N156="snížená",J156,0) -> 0 | BG156: =IF(N156="zákl. přenesená",J156,0) -> 0 | BH156: =IF(N156="sníž. přenesená",J156,0) -> 0 | BI156: =IF(N156="nulová",J156,0) -> 0 | BJ156: 1 | BK156: =ROUND(I156*H156,2) -> 0 | BL156: 4 | BM156: 1352191038
C157: 13 | D157: K | E157: 997013631 | F157: Poplatek za uložení na skládce (skládkovné) stavebního odpadu směsného kód odpadu 17 09 04 | G157: t | H157: 12.044 | J157: =ROUND(I157*H157,2) -> 0 | N157: základní | P157: =O157*H157 -> 0 | Q157: 0 | R157: =Q157*H157 -> 0 | S157: 0 | T157: =S157*H157 -> 0 | AR157: 4 | AT157: K | AU157: 2 | AY157: ROZPOCET | BE157: =IF(N157="základní",J157,0) -> 0 | BF157: =IF(N157="snížená",J157,0) -> 0 | BG157: =IF(N157="zákl. přenesená",J157,0) -> 0 | BH157: =IF(N157="sníž. přenesená",J157,0) -> 0 | BI157: =IF(N157="nulová",J157,0) -> 0 | BJ157: 1 | BK157: =ROUND(I157*H157,2) -> 0 | BL157: 4 | BM157: -1774623035
D158: D | E158: 998 | F158: Přesun hmot | J158: =BK158 -> 0 | P158: =P159 -> 0 | R158: =R159 -> 0 | T158: =T159 -> 0 | AR158: 1 | AT158: D | AU158: 1 | AY158: ROZPOCET | BK158: =BK159 -> 0
C159: 14 | D159: K | E159: 998018002 | F159: Přesun hmot pro budovy ruční pro budovy v přes 6 do 12 m | G159: t | H159: 3.303 | J159: =ROUND(I159*H159,2) -> 0 | N159: základní | P159: =O159*H159 -> 0 | Q159: 0 | R159: =Q159*H159 -> 0 | S159: 0 | T159: =S159*H159 -> 0 | AR159: 4 | AT159: K | AU159: 2 | AY159: ROZPOCET | BE159: =IF(N159="základní",J159,0) -> 0 | BF159: =IF(N159="snížená",J159,0) -> 0 | BG159: =IF(N159="zákl. přenesená",J159,0) -> 0 | BH159: =IF(N159="sníž. přenesená",J159,0) -> 0 | BI159: =IF(N159="nulová",J159,0) -> 0 | BJ159: 1 | BK159: =ROUND(I159*H159,2) -> 0 | BL159: 4 | BM159: -1604569967
D160: D | E160: PSV | F160: Práce a dodávky PSV | J160: =BK160 -> 0 | P160: =P161 -> 0 | R160: =R161 -> 0.17877765 | T160: =T161 -> 0 | AR160: 2 | AT160: D | AU160: 0 | AY160: ROZPOCET | BK160: =BK161 -> 0
D161: D | E161: 783 | F161: Dokončovací práce - nátěry | J161: =BK161 -> 0 | P161: =SUM(P162:P163) -> 0 | R161: =SUM(R162:R163) -> 0.17877765 | T161: =SUM(T162:T163) -> 0 | AR161: 2 | AT161: D | AU161: 1 | AY161: ROZPOCET | BK161: =SUM(BK162:BK163) -> 0
C162: 15 | D162: K | E162: 783823163 | F162: Penetrační silikátový nátěr omítek stupně členitosti 3 | G162: m2 | H162: 188.187 | J162: =ROUND(I162*H162,2) -> 0 | N162: základní | P162: =O162*H162 -> 0 | Q162: 0.00012 | R162: =Q162*H162 -> 0.02258244 | S162: 0 | T162: =S162*H162 -> 0 | AR162: 16 | AT162: K | AU162: 2 | AY162: ROZPOCET | BE162: =IF(N162="základní",J162,0) -> 0 | BF162: =IF(N162="snížená",J162,0) -> 0 | BG162: =IF(N162="zákl. přenesená",J162,0) -> 0 | BH162: =IF(N162="sníž. přenesená",J162,0) -> 0 | BI162: =IF(N162="nulová",J162,0) -> 0 | BJ162: 1 | BK162: =ROUND(I162*H162,2) -> 0 | BL162: 16 | BM162: -944634778
C163: 16 | D163: K | E163: 783827443 | F163: Krycí dvojnásobný silikátový nátěr omítek stupně členitosti 3 | G163: m2 | H163: 188.187 | J163: =ROUND(I163*H163,2) -> 0 | N163: základní | P163: =O163*H163 -> 0 | Q163: 0.00083 | R163: =Q163*H163 -> 0.15619521 | S163: 0 | T163: =S163*H163 -> 0 | AR163: 16 | AT163: K | AU163: 2 | AY163: ROZPOCET | BE163: =IF(N163="základní",J163,0) -> 0 | BF163: =IF(N163="snížená",J163,0) -> 0 | BG163: =IF(N163="zákl. přenesená",J163,0) -> 0 | BH163: =IF(N163="sníž. přenesená",J163,0) -> 0 | BI163: =IF(N163="nulová",J163,0) -> 0 | BJ163: 1 | BK163: =ROUND(I163*H163,2) -> 0 | BL163: 16 | BM163: 125067088
D164: D | E164: VRN | F164: Vedlejší rozpočtové náklady | J164: =BK164 -> 0 | P164: =P165+P167+P169+P171 -> 0 | R164: =R165+R167+R169+R171 -> 0 | T164: =T165+T167+T169+T171 -> 0 | AR164: 5 | AT164: D | AU164: 0 | AY164: ROZPOCET | BK164: =BK165+BK167+BK169+BK171 -> 0
D165: D | E165: VRN3 | F165: Zařízení staveniště | J165: =BK165 -> 0 | P165: =P166 -> 0 | R165: =R166 -> 0 | T165: =T166 -> 0 | AR165: 5 | AT165: D | AU165: 1 | AY165: ROZPOCET | BK165: =BK166 -> 0
C166: 17 | D166: K | E166: 030001000 | F166: Zařízení staveniště | G166: kpl | H166: 1 | J166: =ROUND(I166*H166,2) -> 0 | N166: základní | P166: =O166*H166 -> 0 | Q166: 0 | R166: =Q166*H166 -> 0 | S166: 0 | T166: =S166*H166 -> 0 | AR166: 1024 | AT166: K | AU166: 2 | AY166: ROZPOCET | BE166: =IF(N166="základní",J166,0) -> 0 | BF166: =IF(N166="snížená",J166,0) -> 0 | BG166: =IF(N166="zákl. přenesená",J166,0) -> 0 | BH166: =IF(N166="sníž. přenesená",J166,0) -> 0 | BI166: =IF(N166="nulová",J166,0) -> 0 | BJ166: 1 | BK166: =ROUND(I166*H166,2) -> 0 | BL166: 1024 | BM166: -2805700
...

Sheet 03 - Truhlářské konstrukce
L2: >> skryté sloupce << | AT2: {042d4d51-137d-414f-bf69-e23f6cb28589}
AT3: 2
D4: KRYCÍ LIST SOUPISU PRACÍ | M4: v --- níže se nacházejí doplnkové a pomocné údaje k sestavám --- v | AT4: False
D6: Stavba:
E7: ='Rekapitulace stavby'!K6 -> KAPLE SV VÁCLAVA VONOKLASY Na Návsi, Vonoklasy
D8: Objekt:
E9: 03 - Truhlářské konstrukce
D11: KSO: | I11: CC-CZ:
D12: Místo: | F12: Vonoklasy | I12: Datum: | J12: ='Rekapitulace stavby'!AN8 -> 20. 8. 2025
D14: Zadavatel: | I14: IČ: | J14: =IF('Rekapitulace stavby'!AN10="","",'Rekapitulace stavby'!AN10)
E15: =IF('Rekapitulace stavby'!E11="","",'Rekapitulace stavby'!E11) | I15: DIČ: | J15: =IF('Rekapitulace stavby'!AN11="","",'Rekapitulace stavby'!AN11)
D17: Uchazeč: | I17: IČ: | J17: ='Rekapitulace stavby'!AN13 -> Vyplň údaj
E18: ='Rekapitulace stavby'!E14 -> Vyplň údaj | I18: DIČ: | J18: ='Rekapitulace stavby'!AN14 -> Vyplň údaj
D20: Projektant: | I20: IČ:
E21: Ing.arch.Ester Miluničová | I21: DIČ:
D23: Zpracovatel: | I23: IČ:
E24: Hana Pejšová | I24: DIČ:
D26: Poznámka:
D30: Cena bez DPH | J30: =ROUND(J127, 2) -> 0
F32: Základ daně | I32: Sazba daně | J32: Výše daně
D33: DPH | E33: základní | F33: =ROUND((SUM(BE127:BE180)), 2) -> 0 | I33: 0.21 | J33: =ROUND(((SUM(BE127:BE180))*I33), 2) -> 0
E34: snížená | F34: =ROUND((SUM(BF127:BF180)), 2) -> 0 | I34: 0.12 | J34: =ROUND(((SUM(BF127:BF180))*I34), 2) -> 0
E35: zákl. přenesená | F35: =ROUND((SUM(BG127:BG180)), 2) -> 0 | I35: 0.21 | J35: =0 -> 0
E36: sníž. přenesená | F36: =ROUND((SUM(BH127:BH180)), 2) -> 0 | I36: 0.12 | J36: =0 -> 0
E37: nulová | F37: =ROUND((SUM(BI127:BI180)), 2) -> 0 | I37: 0 | J37: =0 -> 0
D39: Cena s DPH | G39: v | H39: CZK | J39: =SUM(J30:J37) -> 0
D50: Projektant | G50: Zpracovatel
D61: Datum a podpis: | F61: Razítko | G61: Datum a podpis: | J61: Razítko
D65: Objednavatel | G65: Uchazeč
D76: Datum a podpis: | F76: Razítko | G76: Datum a podpis: | J76: Razítko
C82: REKAPITULACE ČLENĚNÍ SOUPISU PRACÍ
C84: Stavba:
E85: =E7 -> KAPLE SV VÁCLAVA VONOKLASY Na Návsi, Vonoklasy
C86: Objekt:
E87: =E9 -> 03 - Truhlářské konstrukce
C89: Místo: | F89: =F12 -> Vonoklasy | I89: Datum: | J89: =IF(J12="","",J12) -> 20. 8. 2025
C91: Zadavatel: | F91: =E15 | I91: Projektant: | J91: =E21 -> Ing.arch.Ester Miluničová
C92: Uchazeč: | F92: =IF(E18="","",E18) -> Vyplň údaj | I92: Zpracovatel: | J92: =E24 -> Hana Pejšová
C94: Kód dílu - Popis | J94: Cena celkem [CZK]
C96: Náklady ze soupisu prací | J96: =J127 -> 0 | AU96: -1
D97: HSV - Práce a dodávky HSV | J97: =J128 -> 0
D98: 9 - Ostatní konstrukce a práce, bourání | J98: =J129 -> 0
D99: 997 - Přesun sutě | J99: =J140 -> 0
D100: PSV - Práce a dodávky PSV | J100: =J146 -> 0
D101: 766 - Konstrukce truhlářské dle přiložené tabulky prvků | J101: =J147 -> 0
D102: 783 - Dokončovací práce - nátěry | J102: =J167 -> 0
D103: VRN - Vedlejší rozpočtové náklady | J103: =J172 -> 0
D104: VRN3 - Zařízení staveniště | J104: =J173 -> 0
D105: VRN4 - Inženýrská činnost | J105: =J175 -> 0
D106: VRN6 - Územní vlivy | J106: =J177 -> 0
D107: VRN9 - Ostatní náklady | J107: =J179 -> 0
C114: SOUPIS PRACÍ
C116: Stavba:
E117: =E7 -> KAPLE SV VÁCLAVA VONOKLASY Na Návsi, Vonoklasy
C118: Objekt:
E119: =E9 -> 03 - Truhlářské konstrukce
C121: Místo: | F121: =F12 -> Vonoklasy | I121: Datum: | J121: =IF(J12="","",J12) -> 20. 8. 2025
C123: Zadavatel: | F123: =E15 | I123: Projektant: | J123: =E21 -> Ing.arch.Ester Miluničová
C124: Uchazeč: | F124: =IF(E18="","",E18) -> Vyplň údaj | I124: Zpracovatel: | J124: =E24 -> Hana Pejšová
C126: PČ | D126: Typ | E126: Kód | F126: Popis | G126: MJ | H126: Množství | I126: J.cena [CZK] | J126: Cena celkem [CZK] | K126: Cenová soustava | N126: DPH | O126: J. Nh [h] | P126: Nh celkem [h] | Q126: J. hmotnost [t] | R126: Hmotnost celkem [t] | S126: J. suť [t] | T126: Suť Celkem [t]
C127: Náklady soupisu celkem | J127: =BK127 -> 0 | P127: =P128+P146+P172 -> 0 | R127: =R128+R146+R172 -> 0.672394 | T127: =T128+T146+T172 -> 0.503279 | AT127: D | AU127: -1 | BK127: =BK128+BK146+BK172 -> 0
D128: D | E128: HSV | F128: Práce a dodávky HSV | J128: =BK128 -> 0 | P128: =P129+P140 -> 0 | R128: =R129+R140 -> 0 | T128: =T129+T140 -> 0.503279 | AR128: 1 | AT128: D | AU128: 0 | AY128: ROZPOCET | BK128: =BK129+BK140 -> 0
D129: D | E129: 9 | F129: Ostatní konstrukce a práce, bourání | J129: =BK129 -> 0 | P129: =SUM(P130:P139) -> 0 | R129: =SUM(R130:R139) -> 0 | T129: =SUM(T130:T139) -> 0.503279 | AR129: 1 | AT129: D | AU129: 1 | AY129: ROZPOCET | BK129: =SUM(BK130:BK139) -> 0
C130: 1 | D130: K | E130: 968062244 | F130: Vybourání dřevěných rámů oken jednoduchých včetně křídel pl do 1 m2 | G130: m2 | H130: 3.921 | J130: =ROUND(I130*H130,2) -> 0 | N130: základní | P130: =O130*H130 -> 0 | Q130: 0 | R130: =Q130*H130 -> 0 | S130: 0.041 | T130: =S130*H130 -> 0.160761 | AR130: 4 | AT130: K | AU130: 2 | AY130: ROZPOCET | BE130: =IF(N130="základní",J130,0) -> 0 | BF130: =IF(N130="snížená",J130,0) -> 0 | BG130: =IF(N130="zákl. přenesená",J130,0) -> 0 | BH130: =IF(N130="sníž. přenesená",J130,0) -> 0 | BI130: =IF(N130="nulová",J130,0) -> 0 | BJ130: 1 | BK130: =ROUND(I130*H130,2) -> 0 | BL130: 4 | BM130: -641217272
D131: VV | F131: okno | AT131: VV | AU131: 2 | AV131: 1 | AW131: True | AX131: 0 | AY131: ROZPOCET
D132: VV | F132: 3,14*0,35*0,35 | H132: 0.385 | AT132: VV | AU132: 2 | AV132: 2 | AW132: True | AX132: 0 | AY132: ROZPOCET
D133: VV | F133: žaluzie | AT133: VV | AU133: 2 | AV133: 1 | AW133: True | AX133: 0 | AY133: ROZPOCET
D134: VV | F134: 0,52*1,7*4 | H134: 3.536 | AT134: VV | AU134: 2 | AV134: 2 | AW134: True | AX134: 0 | AY134: ROZPOCET
D135: VV | F135: Součet | H135: 3.921 | AT135: VV | AU135: 2 | AV135: 4 | AW135: True | AX135: 1 | AY135: ROZPOCET
C136: 2 | D136: K | E136: 968062245 | F136: Vybourání dřevěných rámů oken jednoduchých včetně křídel pl do 2 m2 | G136: m2 | H136: 2.618 | J136: =ROUND(I136*H136,2) -> 0 | N136: základní | P136: =O136*H136 -> 0 | Q136: 0 | R136: =Q136*H136 -> 0 | S136: 0.031 | T136: =S136*H136 -> 0.081158 | AR136: 4 | AT136: K | AU136: 2 | AY136: ROZPOCET | BE136: =IF(N136="základní",J136,0) -> 0 | BF136: =IF(N136="snížená",J136,0) -> 0 | BG136: =IF(N136="zákl. přenesená",J136,0) -> 0 | BH136: =IF(N136="sníž. přenesená",J136,0) -> 0 | BI136: =IF(N136="nulová",J136,0) -> 0 | BJ136: 1 | BK136: =ROUND(I136*H136,2) -> 0 | BL136: 4 | BM136: 1519460109
D137: VV | F137: 0,77*1,7*2 | H137: 2.618 | AT137: VV | AU137: 2 | AV137: 2 | AW137: True | AX137: 1 | AY137: ROZPOCET
C138: 3 | D138: K | E138: 968062558 | F138: Vybourání dřevěných vrat pl do 5 m2 vč vyvěšení křídel | G138: m2 | H138: 4.356 | J138: =ROUND(I138*H138,2) -> 0 | N138: základní | P138: =O138*H138 -> 0 | Q138: 0 | R138: =Q138*H138 -> 0 | S138: 0.06 | T138: =S138*H138 -> 0.26136 | AR138: 4 | AT138: K | AU138: 2 | AY138: ROZPOCET | BE138: =IF(N138="základní",J138,0) -> 0 | BF138: =IF(N138="snížená",J138,0) -> 0 | BG138: =IF(N138="zákl. přenesená",J138,0) -> 0 | BH138: =IF(N138="sníž. přenesená",J138,0) -> 0 | BI138: =IF(N138="nulová",J138,0) -> 0 | BJ138: 1 | BK138: =ROUND(I138*H138,2) -> 0 | BL138: 4 | BM138: 691809491
D139: VV | F139: 2,2*1,98 | H139: 4.356 | AT139: VV | AU139: 2 | AV139: 2 | AW139: True | AX139: 1 | AY139: ROZPOCET
D140: D | E140: 997 | F140: Přesun sutě | J140: =BK140 -> 0 | P140: =SUM(P141:P145) -> 0 | R140: =SUM(R141:R145) -> 0 | T140: =SUM(T141:T145) -> 0 | AR140: 1 | AT140: D | AU140: 1 | AY140: ROZPOCET | BK140: =SUM(BK141:BK145) -> 0
C141: 4 | D141: K | E141: 997013214 | F141: Vnitrostaveništní doprava suti a vybouraných hmot pro budovy v přes 12 do 15 m ručně | G141: t | H141: 0.503 | J141: =ROUND(I141*H141,2) -> 0 | N141: základní | P141: =O141*H141 -> 0 | Q141: 0 | R141: =Q141*H141 -> 0 | S141: 0 | T141: =S141*H141 -> 0 | AR141: 4 | AT141: K | AU141: 2 | AY141: ROZPOCET | BE141: =IF(N141="základní",J141,0) -> 0 | BF141: =IF(N141="snížená",J141,0) -> 0 | BG141: =IF(N141="zákl. přenesená",J141,0) -> 0 | BH141: =IF(N141="sníž. přenesená",J141,0) -> 0 | BI141: =IF(N141="nulová",J141,0) -> 0 | BJ141: 1 | BK141: =ROUND(I141*H141,2) -> 0 | BL141: 4 | BM141: 1926614846
C142: 5 | D142: K | E142: 997013509 | F142: Příplatek k odvozu suti a vybouraných hmot na skládku ZKD 1 km přes 1 km | G142: t | H142: 7.042 | J142: =ROUND(I142*H142,2) -> 0 | N142: základní | P142: =O142*H142 -> 0 | Q142: 0 | R142: =Q142*H142 -> 0 | S142: 0 | T142: =S142*H142 -> 0 | AR142: 4 | AT142: K | AU142: 2 | AY142: ROZPOCET | BE142: =IF(N142="základní",J142,0) -> 0 | BF142: =IF(N142="snížená",J142,0) -> 0 | BG142: =IF(N142="zákl. přenesená",J142,0) -> 0 | BH142: =IF(N142="sníž. přenesená",J142,0) -> 0 | BI142: =IF(N142="nulová",J142,0) -> 0 | BJ142: 1 | BK142: =ROUND(I142*H142,2) -> 0 | BL142: 4 | BM142: 1343151320
D143: VV | F143: 14*0,503 | H143: 7.042 | AT143: VV | AU143: 2 | AV143: 2 | AW143: True | AX143: 1 | AY143: ROZPOCET
C144: 6 | D144: K | E144: 997013511 | F144: Odvoz suti a vybouraných hmot z meziskládky na skládku do 1 km s naložením a se složením | G144: t | H144: 0.503 | J144: =ROUND(I144*H144,2) -> 0 | N144: základní | P144: =O144*H144 -> 0 | Q144: 0 | R144: =Q144*H144 -> 0 | S144: 0 | T144: =S144*H144 -> 0 | AR144: 4 | AT144: K | AU144: 2 | AY144: ROZPOCET | BE144: =IF(N144="základní",J144,0) -> 0 | BF144: =IF(N144="snížená",J144,0) -> 0 | BG144: =IF(N144="zákl. přenesená",J144,0) -> 0 | BH144: =IF(N144="sníž. přenesená",J144,0) -> 0 | BI144: =IF(N144="nulová",J144,0) -> 0 | BJ144: 1 | BK144: =ROUND(I144*H144,2) -> 0 | BL144: 4 | BM144: -1432492180
C145: 7 | D145: K | E145: 997013631 | F145: Poplatek za uložení na skládce (skládkovné) stavebního odpadu směsného kód odpadu 17 09 04 | G145: t | H145: 0.503 | J145: =ROUND(I145*H145,2) -> 0 | N145: základní | P145: =O145*H145 -> 0 | Q145: 0 | R145: =Q145*H145 -> 0 | S145: 0 | T145: =S145*H145 -> 0 | AR145: 4 | AT145: K | AU145: 2 | AY145: ROZPOCET | BE145: =IF(N145="základní",J145,0) -> 0 | BF145: =IF(N145="snížená",J145,0) -> 0 | BG145: =IF(N145="zákl. přenesená",J145,0) -> 0 | BH145: =IF(N145="sníž. přenesená",J145,0) -> 0 | BI145: =IF(N145="nulová",J145,0) -> 0 | BJ145: 1 | BK145: =ROUND(I145*H145,2) -> 0 | BL145: 4 | BM145: -1834243250
D146: D | E146: PSV | F146: Práce a dodávky PSV | J146: =BK146 -> 0 | P146: =P147+P167 -> 0 | R146: =R147+R167 -> 0.672394 | T146: =T147+T167 -> 0 | AR146: 2 | AT146: D | AU146: 0 | AY146: ROZPOCET | BK146: =BK147+BK167 -> 0
D147: D | E147: 766 | F147: Konstrukce truhlářské dle přiložené tabulky prvků | J147: =BK147 -> 0 | P147: =SUM(P148:P166) -> 0 | R147: =SUM(R148:R166) -> 0.17251 | T147: =SUM(T148:T166) -> 0 | AR147: 2 | AT147: D | AU147: 1 | AY147: ROZPOCET | BK147: =SUM(BK148:BK166) -> 0
C148: 8 | D148: K | E148: 766621436 | F148: Montáž dřevěných oken obloukových nebo kulatých plochy přes 1 m2 výšky do 2,5 m s rámem do zdiva | G148: m2 | H148: 1 | J148: =ROUND(I148*H148,2) -> 0 | N148: základní | P148: =O148*H148 -> 0 | Q148: 0.00026 | R148: =Q148*H148 -> 0.00026 | S148: 0 | T148: =S148*H148 -> 0 | AR148: 16 | AT148: K | AU148: 2 | AY148: ROZPOCET | BE148: =IF(N148="základní",J148,0) -> 0 | BF148: =IF(N148="snížená",J148,0) -> 0 | BG148: =IF(N148="zákl. přenesená",J148,0) -> 0 | BH148: =IF(N148="sníž. přenesená",J148,0) -> 0 | BI148: =IF(N148="nulová",J148,0) -> 0 | BJ148: 1 | BK148: =ROUND(I148*H148,2) -> 0 | BL148: 16 | BM148: 1684707077
C149: 9 | D149: M | E149: 611R2 | F149: Okno s lomeným obloukem jednoduše zasklené s dekorem dřevěné kompletizované vel 770x1700 mm vč kování dle přiložené tabulky prvků | G149: kus | H149: 2 | J149: =ROUND(I149*H149,2) -> 0 | N149: základní | P149: =O149*H149 -> 0 | Q149: 0.048 | R149: =Q149*H149 -> 0.096 | S149: 0 | T149: =S149*H149 -> 0 | AR149: 32 | AT149: M | AU149: 2 | AY149: ROZPOCET | BE149: =IF(N149="základní",J149,0) -> 0 | BF149: =IF(N149="snížená",J149,0) -> 0 | BG149: =IF(N149="zákl. přenesená",J149,0) -> 0 | BH149: =IF(N149="sníž. přenesená",J149,0) -> 0 | BI149: =IF(N149="nulová",J149,0) -> 0 | BJ149: 1 | BK149: =ROUND(I149*H149,2) -> 0 | BL149: 16 | BM149: -139215413
C150: 10 | D150: K | E150: 766621646 | F150: Montáž dřevěných oken plochy do 1 m2 obloukových nebo kulatých do zdiva | G150: kus | H150: 1 | J150: =ROUND(I150*H150,2) -> 0 | N150: základní | P150: =O150*H150 -> 0 | Q150: 0.00025 | R150: =Q150*H150 -> 0.00025 | S150: 0 | T150: =S150*H150 -> 0 | AR150: 16 | AT150: K | AU150: 2 | AY150: ROZPOCET | BE150: =IF(N150="základní",J150,0) -> 0 | BF150: =IF(N150="snížená",J150,0) -> 0 | BG150: =IF(N150="zákl. přenesená",J150,0) -> 0 | BH150: =IF(N150="sníž. přenesená",J150,0) -> 0 | BI150: =IF(N150="nulová",J150,0) -> 0 | BJ150: 1 | BK150: =ROUND(I150*H150,2) -> 0 | BL150: 16 | BM150: -661570020
C151: 11 | D151: M | E151: 622R1 | F151: Okno kruhové jednoduše zasklené s dekorem dřevěné kompletizované průměru 700 mm vč kování dle přiložené tabulky prvků | G151: kus | H151: 1 | J151: =ROUND(I151*H151,2) -> 0 | N151: základní | P151: =O151*H151 -> 0 | Q151: 0.031 | R151: =Q151*H151 -> 0.031 | S151: 0 | T151: =S151*H151 -> 0 | AR151: 32 | AT151: M | AU151: 2 | AY151: ROZPOCET | BE151: =IF(N151="základní",J151,0) -> 0 | BF151: =IF(N151="snížená",J151,0) -> 0 | BG151: =IF(N151="zákl. přenesená",J151,0) -> 0 | BH151: =IF(N151="sníž. přenesená",J151,0) -> 0 | BI151: =IF(N151="nulová",J151,0) -> 0 | BJ151: 1 | BK151: =ROUND(I151*H151,2) -> 0 | BL151: 16 | BM151: 531700445
C152: 12 | D152: K | E152: 766621R01 | F152: Dřevěná žaluzie na věži vel 520x1700 mm,kompl prov D+M vč povrchové úpravy dle přiložené tabulky prvků | G152: kus | H152: 4 | J152: =ROUND(I152*H152,2) -> 0 | N152: základní | P152: =O152*H152 -> 0 | Q152: 0 | R152: =Q152*H152 -> 0 | S152: 0 | T152: =S152*H152 -> 0 | AR152: 16 | AT152: K | AU152: 2 | AY152: ROZPOCET | BE152: =IF(N152="základní",J152,0) -> 0 | BF152: =IF(N152="snížená",J152,0) -> 0 | BG152: =IF(N152="zákl. přenesená",J152,0) -> 0 | BH152: =IF(N152="sníž. přenesená",J152,0) -> 0 | BI152: =IF(N152="nulová",J152,0) -> 0 | BJ152: 1 | BK152: =ROUND(I152*H152,2) -> 0 | BL152: 16 | BM152: 1063488396
C153: 13 | D153: K | E153: 766698111 | F153: Montáž truhlářských vrat garážových otvíravých do zárubně do 6 m2 | G153: kus | H153: 1 | J153: =ROUND(I153*H153,2) -> 0 | N153: základní | P153: =O153*H153 -> 0 | Q153: 0 | R153: =Q153*H153 -> 0 | S153: 0 | T153: =S153*H153 -> 0 | AR153: 16 | AT153: K | AU153: 2 | AY153: ROZPOCET | BE153: =IF(N153="základní",J153,0) -> 0 | BF153: =IF(N153="snížená",J153,0) -> 0 | BG153: =IF(N153="zákl. přenesená",J153,0) -> 0 | BH153: =IF(N153="sníž. přenesená",J153,0) -> 0 | BI153: =IF(N153="nulová",J153,0) -> 0 | BJ153: 1 | BK153: =ROUND(I153*H153,2) -> 0 | BL153: 16 | BM153: 585807061
C154: 14 | D154: M | E154: 611730R1 | F154: Dřevěná vrata vel 2200x1980 mm vč dřevěné zárubně,prvek kompletizovaný vč povrchové úpravy dle přiložené tabulky prvků | G154: kus | H154: 1 | J154: =ROUND(I154*H154,2) -> 0 | N154: základní | P154: =O154*H154 -> 0 | Q154: 0.045 | R154: =Q154*H154 -> 0.045 | S154: 0 | T154: =S154*H154 -> 0 | AR154: 32 | AT154: M | AU154: 2 | AY154: ROZPOCET | BE154: =IF(N154="základní",J154,0) -> 0 | BF154: =IF(N154="snížená",J154,0) -> 0 | BG154: =IF(N154="zákl. přenesená",J154,0) -> 0 | BH154: =IF(N154="sníž. přenesená",J154,0) -> 0 | BI154: =IF(N154="nulová",J154,0) -> 0 | BJ154: 1 | BK154: =ROUND(I154*H154,2) -> 0 | BL154: 16 | BM154: -1456646658
C155: 15 | D155: K | E155: 766R01 | F155: Výroba náhradních vchodových dveří vel 1200x3300 mm vč montáže a zpětné demontáže | G155: m2 | H155: 3.96 | J155: =ROUND(I155*H155,2) -> 0 | N155: základní | P155: =O155*H155 -> 0 | Q155: 0 | R155: =Q155*H155 -> 0 | S155: 0 | T155: =S155*H155 -> 0 | AR155: 16 | AT155: K | AU155: 2 | AY155: ROZPOCET | BE155: =IF(N155="základní",J155,0) -> 0 | BF155: =IF(N155="snížená",J155,0) -> 0 | BG155: =IF(N155="zákl. přenesená",J155,0) -> 0 | BH155: =IF(N155="sníž. přenesená",J155,0) -> 0 | BI155: =IF(N155="nulová",J155,0) -> 0 | BJ155: 1 | BK155: =ROUND(I155*H155,2) -> 0 | BL155: 16 | BM155: -1034666770
D156: VV | F156: 1,2*3,3 | H156: 3.96 | AT156: VV | AU156: 2 | AV156: 2 | AW156: True | AX156: 1 | AY156: ROZPOCET
C157: 16 | D157: K | E157: 766R02 | F157: Mykologické ošetření vchodových a vnitřních dveří dveří | G157: kus | H157: 2 | J157: =ROUND(I157*H157,2) -> 0 | N157: základní | P157: =O157*H157 -> 0 | Q157: 0 | R157: =Q157*H157 -> 0 | S157: 0 | T157: =S157*H157 -> 0 | AR157: 16 | AT157: K | AU157: 2 | AY157: ROZPOCET | BE157: =IF(N157="základní",J157,0) -> 0 | BF157: =IF(N157="snížená",J157,0) -> 0 | BG157: =IF(N157="zákl. přenesená",J157,0) -> 0 | BH157: =IF(N157="sníž. přenesená",J157,0) -> 0 | BI157: =IF(N157="nulová",J157,0) -> 0 | BJ157: 1 | BK157: =ROUND(I157*H157,2) -> 0 | BL157: 16 | BM157: 373378396
C158: 17 | D158: K | E158: 766R03 | F158: Truhlářské práce na stávajících dveřích vč rámu = repase truhlářská,lepení uvolněných částí,doplnění chybějících částí dřeva,ozdob,řezeb na vchodových dveřích | G158: m2 | H158: 3.96 | J158: =ROUND(I158*H158,2) -> 0 | N158: základní | P158: =O158*H158 -> 0 | Q158: 0 | R158: =Q158*H158 -> 0 | S158: 0 | T158: =S158*H158 -> 0 | AR158: 16 | AT158: K | AU158: 2 | AY158: ROZPOCET | BE158: =IF(N158="základní",J158,0) -> 0 | BF158: =IF(N158="snížená",J158,0) -> 0 | BG158: =IF(N158="zákl. přenesená",J158,0) -> 0 | BH158: =IF(N158="sníž. přenesená",J158,0) -> 0 | BI158: =IF(N158="nulová",J158,0) -> 0 | BJ158: 1 | BK158: =ROUND(I158*H158,2) -> 0 | BL158: 16 | BM158: 1433175436
C159: 18 | D159: K | E159: 766R04 | F159: Demontáž veškerého kování a repase kování,pantů,zástrčí vč zpětné montáže-vchodové dveře | G159: kpl | H159: 1 | J159: =ROUND(I159*H159,2) -> 0 | N159: základní | P159: =O159*H159 -> 0 | Q159: 0 | R159: =Q159*H159 -> 0 | S159: 0 | T159: =S159*H159 -> 0 | AR159: 16 | AT159: K | AU159: 2 | AY159: ROZPOCET | BE159: =IF(N159="základní",J159,0) -> 0 | BF159: =IF(N159="snížená",J159,0) -> 0 | BG159: =IF(N159="zákl. přenesená",J159,0) -> 0 | BH159: =IF(N159="sníž. přenesená",J159,0) -> 0 | BI159: =IF(N159="nulová",J159,0) -> 0 | BJ159: 1 | BK159: =ROUND(I159*H159,2) -> 0 | BL159: 16 | BM159: 1060933344
C160: 19 | D160: K | E160: 766R05 | F160: Nová zasklení nadsvětlíku vč demontáže stávajícího-vchodové dveře | G160: kus | H160: 1 | J160: =ROUND(I160*H160,2) -> 0 | N160: základní | P160: =O160*H160 -> 0 | Q160: 0 | R160: =Q160*H160 -> 0 | S160: 0 | T160: =S160*H160 -> 0 | AR160: 16 | AT160: K | AU160: 2 | AY160: ROZPOCET | BE160: =IF(N160="základní",J160,0) -> 0 | BF160: =IF(N160="snížená",J160,0) -> 0 | BG160: =IF(N160="zákl. přenesená",J160,0) -> 0 | BH160: =IF(N160="sníž. přenesená",J160,0) -> 0 | BI160: =IF(N160="nulová",J160,0) -> 0 | BJ160: 1 | BK160: =ROUND(I160*H160,2) -> 0 | BL160: 16 | BM160: -1168736690
C161: 20 | D161: K | E161: 766R06 | F161: Demontáž a zpětná montáž vstupních dveří vč manipulace a dopravy | G161: kus | H161: 1 | J161: =ROUND(I161*H161,2) -> 0 | N161: základní | P161: =O161*H161 -> 0 | Q161: 0 | R161: =Q161*H161 -> 0 | S161: 0 | T161: =S161*H161 -> 0 | AR161: 16 | AT161: K | AU161: 2 | AY161: ROZPOCET | BE161: =IF(N161="základní",J161,0) -> 0 | BF161: =IF(N161="snížená",J161,0) -> 0 | BG161: =IF(N161="zákl. přenesená",J161,0) -> 0 | BH161: =IF(N161="sníž. přenesená",J161,0) -> 0 | BI161: =IF(N161="nulová",J161,0) -> 0 | BJ161: 1 | BK161: =ROUND(I161*H161,2) -> 0 | BL161: 16 | BM161: 1455261128
C162: 21 | D162: K | E162: 766R07 | F162: Truhlářské práce na stávajících dveřích vč rámu = repase truhlářská,lepení uvolněných částí,doplnění chybějících částí dřeva,ozdob,řezeb na vnitřních dveřích | G162: m2 | H162: 2.64 | J162: =ROUND(I162*H162,2) -> 0 | N162: základní | P162: =O162*H162 -> 0 | Q162: 0 | R162: =Q162*H162 -> 0 | S162: 0 | T162: =S162*H162 -> 0 | AR162: 16 | AT162: K | AU162: 2 | AY162: ROZPOCET | BE162: =IF(N162="základní",J162,0) -> 0 | BF162: =IF(N162="snížená",J162,0) -> 0 | BG162: =IF(N162="zákl. přenesená",J162,0) -> 0 | BH162: =IF(N162="sníž. přenesená",J162,0) -> 0 | BI162: =IF(N162="nulová",J162,0) -> 0 | BJ162: 1 | BK162: =ROUND(I162*H162,2) -> 0 | BL162: 16 | BM162: -1273763574
D163: VV | F163: 1,2*2,2 | H163: 2.64 | AT163: VV | AU163: 2 | AV163: 2 | AW163: True | AX163: 1 | AY163: ROZPOCET
C164: 22 | D164: K | E164: 766R08 | F164: Demontáž veškerého kování a repase kování,pantů,zástrčí vč zpětné montáže-vnitřní dveře | G164: kpl | H164: 1 | J164: =ROUND(I164*H164,2) -> 0 | N164: základní | P164: =O164*H164 -> 0 | Q164: 0 | R164: =Q164*H164 -> 0 | S164: 0 | T164: =S164*H164 -> 0 | AR164: 16 | AT164: K | AU164: 2 | AY164: ROZPOCET | BE164: =IF(N164="základní",J164,0) -> 0 | BF164: =IF(N164="snížená",J164,0) -> 0 | BG164: =IF(N164="zákl. přenesená",J164,0) -> 0 | BH164: =IF(N164="sníž. přenesená",J164,0) -> 0 | BI164: =IF(N164="nulová",J164,0) -> 0 | BJ164: 1 | BK164: =ROUND(I164*H164,2) -> 0 | BL164: 16 | BM164: 2083888172
C165: 23 | D165: K | E165: 766R09 | F165: Demontáž a zpětná montáž vniřních dveří vč manipulace a dopravy | G165: kus | H165: 1 | J165: =ROUND(I165*H165,2) -> 0 | N165: základní | P165: =O165*H165 -> 0 | Q165: 0 | R165: =Q165*H165 -> 0 | S165: 0 | T165: =S165*H165 -> 0 | AR165: 16 | AT165: K | AU165: 2 | AY165: ROZPOCET | BE165: =IF(N165="základní",J165,0) -> 0 | BF165: =IF(N165="snížená",J165,0) -> 0 | BG165: =IF(N165="zákl. přenesená",J165,0) -> 0 | BH165: =IF(N165="sníž. přenesená",J165,0) -> 0 | BI165: =IF(N165="nulová",J165,0) -> 0 | BJ165: 1 | BK165: =ROUND(I165*H165,2) -> 0 | BL165: 16 | BM165: -2074945861
C166: 24 | D166: K | E166: 998766313 | F166: Přesun hmot procentní pro kce truhlářské ruční v objektech v přes 12 do 24 m | G166: % | J166: =ROUND(I166*H166,2) -> 0 | N166: základní | P166: =O166*H166 -> 0 | Q166: 0 | R166: =Q166*H166 -> 0 | S166: 0 | T166: =S166*H166 -> 0 | AR166: 16 | AT166: K | AU166: 2 | AY166: ROZPOCET | BE166: =IF(N166="základní",J166,0) -> 0 | BF166: =IF(N166="snížená",J166,0) -> 0 | BG166: =IF(N166="zákl. přenesená",J166,0) -> 0 | BH166: =IF(N166="sníž. přenesená",J166,0) -> 0 | BI166: =IF(N166="nulová",J166,0) -> 0 | BJ166: 1 | BK166: =ROUND(I166*H166,2) -> 0 | BL166: 16 | BM166: -29437875
...

Sheet truhlářské prvky
A1: KAPLE SV. VÁCLAVA VONOKLASY Na návsi, 252 028 Vonoklasy
A2: TRUHLÁŘSKÉ PRVKY
A3: Název | B3: Schéma/foto | C3: ks | D3: Šířka | E3: Výška | F3: jc/ks | G3: cena celkem | H3: Pozn.
A4: okno jednoduché východní a západní fasáda | C4: 2 | D4: 0.77 | E4: 1.7 | F4: 0 | G4: =F4*C4 -> 0 | H4: TYP: OKNO JEDNODUCHÉ - 3 křídlé (nadsvětlík je neotvíraví) Zasklení: JEDNODUCHÉ S DEKOREM Materiál: smrkový nastavovaný profil 44mm Šířka: 765 mm Výška : 1700 mm Barva: RAL 8017 pozn.: konečná barevnost a dekor skla bude vyvzorkován. Dále bude vyvzorkováno kování. Podrobnějí viz. výkresová dokumentace
A5: okno jednoduché jižní fasáda | C5: 1 | D5: 0.7 | E5: 0.7 | F5: 0 | G5: =F5*C5 -> 0 | H5: TYP: OKNO JEDNODUCHÉ - 1 křídlé (otvírání na obtlíky) Zasklení: JEDNODUCHÉ S DEKOREM Materiál: smrkový nastavovaný profil 44mm Šířka: 674 mm Výška : 674 mm Barva: RAL 8017 pozn.: konečná barevnost a dekor skla bude vyvzorkován. Dále bude představeno kování viz. výkresová dokumentace
A6: dřevěné žaluzie na věži | C6: 4 | D6: 0.52 | E6: 1.7 | F6: 0 | G6: =F6*C6 -> 0 | H6: TYP: DŘEVĚNÉ ŽALUZIE Materiál: smrkový nastavovaný profil 44mm Šířka: 520 mm Výška : 1700 mm Barva: RAL 8017 pozn.: konečná barevnost bude vyvzorkována. Nové žaluzie budou po celém rámu. Stávající žaluzie mají plný nadsvětlík.
A7: vstupní dveře do kaple vč. pevného nadsvětlíku | C7: 1 | D7: 1.2 | E7: 3.3 | F7: 0 | G7: =F7*C7 -> 0 | H7: Stávající vstupní dveře dvoukřídlé, výplňové z měkkého dřeva určeného k ochraně krycím nátěrem. Nadsvětlík je tvořen pevným zasklením s příčlemi, zasklení je jednoduché s dekorem. Kování dveří je původní. Vstupní dveře budou repasovány. Křídla budou vysazena a repasována na dílně restaurátora, rám bude restaurován na místě. Budou demontovány kovové mechanismy (panty, zámky, zástrče), které budou na dílně restaurovány a následně opět osazeny. Konečná barevnost bude vyvzorkována. Kování dveří bude repasováno a povrch bude dokončen kovářskou černou barvou s příměsí grafitu.
A8: vstupní dveře do kaple - interiér | C8: 1 | D8: 1.2 | E8: 2.2 | F8: 0 | G8: =F8*C8 -> 0 | H8: Stávající vstupní dveře dvoukřídlé, výplňové z měkkého dřeva určeného k ochraně krycím nátěrem. Dveře nejsou vystavena povětrnostním vlivům a jsou v lepším stavu než vstupní dveře. Kování dveří je původní. Vstupní dveře budou repasovány. Křídla budou vysazena a repasována na dílně restaurátora, rám bude restaurován na místě. Budou demontovány kovové mechanismy (panty, zámky, zástrče), které budou na dílně restaurovány a následně opět osazeny. Konečná barevnost bude vyvzorkována. Kování dveří bude repasováno a povrch bude dokončen kovářskou černou barvou s příměsí grafitu.
A9: nové vrata suterén | C9: 1 | D9: 2.2 | E9: 1.98 | F9: 0 | G9: =F9*C9 -> 0 | H9: TYP: DŘEVĚNÉ ŽALUZIE Materiál: smrkový nastavovaný profil 44mm Šířka: 2200 mm Výška : 1975 mm Barva: RAL 8017 pozn.: konečná barevnost a dekor skla bude vyvzorkován. Dále bude vyvzorkováno kování. Podrobnějí viz. výkresová dokumentace
A10: Celkem cena
A11: Veškeré rozměry nutno před výrobou ověřit přímo na stavbě !!!! Rozměry nesmí být použity k přípravě výrobně-technic. dokumentace, dokumentace výrobků dodaných na stavbu, dílenských ani výrobních výkresů a jiných výkresů vedoucích k výrobě koncového produktu.

Sheet 04 - Kamenické konstrukce
L2: >> skryté sloupce << | AT2: {49a59aad-a1d7-415d-9e47-7d5caf588236}
AT3: 2
D4: KRYCÍ LIST SOUPISU PRACÍ | M4: v --- níže se nacházejí doplnkové a pomocné údaje k sestavám --- v | AT4: False
D6: Stavba:
E7: ='Rekapitulace stavby'!K6 -> KAPLE SV VÁCLAVA VONOKLASY Na Návsi, Vonoklasy
D8: Objekt:
E9: 04 - Kamenické konstrukce
D11: KSO: | I11: CC-CZ:
D12: Místo: | F12: Vonoklasy | I12: Datum: | J12: ='Rekapitulace stavby'!AN8 -> 20. 8. 2025
D14: Zadavatel: | I14: IČ: | J14: =IF('Rekapitulace stavby'!AN10="","",'Rekapitulace stavby'!AN10)
E15: =IF('Rekapitulace stavby'!E11="","",'Rekapitulace stavby'!E11) | I15: DIČ: | J15: =IF('Rekapitulace stavby'!AN11="","",'Rekapitulace stavby'!AN11)
D17: Uchazeč: | I17: IČ: | J17: ='Rekapitulace stavby'!AN13 -> Vyplň údaj
E18: ='Rekapitulace stavby'!E14 -> Vyplň údaj | I18: DIČ: | J18: ='Rekapitulace stavby'!AN14 -> Vyplň údaj
D20: Projektant: | I20: IČ:
E21: Ing.arch.Ester Miluničová | I21: DIČ:
D23: Zpracovatel: | I23: IČ:
E24: Hana Pejšová | I24: DIČ:
D26: Poznámka:
D30: Cena bez DPH | J30: =ROUND(J123, 2) -> 0
F32: Základ daně | I32: Sazba daně | J32: Výše daně
D33: DPH | E33: základní | F33: =ROUND((SUM(BE123:BE138)), 2) -> 0 | I33: 0.21 | J33: =ROUND(((SUM(BE123:BE138))*I33), 2) -> 0
E34: snížená | F34: =ROUND((SUM(BF123:BF138)), 2) -> 0 | I34: 0.12 | J34: =ROUND(((SUM(BF123:BF138))*I34), 2) -> 0
E35: zákl. přenesená | F35: =ROUND((SUM(BG123:BG138)), 2) -> 0 | I35: 0.21 | J35: =0 -> 0
E36: sníž. přenesená | F36: =ROUND((SUM(BH123:BH138)), 2) -> 0 | I36: 0.12 | J36: =0 -> 0
E37: nulová | F37: =ROUND((SUM(BI123:BI138)), 2) -> 0 | I37: 0 | J37: =0 -> 0
D39: Cena s DPH | G39: v | H39: CZK | J39: =SUM(J30:J37) -> 0
D50: Projektant | G50: Zpracovatel
D61: Datum a podpis: | F61: Razítko | G61: Datum a podpis: | J61: Razítko
D65: Objednavatel | G65: Uchazeč
D76: Datum a podpis: | F76: Razítko | G76: Datum a podpis: | J76: Razítko
C82: REKAPITULACE ČLENĚNÍ SOUPISU PRACÍ
C84: Stavba:
E85: =E7 -> KAPLE SV VÁCLAVA VONOKLASY Na Návsi, Vonoklasy
C86: Objekt:
E87: =E9 -> 04 - Kamenické konstrukce
C89: Místo: | F89: =F12 -> Vonoklasy | I89: Datum: | J89: =IF(J12="","",J12) -> 20. 8. 2025
C91: Zadavatel: | F91: =E15 | I91: Projektant: | J91: =E21 -> Ing.arch.Ester Miluničová
C92: Uchazeč: | F92: =IF(E18="","",E18) -> Vyplň údaj | I92: Zpracovatel: | J92: =E24 -> Hana Pejšová
C94: Kód dílu - Popis | J94: Cena celkem [CZK]
C96: Náklady ze soupisu prací | J96: =J123 -> 0 | AU96: -1
D97: PSV - Práce a dodávky PSV vč přesunů hmot | J97: =J124 -> 0
D98: 782 - Kamenické konstrukce dle tabulky prvků | J98: =J125 -> 0
D99: VRN - Vedlejší rozpočtové náklady | J99: =J130 -> 0
D100: VRN3 - Zařízení staveniště | J100: =J131 -> 0
D101: VRN4 - Inženýrská činnost | J101: =J133 -> 0
D102: VRN6 - Územní vlivy | J102: =J135 -> 0
D103: VRN9 - Ostatní náklady | J103: =J137 -> 0
C110: SOUPIS PRACÍ
C112: Stavba:
E113: =E7 -> KAPLE SV VÁCLAVA VONOKLASY Na Návsi, Vonoklasy
C114: Objekt:
E115: =E9 -> 04 - Kamenické konstrukce
C117: Místo: | F117: =F12 -> Vonoklasy | I117: Datum: | J117: =IF(J12="","",J12) -> 20. 8. 2025
C119: Zadavatel: | F119: =E15 | I119: Projektant: | J119: =E21 -> Ing.arch.Ester Miluničová
C120: Uchazeč: | F120: =IF(E18="","",E18) -> Vyplň údaj | I120: Zpracovatel: | J120: =E24 -> Hana Pejšová
C122: PČ | D122: Typ | E122: Kód | F122: Popis | G122: MJ | H122: Množství | I122: J.cena [CZK] | J122: Cena celkem [CZK] | K122: Cenová soustava | N122: DPH | O122: J. Nh [h] | P122: Nh celkem [h] | Q122: J. hmotnost [t] | R122: Hmotnost celkem [t] | S122: J. suť [t] | T122: Suť Celkem [t]
C123: Náklady soupisu celkem | J123: =BK123 -> 0 | P123: =P124+P130 -> 0 | R123: =R124+R130 -> 0.0168 | T123: =T124+T130 -> 0.0436 | AT123: D | AU123: -1 | BK123: =BK124+BK130 -> 0
D124: D | E124: PSV | F124: Práce a dodávky PSV vč přesunů hmot | J124: =BK124 -> 0 | P124: =P125 -> 0 | R124: =R125 -> 0.0168 | T124: =T125 -> 0.0436 | AR124: 2 | AT124: D | AU124: 0 | AY124: ROZPOCET | BK124: =BK125 -> 0
D125: D | E125: 782 | F125: Kamenické konstrukce dle tabulky prvků | J125: =BK125 -> 0 | P125: =SUM(P126:P129) -> 0 | R125: =SUM(R126:R129) -> 0.0168 | T125: =SUM(T126:T129) -> 0.0436 | AR125: 2 | AT125: D | AU125: 1 | AY125: ROZPOCET | BK125: =SUM(BK126:BK129) -> 0
C126: 1 | D126: K | E126: 782R01 | F126: Repase kamenného portálu s poutcem (severní fasáda) - restaurátorské očištění a ošetřní | G126: kpl | H126: 1 | J126: =ROUND(I126*H126,2) -> 0 | N126: základní | P126: =O126*H126 -> 0 | Q126: 0.0042 | R126: =Q126*H126 -> 0.0042 | S126: 0.0109 | T126: =S126*H126 -> 0.0109 | AR126: 16 | AT126: K | AU126: 2 | AY126: ROZPOCET | BE126: =IF(N126="základní",J126,0) -> 0 | BF126: =IF(N126="snížená",J126,0) -> 0 | BG126: =IF(N126="zákl. přenesená",J126,0) -> 0 | BH126: =IF(N126="sníž. přenesená",J126,0) -> 0 | BI126: =IF(N126="nulová",J126,0) -> 0 | BJ126: 1 | BK126: =ROUND(I126*H126,2) -> 0 | BL126: 16 | BM126: -577231819
C127: 2 | D127: K | E127: 782R02 | F127: Kontrola uložení schodů | G127: kpl | H127: 1 | J127: =ROUND(I127*H127,2) -> 0 | N127: základní | P127: =O127*H127 -> 0 | Q127: 0.0042 | R127: =Q127*H127 -> 0.0042 | S127: 0.0109 | T127: =S127*H127 -> 0.0109 | AR127: 16 | AT127: K | AU127: 2 | AY127: ROZPOCET | BE127: =IF(N127="základní",J127,0) -> 0 | BF127: =IF(N127="snížená",J127,0) -> 0 | BG127: =IF(N127="zákl. přenesená",J127,0) -> 0 | BH127: =IF(N127="sníž. přenesená",J127,0) -> 0 | BI127: =IF(N127="nulová",J127,0) -> 0 | BJ127: 1 | BK127: =ROUND(I127*H127,2) -> 0 | BL127: 16 | BM127: 1977551185
C128: 3 | D128: K | E128: 782R03 | F128: Restaurátorská oprava dvou kamenných schodů vč prahu dveří před kaplí očištěním a ošetřením vč vyrovnání | G128: kpl | H128: 1 | J128: =ROUND(I128*H128,2) -> 0 | N128: základní | P128: =O128*H128 -> 0 | Q128: 0.0042 | R128: =Q128*H128 -> 0.0042 | S128: 0.0109 | T128: =S128*H128 -> 0.0109 | AR128: 16 | AT128: K | AU128: 2 | AY128: ROZPOCET | BE128: =IF(N128="základní",J128,0) -> 0 | BF128: =IF(N128="snížená",J128,0) -> 0 | BG128: =IF(N128="zákl. přenesená",J128,0) -> 0 | BH128: =IF(N128="sníž. přenesená",J128,0) -> 0 | BI128: =IF(N128="nulová",J128,0) -> 0 | BJ128: 1 | BK128: =ROUND(I128*H128,2) -> 0 | BL128: 16 | BM128: 1175324798
C129: 4 | D129: K | E129: 782R04 | F129: Kamenná deska s letopočtem vel 600x400 mm - restaurátorské opravení a ošetření, případně obnovení zlatého písma | G129: kus | H129: 1 | J129: =ROUND(I129*H129,2) -> 0 | N129: základní | P129: =O129*H129 -> 0 | Q129: 0.0042 | R129: =Q129*H129 -> 0.0042 | S129: 0.0109 | T129: =S129*H129 -> 0.0109 | AR129: 16 | AT129: K | AU129: 2 | AY129: ROZPOCET | BE129: =IF(N129="základní",J129,0) -> 0 | BF129: =IF(N129="snížená",J129,0) -> 0 | BG129: =IF(N129="zákl. přenesená",J129,0) -> 0 | BH129: =IF(N129="sníž. přenesená",J129,0) -> 0 | BI129: =IF(N129="nulová",J129,0) -> 0 | BJ129: 1 | BK129: =ROUND(I129*H129,2) -> 0 | BL129: 16 | BM129: 457222621
D130: D | E130: VRN | F130: Vedlejší rozpočtové náklady | J130: =BK130 -> 0 | P130: =P131+P133+P135+P137 -> 0 | R130: =R131+R133+R135+R137 -> 0 | T130: =T131+T133+T135+T137 -> 0 | AR130: 5 | AT130: D | AU130: 0 | AY130: ROZPOCET | BK130: =BK131+BK133+BK135+BK137 -> 0
D131: D | E131: VRN3 | F131: Zařízení staveniště | J131: =BK131 -> 0 | P131: =P132 -> 0 | R131: =R132 -> 0 | T131: =T132 -> 0 | AR131: 5 | AT131: D | AU131: 1 | AY131: ROZPOCET | BK131: =BK132 -> 0
C132: 5 | D132: K | E132: 030001000 | F132: Zařízení staveniště | G132: kpl | H132: 1 | J132: =ROUND(I132*H132,2) -> 0 | N132: základní | P132: =O132*H132 -> 0 | Q132: 0 | R132: =Q132*H132 -> 0 | S132: 0 | T132: =S132*H132 -> 0 | AR132: 1024 | AT132: K | AU132: 2 | AY132: ROZPOCET | BE132: =IF(N132="základní",J132,0) -> 0 | BF132: =IF(N132="snížená",J132,0) -> 0 | BG132: =IF(N132="zákl. přenesená",J132,0) -> 0 | BH132: =IF(N132="sníž. přenesená",J132,0) -> 0 | BI132: =IF(N132="nulová",J132,0) -> 0 | BJ132: 1 | BK132: =ROUND(I132*H132,2) -> 0 | BL132: 1024 | BM132: -1641616041
D133: D | E133: VRN4 | F133: Inženýrská činnost | J133: =BK133 -> 0 | P133: =P134 -> 0 | R133: =R134 -> 0 | T133: =T134 -> 0 | AR133: 5 | AT133: D | AU133: 1 | AY133: ROZPOCET | BK133: =BK134 -> 0
C134: 6 | D134: K | E134: 045203000 | F134: Kompletační činnost | G134: kpl | H134: 1 | J134: =ROUND(I134*H134,2) -> 0 | N134: základní | P134: =O134*H134 -> 0 | Q134: 0 | R134: =Q134*H134 -> 0 | S134: 0 | T134: =S134*H134 -> 0 | AR134: 1024 | AT134: K | AU134: 2 | AY134: ROZPOCET | BE134: =IF(N134="základní",J134,0) -> 0 | BF134: =IF(N134="snížená",J134,0) -> 0 | BG134: =IF(N134="zákl. přenesená",J134,0) -> 0 | BH134: =IF(N134="sníž. přenesená",J134,0) -> 0 | BI134: =IF(N134="nulová",J134,0) -> 0 | BJ134: 1 | BK134: =ROUND(I134*H134,2) -> 0 | BL134: 1024 | BM134: -1859419820
D135: D | E135: VRN6 | F135: Územní vlivy | J135: =BK135 -> 0 | P135: =P136 -> 0 | R135: =R136 -> 0 | T135: =T136 -> 0 | AR135: 5 | AT135: D | AU135: 1 | AY135: ROZPOCET | BK135: =BK136 -> 0
C136: 7 | D136: K | E136: 060001000 | F136: Územní vlivy | G136: kpl | H136: 1 | J136: =ROUND(I136*H136,2) -> 0 | N136: základní | P136: =O136*H136 -> 0 | Q136: 0 | R136: =Q136*H136 -> 0 | S136: 0 | T136: =S136*H136 -> 0 | AR136: 1024 | AT136: K | AU136: 2 | AY136: ROZPOCET | BE136: =IF(N136="základní",J136,0) -> 0 | BF136: =IF(N136="snížená",J136,0) -> 0 | BG136: =IF(N136="zákl. přenesená",J136,0) -> 0 | BH136: =IF(N136="sníž. přenesená",J136,0) -> 0 | BI136: =IF(N136="nulová",J136,0) -> 0 | BJ136: 1 | BK136: =ROUND(I136*H136,2) -> 0 | BL136: 1024 | BM136: 873517
D137: D | E137: VRN9 | F137: Ostatní náklady | J137: =BK137 -> 0 | P137: =P138 -> 0 | R137: =R138 -> 0 | T137: =T138 -> 0 | AR137: 5 | AT137: D | AU137: 1 | AY137: ROZPOCET | BK137: =BK138 -> 0
C138: 8 | D138: K | E138: 090001000 | F138: Ostatní náklady | G138: kpl | H138: 1 | J138: =ROUND(I138*H138,2) -> 0 | N138: základní | P138: =O138*H138 -> 0 | Q138: 0 | R138: =Q138*H138 -> 0 | S138: 0 | T138: =S138*H138 -> 0 | AR138: 1024 | AT138: K | AU138: 2 | AY138: ROZPOCET | BE138: =IF(N138="základní",J138,0) -> 0 | BF138: =IF(N138="snížená",J138,0) -> 0 | BG138: =IF(N138="zákl. přenesená",J138,0) -> 0 | BH138: =IF(N138="sníž. přenesená",J138,0) -> 0 | BI138: =IF(N138="nulová",J138,0) -> 0 | BJ138: 1 | BK138: =ROUND(I138*H138,2) -> 0 | BL138: 1024 | BM138: -320183903

Sheet kamenické prvky 
A1: KAPLE SV. VÁCLAVA VONOKLASY Na návsi, 252 028 Vonoklasy
A2: KAMENICKÉ PRVKY
A3: Název | B3: Schéma/foto | C3: ks | D3: Šířka | E3: Výška | F3: jc/ks | G3: cena celkem | H3: Pozn.
A4: portál s poutcem severní fasáda | C4: 1 | D4: 1.6 | E4: 3.7 | F4: 0 | G4: =F4*C4 -> 0 | H4: Kamenný portál vstupních dveří. Portál je bez ozdobné profilace. Portál bude restaurátorsky očištěn a ošetřen.
A5: schody jižní fasáda | C5: 2 | D5: 1.6 | E5: 0.4 | F5: 0 | G5: =F5*C5 -> 0 | H5: Dva kamenné schdy vč. prahu dveří. Před očištěním schodů bude zkontrolováno jejich uložení, v případě potřeby bude opraven sklon schodů. Poté budou restaurátorsky očištěny a ošetřeny.
A6: cedule s datací | C6: 1 | D6: 0.6 | E6: 0.4 | F6: 0 | G6: =F6*C6 -> 0 | H6: Kamenný deska s letopočtem. Deska je bez ozdobné profilace. Deska bude restaurátorsky očištěn a ošetřen. V případě potřeby bude obnoveno zlacení písma.
A7: Celkem cena
A8: Veškeré rozměry nutno před výrobou ověřit přímo na stavbě !!!! Rozměry nesmí být použity k přípravě výrobně-technic. dokumentace, dokumentace výrobků dodaných na stavbu, dílenských ani výrobních výkresů a jiných výkresů vedoucích k výrobě koncového produktu.

Sheet 05 - Malby
L2: >> skryté sloupce << | AT2: {44ec1581-7c8b-49d4-8dee-683f6e7d2a17}
AT3: 2
D4: KRYCÍ LIST SOUPISU PRACÍ | M4: v --- níže se nacházejí doplnkové a pomocné údaje k sestavám --- v | AT4: False
D6: Stavba:
E7: ='Rekapitulace stavby'!K6 -> KAPLE SV VÁCLAVA VONOKLASY Na Návsi, Vonoklasy
D8: Objekt:
E9: 05 - Malby
D11: KSO: | I11: CC-CZ:
D12: Místo: | F12: Vonoklasy | I12: Datum: | J12: ='Rekapitulace stavby'!AN8 -> 20. 8. 2025
D14: Zadavatel: | I14: IČ: | J14: =IF('Rekapitulace stavby'!AN10="","",'Rekapitulace stavby'!AN10)
E15: =IF('Rekapitulace stavby'!E11="","",'Rekapitulace stavby'!E11) | I15: DIČ: | J15: =IF('Rekapitulace stavby'!AN11="","",'Rekapitulace stavby'!AN11)
D17: Uchazeč: | I17: IČ: | J17: ='Rekapitulace stavby'!AN13 -> Vyplň údaj
E18: ='Rekapitulace stavby'!E14 -> Vyplň údaj | I18: DIČ: | J18: ='Rekapitulace stavby'!AN14 -> Vyplň údaj
D20: Projektant: | I20: IČ:
E21: Ing.arch.Ester Miluničová | I21: DIČ:
D23: Zpracovatel: | I23: IČ:
E24: Hana Pejšová | I24: DIČ:
D26: Poznámka:
D30: Cena bez DPH | J30: =ROUND(J127, 2) -> 0
F32: Základ daně | I32: Sazba daně | J32: Výše daně
D33: DPH | E33: základní | F33: =ROUND((SUM(BE127:BE183)), 2) -> 0 | I33: 0.21 | J33: =ROUND(((SUM(BE127:BE183))*I33), 2) -> 0
E34: snížená | F34: =ROUND((SUM(BF127:BF183)), 2) -> 0 | I34: 0.12 | J34: =ROUND(((SUM(BF127:BF183))*I34), 2) -> 0
E35: zákl. přenesená | F35: =ROUND((SUM(BG127:BG183)), 2) -> 0 | I35: 0.21 | J35: =0 -> 0
E36: sníž. přenesená | F36: =ROUND((SUM(BH127:BH183)), 2) -> 0 | I36: 0.12 | J36: =0 -> 0
E37: nulová | F37: =ROUND((SUM(BI127:BI183)), 2) -> 0 | I37: 0 | J37: =0 -> 0
D39: Cena s DPH | G39: v | H39: CZK | J39: =SUM(J30:J37) -> 0
D50: Projektant | G50: Zpracovatel
D61: Datum a podpis: | F61: Razítko | G61: Datum a podpis: | J61: Razítko
D65: Objednavatel | G65: Uchazeč
D76: Datum a podpis: | F76: Razítko | G76: Datum a podpis: | J76: Razítko
C82: REKAPITULACE ČLENĚNÍ SOUPISU PRACÍ
C84: Stavba:
E85: =E7 -> KAPLE SV VÁCLAVA VONOKLASY Na Návsi, Vonoklasy
C86: Objekt:
E87: =E9 -> 05 - Malby
C89: Místo: | F89: =F12 -> Vonoklasy | I89: Datum: | J89: =IF(J12="","",J12) -> 20. 8. 2025
C91: Zadavatel: | F91: =E15 | I91: Projektant: | J91: =E21 -> Ing.arch.Ester Miluničová
C92: Uchazeč: | F92: =IF(E18="","",E18) -> Vyplň údaj | I92: Zpracovatel: | J92: =E24 -> Hana Pejšová
C94: Kód dílu - Popis | J94: Cena celkem [CZK]
C96: Náklady ze soupisu prací | J96: =J127 -> 0 | AU96: -1
D97: HSV - Práce a dodávky HSV | J97: =J128 -> 0
D98: 6 - Úpravy povrchů | J98: =J129 -> 0
D99: 9 - Ostatní konstrukce a práce, bourání | J99: =J132 -> 0
D100: 997 - Přesun sutě | J100: =J137 -> 0
D101: PSV - Práce a dodávky PSV | J101: =J143 -> 0
D102: 784 - Dokončovací práce - malby a tapety | J102: =J144 -> 0
D103: VRN - Vedlejší rozpočtové náklady | J103: =J175 -> 0
D104: VRN3 - Zařízení staveniště | J104: =J176 -> 0
D105: VRN4 - Inženýrská činnost | J105: =J178 -> 0
D106: VRN6 - Územní vlivy | J106: =J180 -> 0
D107: VRN9 - Ostatní náklady | J107: =J182 -> 0
C114: SOUPIS PRACÍ
C116: Stavba:
E117: =E7 -> KAPLE SV VÁCLAVA VONOKLASY Na Návsi, Vonoklasy
C118: Objekt:
E119: =E9 -> 05 - Malby
C121: Místo: | F121: =F12 -> Vonoklasy | I121: Datum: | J121: =IF(J12="","",J12) -> 20. 8. 2025
C123: Zadavatel: | F123: =E15 | I123: Projektant: | J123: =E21 -> Ing.arch.Ester Miluničová
C124: Uchazeč: | F124: =IF(E18="","",E18) -> Vyplň údaj | I124: Zpracovatel: | J124: =E24 -> Hana Pejšová
C126: PČ | D126: Typ | E126: Kód | F126: Popis | G126: MJ | H126: Množství | I126: J.cena [CZK] | J126: Cena celkem [CZK] | K126: Cenová soustava | N126: DPH | O126: J. Nh [h] | P126: Nh celkem [h] | Q126: J. hmotnost [t] | R126: Hmotnost celkem [t] | S126: J. suť [t] | T126: Suť Celkem [t]
C127: Náklady soupisu celkem | J127: =BK127 -> 0 | P127: =P128+P143+P175 -> 0 | R127: =R128+R143+R175 -> 2.0549544 | T127: =T128+T143+T175 -> 1.3871698 | AT127: D | AU127: -1 | BK127: =BK128+BK143+BK175 -> 0
D128: D | E128: HSV | F128: Práce a dodávky HSV | J128: =BK128 -> 0 | P128: =P129+P132+P137 -> 0 | R128: =R129+R132+R137 -> 1.756068 | T128: =T129+T132+T137 -> 1.30124 | AR128: 1 | AT128: D | AU128: 0 | AY128: ROZPOCET | BK128: =BK129+BK132+BK137 -> 0
D129: D | E129: 6 | F129: Úpravy povrchů | J129: =BK129 -> 0 | P129: =SUM(P130:P131) -> 0 | R129: =SUM(R130:R131) -> 1.756068 | T129: =SUM(T130:T131) -> 0 | AR129: 1 | AT129: D | AU129: 1 | AY129: ROZPOCET | BK129: =SUM(BK130:BK131) -> 0
C130: 1 | D130: K | E130: 622325211R | F130: Oprava vnitřní vápenné štukové omítky členitosti 1 stěn v rozsahu do 10 %-2.NP | G130: m2 | H130: 113.36 | J130: =ROUND(I130*H130,2) -> 0 | N130: základní | P130: =O130*H130 -> 0 | Q130: 0.00543 | R130: =Q130*H130 -> 0.6155448 | S130: 0 | T130: =S130*H130 -> 0 | AR130: 4 | AT130: K | AU130: 2 | AY130: ROZPOCET | BE130: =IF(N130="základní",J130,0) -> 0 | BF130: =IF(N130="snížená",J130,0) -> 0 | BG130: =IF(N130="zákl. přenesená",J130,0) -> 0 | BH130: =IF(N130="sníž. přenesená",J130,0) -> 0 | BI130: =IF(N130="nulová",J130,0) -> 0 | BJ130: 1 | BK130: =ROUND(I130*H130,2) -> 0 | BL130: 4 | BM130: 853772544
C131: 2 | D131: K | E131: 622325212R | F131: Oprava vnitřní vápenné štukové omítky členitosti 1 stěn v rozsahu přes 10 do 30 %-1.NP | G131: m2 | H131: 73.44 | J131: =ROUND(I131*H131,2) -> 0 | N131: základní | P131: =O131*H131 -> 0 | Q131: 0.01553 | R131: =Q131*H131 -> 1.1405232 | S131: 0 | T131: =S131*H131 -> 0 | AR131: 4 | AT131: K | AU131: 2 | AY131: ROZPOCET | BE131: =IF(N131="základní",J131,0) -> 0 | BF131: =IF(N131="snížená",J131,0) -> 0 | BG131: =IF(N131="zákl. přenesená",J131,0) -> 0 | BH131: =IF(N131="sníž. přenesená",J131,0) -> 0 | BI131: =IF(N131="nulová",J131,0) -> 0 | BJ131: 1 | BK131: =ROUND(I131*H131,2) -> 0 | BL131: 4 | BM131: 1883803343
D132: D | E132: 9 | F132: Ostatní konstrukce a práce, bourání | J132: =BK132 -> 0 | P132: =SUM(P133:P136) -> 0 | R132: =SUM(R133:R136) -> 0 | T132: =SUM(T133:T136) -> 1.30124 | AR132: 1 | AT132: D | AU132: 1 | AY132: ROZPOCET | BK132: =SUM(BK133:BK136) -> 0
C133: 3 | D133: K | E133: 949101112 | F133: Lešení pomocné pro objekty pozemních staveb s lešeňovou podlahou v přes 1,9 do 3,5 m zatížení do 150 kg/m2 pro malbu v kapli | G133: m2 | H133: 19 | J133: =ROUND(I133*H133,2) -> 0 | N133: základní | P133: =O133*H133 -> 0 | Q133: 0 | R133: =Q133*H133 -> 0 | S133: 0 | T133: =S133*H133 -> 0 | AR133: 4 | AT133: K | AU133: 2 | AY133: ROZPOCET | BE133: =IF(N133="základní",J133,0) -> 0 | BF133: =IF(N133="snížená",J133,0) -> 0 | BG133: =IF(N133="zákl. přenesená",J133,0) -> 0 | BH133: =IF(N133="sníž. přenesená",J133,0) -> 0 | BI133: =IF(N133="nulová",J133,0) -> 0 | BJ133: 1 | BK133: =ROUND(I133*H133,2) -> 0 | BL133: 4 | BM133: -1264072129
D134: VV | F134: 1*2*(3,6+5,9) | H134: 19 | AT134: VV | AU134: 2 | AV134: 2 | AW134: True | AX134: 1 | AY134: ROZPOCET
C135: 4 | D135: K | E135: 978015321R | F135: Otlučení (osekání) vnitřních vápenné nebo vápenocementové omítky stupně členitosti 1 a 2 v rozsahu do 10 %-2.NP | G135: m2 | H135: 113.36 | J135: =ROUND(I135*H135,2) -> 0 | N135: základní | P135: =O135*H135 -> 0 | Q135: 0 | R135: =Q135*H135 -> 0 | S135: 0.005 | T135: =S135*H135 -> 0.5668 | AR135: 4 | AT135: K | AU135: 2 | AY135: ROZPOCET | BE135: =IF(N135="základní",J135,0) -> 0 | BF135: =IF(N135="snížená",J135,0) -> 0 | BG135: =IF(N135="zákl. přenesená",J135,0) -> 0 | BH135: =IF(N135="sníž. přenesená",J135,0) -> 0 | BI135: =IF(N135="nulová",J135,0) -> 0 | BJ135: 1 | BK135: =ROUND(I135*H135,2) -> 0 | BL135: 4 | BM135: -65123924
C136: 5 | D136: K | E136: 978015331R | F136: Otlučení (osekání) vnirřních vápenné nebo vápenocementové omítky stupně členitosti 1 a 2 v rozsahu přes 10 do 20 %-1.NP | G136: m2 | H136: 73.444 | J136: =ROUND(I136*H136,2) -> 0 | N136: základní | P136: =O136*H136 -> 0 | Q136: 0 | R136: =Q136*H136 -> 0 | S136: 0.01 | T136: =S136*H136 -> 0.73444 | AR136: 4 | AT136: K | AU136: 2 | AY136: ROZPOCET | BE136: =IF(N136="základní",J136,0) -> 0 | BF136: =IF(N136="snížená",J136,0) -> 0 | BG136: =IF(N136="zákl. přenesená",J136,0) -> 0 | BH136: =IF(N136="sníž. přenesená",J136,0) -> 0 | BI136: =IF(N136="nulová",J136,0) -> 0 | BJ136: 1 | BK136: =ROUND(I136*H136,2) -> 0 | BL136: 4 | BM136: -475212681
D137: D | E137: 997 | F137: Přesun sutě | J137: =BK137 -> 0 | P137: =SUM(P138:P142) -> 0 | R137: =SUM(R138:R142) -> 0 | T137: =SUM(T138:T142) -> 0 | AR137: 1 | AT137: D | AU137: 1 | AY137: ROZPOCET | BK137: =SUM(BK138:BK142) -> 0
C138: 6 | D138: K | E138: 997013214 | F138: Vnitrostaveništní doprava suti a vybouraných hmot pro budovy v přes 12 do 15 m ručně | G138: t | H138: 1.387 | J138: =ROUND(I138*H138,2) -> 0 | N138: základní | P138: =O138*H138 -> 0 | Q138: 0 | R138: =Q138*H138 -> 0 | S138: 0 | T138: =S138*H138 -> 0 | AR138: 4 | AT138: K | AU138: 2 | AY138: ROZPOCET | BE138: =IF(N138="základní",J138,0) -> 0 | BF138: =IF(N138="snížená",J138,0) -> 0 | BG138: =IF(N138="zákl. přenesená",J138,0) -> 0 | BH138: =IF(N138="sníž. přenesená",J138,0) -> 0 | BI138: =IF(N138="nulová",J138,0) -> 0 | BJ138: 1 | BK138: =ROUND(I138*H138,2) -> 0 | BL138: 4 | BM138: -1841126031
C139: 7 | D139: K | E139: 997013509 | F139: Příplatek k odvozu suti a vybouraných hmot na skládku ZKD 1 km přes 1 km | G139: t | H139: 19.418 | J139: =ROUND(I139*H139,2) -> 0 | N139: základní | P139: =O139*H139 -> 0 | Q139: 0 | R139: =Q139*H139 -> 0 | S139: 0 | T139: =S139*H139 -> 0 | AR139: 4 | AT139: K | AU139: 2 | AY139: ROZPOCET | BE139: =IF(N139="základní",J139,0) -> 0 | BF139: =IF(N139="snížená",J139,0) -> 0 | BG139: =IF(N139="zákl. přenesená",J139,0) -> 0 | BH139: =IF(N139="sníž. přenesená",J139,0) -> 0 | BI139: =IF(N139="nulová",J139,0) -> 0 | BJ139: 1 | BK139: =ROUND(I139*H139,2) -> 0 | BL139: 4 | BM139: -911982562
D140: VV | F140: 14*1,387 | H140: 19.418 | AT140: VV | AU140: 2 | AV140: 2 | AW140: True | AX140: 1 | AY140: ROZPOCET
C141: 8 | D141: K | E141: 997013511 | F141: Odvoz suti a vybouraných hmot z meziskládky na skládku do 1 km s naložením a se složením | G141: t | H141: 1.387 | J141: =ROUND(I141*H141,2) -> 0 | N141: základní | P141: =O141*H141 -> 0 | Q141: 0 | R141: =Q141*H141 -> 0 | S141: 0 | T141: =S141*H141 -> 0 | AR141: 4 | AT141: K | AU141: 2 | AY141: ROZPOCET | BE141: =IF(N141="základní",J141,0) -> 0 | BF141: =IF(N141="snížená",J141,0) -> 0 | BG141: =IF(N141="zákl. přenesená",J141,0) -> 0 | BH141: =IF(N141="sníž. přenesená",J141,0) -> 0 | BI141: =IF(N141="nulová",J141,0) -> 0 | BJ141: 1 | BK141: =ROUND(I141*H141,2) -> 0 | BL141: 4 | BM141: -196637218
C142: 9 | D142: K | E142: 997013631 | F142: Poplatek za uložení na skládce (skládkovné) stavebního odpadu směsného kód odpadu 17 09 04 | G142: t | H142: 1.387 | J142: =ROUND(I142*H142,2) -> 0 | N142: základní | P142: =O142*H142 -> 0 | Q142: 0 | R142: =Q142*H142 -> 0 | S142: 0 | T142: =S142*H142 -> 0 | AR142: 4 | AT142: K | AU142: 2 | AY142: ROZPOCET | BE142: =IF(N142="základní",J142,0) -> 0 | BF142: =IF(N142="snížená",J142,0) -> 0 | BG142: =IF(N142="zákl. přenesená",J142,0) -> 0 | BH142: =IF(N142="sníž. přenesená",J142,0) -> 0 | BI142: =IF(N142="nulová",J142,0) -> 0 | BJ142: 1 | BK142: =ROUND(I142*H142,2) -> 0 | BL142: 4 | BM142: 270566288
D143: D | E143: PSV | F143: Práce a dodávky PSV | J143: =BK143 -> 0 | P143: =P144 -> 0 | R143: =R144 -> 0.2988864 | T143: =T144 -> 0.08592984 | AR143: 2 | AT143: D | AU143: 0 | AY143: ROZPOCET | BK143: =BK144 -> 0
D144: D | E144: 784 | F144: Dokončovací práce - malby a tapety | J144: =BK144 -> 0 | P144: =SUM(P145:P174) -> 0 | R144: =SUM(R145:R174) -> 0.2988864 | T144: =SUM(T145:T174) -> 0.08592984 | AR144: 2 | AT144: D | AU144: 1 | AY144: ROZPOCET | BK144: =SUM(BK145:BK174) -> 0
C145: 10 | D145: K | E145: 784111001 | F145: Oprášení (ometení ) podkladu v místnostech v do 3,80 m - 1NP | G145: m2 | H145: 73.444 | J145: =ROUND(I145*H145,2) -> 0 | N145: základní | P145: =O145*H145 -> 0 | Q145: 0 | R145: =Q145*H145 -> 0 | S145: 0 | T145: =S145*H145 -> 0 | AR145: 16 | AT145: K | AU145: 2 | AY145: ROZPOCET | BE145: =IF(N145="základní",J145,0) -> 0 | BF145: =IF(N145="snížená",J145,0) -> 0 | BG145: =IF(N145="zákl. přenesená",J145,0) -> 0 | BH145: =IF(N145="sníž. přenesená",J145,0) -> 0 | BI145: =IF(N145="nulová",J145,0) -> 0 | BJ145: 1 | BK145: =ROUND(I145*H145,2) -> 0 | BL145: 16 | BM145: 595720452
C146: 11 | D146: K | E146: 784111003 | F146: Oprášení (ometení ) podkladu v místnostech v přes 3,80 do 5,00 m - 2NP | G146: m2 | H146: 113.36 | J146: =ROUND(I146*H146,2) -> 0 | N146: základní | P146: =O146*H146 -> 0 | Q146: 0 | R146: =Q146*H146 -> 0 | S146: 0 | T146: =S146*H146 -> 0 | AR146: 16 | AT146: K | AU146: 2 | AY146: ROZPOCET | BE146: =IF(N146="základní",J146,0) -> 0 | BF146: =IF(N146="snížená",J146,0) -> 0 | BG146: =IF(N146="zákl. přenesená",J146,0) -> 0 | BH146: =IF(N146="sníž. přenesená",J146,0) -> 0 | BI146: =IF(N146="nulová",J146,0) -> 0 | BJ146: 1 | BK146: =ROUND(I146*H146,2) -> 0 | BL146: 16 | BM146: 2066962849
C147: 12 | D147: K | E147: 784111011 | F147: Obroušení podkladu omítnutého v místnostech v do 3,80 m | G147: m2 | H147: 73.444 | J147: =ROUND(I147*H147,2) -> 0 | N147: základní | P147: =O147*H147 -> 0 | Q147: 0 | R147: =Q147*H147 -> 0 | S147: 0.00015 | T147: =S147*H147 -> 0.0110166 | AR147: 16 | AT147: K | AU147: 2 | AY147: ROZPOCET | BE147: =IF(N147="základní",J147,0) -> 0 | BF147: =IF(N147="snížená",J147,0) -> 0 | BG147: =IF(N147="zákl. přenesená",J147,0) -> 0 | BH147: =IF(N147="sníž. přenesená",J147,0) -> 0 | BI147: =IF(N147="nulová",J147,0) -> 0 | BJ147: 1 | BK147: =ROUND(I147*H147,2) -> 0 | BL147: 16 | BM147: -1722449862
C148: 13 | D148: K | E148: 784111013 | F148: Obroušení podkladu omítnutého v místnostech v přes 3,80 do 5,00 m | G148: m2 | H148: 113.36 | J148: =ROUND(I148*H148,2) -> 0 | N148: základní | P148: =O148*H148 -> 0 | Q148: 0 | R148: =Q148*H148 -> 0 | S148: 0.00015 | T148: =S148*H148 -> 0.017004 | AR148: 16 | AT148: K | AU148: 2 | AY148: ROZPOCET | BE148: =IF(N148="základní",J148,0) -> 0 | BF148: =IF(N148="snížená",J148,0) -> 0 | BG148: =IF(N148="zákl. přenesená",J148,0) -> 0 | BH148: =IF(N148="sníž. přenesená",J148,0) -> 0 | BI148: =IF(N148="nulová",J148,0) -> 0 | BJ148: 1 | BK148: =ROUND(I148*H148,2) -> 0 | BL148: 16 | BM148: -1904215842
C149: 14 | D149: K | E149: 784121001 | F149: Oškrabání malby v místnostech v do 3,80 m | G149: m2 | H149: 73.444 | J149: =ROUND(I149*H149,2) -> 0 | N149: základní | P149: =O149*H149 -> 0 | Q149: 0.001 | R149: =Q149*H149 -> 0.073444 | S149: 0.00031 | T149: =S149*H149 -> 0.02276764 | AR149: 16 | AT149: K | AU149: 2 | AY149: ROZPOCET | BE149: =IF(N149="základní",J149,0) -> 0 | BF149: =IF(N149="snížená",J149,0) -> 0 | BG149: =IF(N149="zákl. přenesená",J149,0) -> 0 | BH149: =IF(N149="sníž. přenesená",J149,0) -> 0 | BI149: =IF(N149="nulová",J149,0) -> 0 | BJ149: 1 | BK149: =ROUND(I149*H149,2) -> 0 | BL149: 16 | BM149: -274084473
D150: VV | F150: 1NP | AT150: VV | AU150: 2 | AV150: 1 | AW150: True | AX150: 0 | AY150: ROZPOCET
D151: VV | F151: stěny | AT151: VV | AU151: 2 | AV151: 1 | AW151: True | AX151: 0 | AY151: ROZPOCET
D152: VV | F152: 1,97*(3,302+5,736*2+0,785*2+2) | H152: 36.138 | AT152: VV | AU152: 2 | AV152: 2 | AW152: True | AX152: 0 | AY152: ROZPOCET
D153: VV | F153: 0,35*(1+1,1)*2 | H153: 1.47 | AT153: VV | AU153: 2 | AV153: 2 | AW153: True | AX153: 0 | AY153: ROZPOCET
D154: VV | F154: 0,744*(2+1,92*2) | H154: 4.345 | AT154: VV | AU154: 2 | AV154: 2 | AW154: True | AX154: 0 | AY154: ROZPOCET
D155: VV | F155: pilíře | AT155: VV | AU155: 2 | AV155: 1 | AW155: True | AX155: 0 | AY155: ROZPOCET
D156: VV | F156: 1,97*(0,35*2+0,55*2+0,35*4*2) | H156: 9.062 | AT156: VV | AU156: 2 | AV156: 2 | AW156: True | AX156: 0 | AY156: ROZPOCET
D157: VV | F157: strop | AT157: VV | AU157: 2 | AV157: 1 | AW157: True | AX157: 0 | AY157: ROZPOCET
D158: VV | F158: 20,39*1,1 | H158: 22.429 | AT158: VV | AU158: 2 | AV158: 2 | AW158: True | AX158: 0 | AY158: ROZPOCET
D159: VV | F159: Součet | H159: 73.444 | AT159: VV | AU159: 2 | AV159: 4 | AW159: True | AX159: 1 | AY159: ROZPOCET
C160: 15 | D160: K | E160: 784121003 | F160: Oškrabání malby v místnostech v přes 3,80 do 5,00 m | G160: m2 | H160: 113.36 | J160: =ROUND(I160*H160,2) -> 0 | N160: základní | P160: =O160*H160 -> 0 | Q160: 0.001 | R160: =Q160*H160 -> 0.11336 | S160: 0.00031 | T160: =S160*H160 -> 0.0351416 | AR160: 16 | AT160: K | AU160: 2 | AY160: ROZPOCET | BE160: =IF(N160="základní",J160,0) -> 0 | BF160: =IF(N160="snížená",J160,0) -> 0 | BG160: =IF(N160="zákl. přenesená",J160,0) -> 0 | BH160: =IF(N160="sníž. přenesená",J160,0) -> 0 | BI160: =IF(N160="nulová",J160,0) -> 0 | BJ160: 1 | BK160: =ROUND(I160*H160,2) -> 0 | BL160: 16 | BM160: 2041768647
D161: VV | F161: 2NP | AT161: VV | AU161: 2 | AV161: 1 | AW161: True | AX161: 0 | AY161: ROZPOCET
D162: VV | F162: chodba | AT162: VV | AU162: 2 | AV162: 1 | AW162: True | AX162: 0 | AY162: ROZPOCET
D163: VV | F163: 3,613*(1,5+1,75)*2 | H163: 23.485 | AT163: VV | AU163: 2 | AV163: 2 | AW163: True | AX163: 0 | AY163: ROZPOCET
D164: VV | F164: 1,5*1,75*1,1 | H164: 2.888 | AT164: VV | AU164: 2 | AV164: 2 | AW164: True | AX164: 0 | AY164: ROZPOCET
D165: VV | F165: kaple | AT165: VV | AU165: 2 | AV165: 1 | AW165: True | AX165: 0 | AY165: ROZPOCET
D166: VV | F166: 4,332*(3,508+4,385+5,866*2) | H166: 85.016 | AT166: VV | AU166: 2 | AV166: 2 | AW166: True | AX166: 0 | AY166: ROZPOCET
...

Sheet 06 - Dlažba
L2: >> skryté sloupce << | AT2: {9a9eaa77-47a2-426d-938e-cb8ed0fd40f5}
AT3: 2
D4: KRYCÍ LIST SOUPISU PRACÍ | M4: v --- níže se nacházejí doplnkové a pomocné údaje k sestavám --- v | AT4: False
D6: Stavba:
E7: ='Rekapitulace stavby'!K6 -> KAPLE SV VÁCLAVA VONOKLASY Na Návsi, Vonoklasy
D8: Objekt:
E9: 06 - Dlažba
D11: KSO: | I11: CC-CZ:
D12: Místo: | F12: Vonoklasy | I12: Datum: | J12: ='Rekapitulace stavby'!AN8 -> 20. 8. 2025
D14: Zadavatel: | I14: IČ: | J14: =IF('Rekapitulace stavby'!AN10="","",'Rekapitulace stavby'!AN10)
E15: =IF('Rekapitulace stavby'!E11="","",'Rekapitulace stavby'!E11) | I15: DIČ: | J15: =IF('Rekapitulace stavby'!AN11="","",'Rekapitulace stavby'!AN11)
D17: Uchazeč: | I17: IČ: | J17: ='Rekapitulace stavby'!AN13 -> Vyplň údaj
E18: ='Rekapitulace stavby'!E14 -> Vyplň údaj | I18: DIČ: | J18: ='Rekapitulace stavby'!AN14 -> Vyplň údaj
D20: Projektant: | I20: IČ:
E21: Ing.arch.Ester Miluničová | I21: DIČ:
D23: Zpracovatel: | I23: IČ:
E24: Hana Pejšová | I24: DIČ:
D26: Poznámka:
D30: Cena bez DPH | J30: =ROUND(J128, 2) -> 0
F32: Základ daně | I32: Sazba daně | J32: Výše daně
D33: DPH | E33: základní | F33: =ROUND((SUM(BE128:BE162)), 2) -> 0 | I33: 0.21 | J33: =ROUND(((SUM(BE128:BE162))*I33), 2) -> 0
E34: snížená | F34: =ROUND((SUM(BF128:BF162)), 2) -> 0 | I34: 0.12 | J34: =ROUND(((SUM(BF128:BF162))*I34), 2) -> 0
E35: zákl. přenesená | F35: =ROUND((SUM(BG128:BG162)), 2) -> 0 | I35: 0.21 | J35: =0 -> 0
E36: sníž. přenesená | F36: =ROUND((SUM(BH128:BH162)), 2) -> 0 | I36: 0.12 | J36: =0 -> 0
E37: nulová | F37: =ROUND((SUM(BI128:BI162)), 2) -> 0 | I37: 0 | J37: =0 -> 0
D39: Cena s DPH | G39: v | H39: CZK | J39: =SUM(J30:J37) -> 0
D50: Projektant | G50: Zpracovatel
D61: Datum a podpis: | F61: Razítko | G61: Datum a podpis: | J61: Razítko
D65: Objednavatel | G65: Uchazeč
D76: Datum a podpis: | F76: Razítko | G76: Datum a podpis: | J76: Razítko
C82: REKAPITULACE ČLENĚNÍ SOUPISU PRACÍ
C84: Stavba:
E85: =E7 -> KAPLE SV VÁCLAVA VONOKLASY Na Návsi, Vonoklasy
C86: Objekt:
E87: =E9 -> 06 - Dlažba
C89: Místo: | F89: =F12 -> Vonoklasy | I89: Datum: | J89: =IF(J12="","",J12) -> 20. 8. 2025
C91: Zadavatel: | F91: =E15 | I91: Projektant: | J91: =E21 -> Ing.arch.Ester Miluničová
C92: Uchazeč: | F92: =IF(E18="","",E18) -> Vyplň údaj | I92: Zpracovatel: | J92: =E24 -> Hana Pejšová
C94: Kód dílu - Popis | J94: Cena celkem [CZK]
C96: Náklady ze soupisu prací | J96: =J128 -> 0 | AU96: -1
D97: HSV - Práce a dodávky HSV | J97: =J129 -> 0
D98: 6 - Úpravy povrchů, podlahy a osazování výplní | J98: =J130 -> 0
D99: 9 - Ostatní konstrukce a práce, bourání | J99: =J133 -> 0
D100: 997 - Přesun sutě | J100: =J137 -> 0
D101: 998 - Přesun hmot | J101: =J143 -> 0
D102: PSV - Práce a dodávky PSV | J102: =J145 -> 0
D103: 772 - Podlahy z kamene | J103: =J146 -> 0
D104: VRN - Vedlejší rozpočtové náklady | J104: =J154 -> 0
D105: VRN3 - Zařízení staveniště | J105: =J155 -> 0
D106: VRN4 - Inženýrská činnost | J106: =J157 -> 0
D107: VRN6 - Územní vlivy | J107: =J159 -> 0
D108: VRN9 - Ostatní náklady | J108: =J161 -> 0
C115: SOUPIS PRACÍ
C117: Stavba:
E118: =E7 -> KAPLE SV VÁCLAVA VONOKLASY Na Návsi, Vonoklasy
C119: Objekt:
E120: =E9 -> 06 - Dlažba
C122: Místo: | F122: =F12 -> Vonoklasy | I122: Datum: | J122: =IF(J12="","",J12) -> 20. 8. 2025
C124: Zadavatel: | F124: =E15 | I124: Projektant: | J124: =E21 -> Ing.arch.Ester Miluničová
C125: Uchazeč: | F125: =IF(E18="","",E18) -> Vyplň údaj | I125: Zpracovatel: | J125: =E24 -> Hana Pejšová
C127: PČ | D127: Typ | E127: Kód | F127: Popis | G127: MJ | H127: Množství | I127: J.cena [CZK] | J127: Cena celkem [CZK] | K127: Cenová soustava | N127: DPH | O127: J. Nh [h] | P127: Nh celkem [h] | Q127: J. hmotnost [t] | R127: Hmotnost celkem [t] | S127: J. suť [t] | T127: Suť Celkem [t]
C128: Náklady soupisu celkem | J128: =BK128 -> 0 | P128: =P129+P145+P154 -> 0 | R128: =R129+R145+R154 -> 6.2365647 | T128: =T129+T145+T154 -> 8.1667 | AT128: D | AU128: -1 | BK128: =BK129+BK145+BK154 -> 0
D129: D | E129: HSV | F129: Práce a dodávky HSV | J129: =BK129 -> 0 | P129: =P130+P133+P137+P143 -> 0 | R129: =R130+R133+R137+R143 -> 4.5283847 | T129: =T130+T133+T137+T143 -> 3.982 | AR129: 1 | AT129: D | AU129: 0 | AY129: ROZPOCET | BK129: =BK130+BK133+BK137+BK143 -> 0
D130: D | E130: 6 | F130: Úpravy povrchů, podlahy a osazování výplní | J130: =BK130 -> 0 | P130: =SUM(P131:P132) -> 0 | R130: =SUM(R131:R132) -> 4.5283847 | T130: =SUM(T131:T132) -> 0 | AR130: 1 | AT130: D | AU130: 1 | AY130: ROZPOCET | BK130: =SUM(BK131:BK132) -> 0
C131: 1 | D131: K | E131: 631311125 | F131: Podklad z betonu prostého pro srovnání před položením dlažby tř. C 20/25 | G131: m3 | H131: 1.81 | J131: =ROUND(I131*H131,2) -> 0 | N131: základní | P131: =O131*H131 -> 0 | Q131: 2.50187 | R131: =Q131*H131 -> 4.5283847 | S131: 0 | T131: =S131*H131 -> 0 | AR131: 4 | AT131: K | AU131: 2 | AY131: ROZPOCET | BE131: =IF(N131="základní",J131,0) -> 0 | BF131: =IF(N131="snížená",J131,0) -> 0 | BG131: =IF(N131="zákl. přenesená",J131,0) -> 0 | BH131: =IF(N131="sníž. přenesená",J131,0) -> 0 | BI131: =IF(N131="nulová",J131,0) -> 0 | BJ131: 1 | BK131: =ROUND(I131*H131,2) -> 0 | BL131: 4 | BM131: -1771989593
D132: VV | F132: 22,620*0,08 | H132: 1.81 | AT132: VV | AU132: 2 | AV132: 2 | AW132: True | AX132: 1 | AY132: ROZPOCET
D133: D | E133: 9 | F133: Ostatní konstrukce a práce, bourání | J133: =BK133 -> 0 | P133: =SUM(P134:P136) -> 0 | R133: =SUM(R134:R136) -> 0 | T133: =SUM(T134:T136) -> 3.982 | AR133: 1 | AT133: D | AU133: 1 | AY133: ROZPOCET | BK133: =SUM(BK134:BK136) -> 0
C134: 2 | D134: K | E134: 952902121 | F134: Čištění budov zametení drsných podlah | G134: m2 | H134: 22.62 | J134: =ROUND(I134*H134,2) -> 0 | N134: základní | P134: =O134*H134 -> 0 | Q134: 0 | R134: =Q134*H134 -> 0 | S134: 0 | T134: =S134*H134 -> 0 | AR134: 4 | AT134: K | AU134: 2 | AY134: ROZPOCET | BE134: =IF(N134="základní",J134,0) -> 0 | BF134: =IF(N134="snížená",J134,0) -> 0 | BG134: =IF(N134="zákl. přenesená",J134,0) -> 0 | BH134: =IF(N134="sníž. přenesená",J134,0) -> 0 | BI134: =IF(N134="nulová",J134,0) -> 0 | BJ134: 1 | BK134: =ROUND(I134*H134,2) -> 0 | BL134: 4 | BM134: -512014836
C135: 3 | D135: K | E135: 965042141 | F135: Bourání podkladů z mazanin betonových tl do 100 mm pl přes 4 m2 pod dlažbou | G135: m3 | H135: 1.81 | J135: =ROUND(I135*H135,2) -> 0 | N135: základní | P135: =O135*H135 -> 0 | Q135: 0 | R135: =Q135*H135 -> 0 | S135: 2.2 | T135: =S135*H135 -> 3.982 | AR135: 4 | AT135: K | AU135: 2 | AY135: ROZPOCET | BE135: =IF(N135="základní",J135,0) -> 0 | BF135: =IF(N135="snížená",J135,0) -> 0 | BG135: =IF(N135="zákl. přenesená",J135,0) -> 0 | BH135: =IF(N135="sníž. přenesená",J135,0) -> 0 | BI135: =IF(N135="nulová",J135,0) -> 0 | BJ135: 1 | BK135: =ROUND(I135*H135,2) -> 0 | BL135: 4 | BM135: 1402183747
D136: VV | F136: 22,620*0,08 | H136: 1.81 | AT136: VV | AU136: 2 | AV136: 2 | AW136: True | AX136: 1 | AY136: ROZPOCET
D137: D | E137: 997 | F137: Přesun sutě | J137: =BK137 -> 0 | P137: =SUM(P138:P142) -> 0 | R137: =SUM(R138:R142) -> 0 | T137: =SUM(T138:T142) -> 0 | AR137: 1 | AT137: D | AU137: 1 | AY137: ROZPOCET | BK137: =SUM(BK138:BK142) -> 0
C138: 4 | D138: K | E138: 997013214 | F138: Vnitrostaveništní doprava suti a vybouraných hmot pro budovy v přes 12 do 15 m ručně | G138: t | H138: 8.167 | J138: =ROUND(I138*H138,2) -> 0 | N138: základní | P138: =O138*H138 -> 0 | Q138: 0 | R138: =Q138*H138 -> 0 | S138: 0 | T138: =S138*H138 -> 0 | AR138: 4 | AT138: K | AU138: 2 | AY138: ROZPOCET | BE138: =IF(N138="základní",J138,0) -> 0 | BF138: =IF(N138="snížená",J138,0) -> 0 | BG138: =IF(N138="zákl. přenesená",J138,0) -> 0 | BH138: =IF(N138="sníž. přenesená",J138,0) -> 0 | BI138: =IF(N138="nulová",J138,0) -> 0 | BJ138: 1 | BK138: =ROUND(I138*H138,2) -> 0 | BL138: 4 | BM138: 42326572
C139: 5 | D139: K | E139: 997013509 | F139: Příplatek k odvozu suti a vybouraných hmot na skládku ZKD 1 km přes 1 km | G139: t | H139: 114.338 | J139: =ROUND(I139*H139,2) -> 0 | N139: základní | P139: =O139*H139 -> 0 | Q139: 0 | R139: =Q139*H139 -> 0 | S139: 0 | T139: =S139*H139 -> 0 | AR139: 4 | AT139: K | AU139: 2 | AY139: ROZPOCET | BE139: =IF(N139="základní",J139,0) -> 0 | BF139: =IF(N139="snížená",J139,0) -> 0 | BG139: =IF(N139="zákl. přenesená",J139,0) -> 0 | BH139: =IF(N139="sníž. přenesená",J139,0) -> 0 | BI139: =IF(N139="nulová",J139,0) -> 0 | BJ139: 1 | BK139: =ROUND(I139*H139,2) -> 0 | BL139: 4 | BM139: -1555438769
D140: VV | F140: 14*8,167 | H140: 114.338 | AT140: VV | AU140: 2 | AV140: 2 | AW140: True | AX140: 1 | AY140: ROZPOCET
C141: 6 | D141: K | E141: 997013511 | F141: Odvoz suti a vybouraných hmot z meziskládky na skládku do 1 km s naložením a se složením | G141: t | H141: 8.167 | J141: =ROUND(I141*H141,2) -> 0 | N141: základní | P141: =O141*H141 -> 0 | Q141: 0 | R141: =Q141*H141 -> 0 | S141: 0 | T141: =S141*H141 -> 0 | AR141: 4 | AT141: K | AU141: 2 | AY141: ROZPOCET | BE141: =IF(N141="základní",J141,0) -> 0 | BF141: =IF(N141="snížená",J141,0) -> 0 | BG141: =IF(N141="zákl. přenesená",J141,0) -> 0 | BH141: =IF(N141="sníž. přenesená",J141,0) -> 0 | BI141: =IF(N141="nulová",J141,0) -> 0 | BJ141: 1 | BK141: =ROUND(I141*H141,2) -> 0 | BL141: 4 | BM141: 1524903432
C142: 7 | D142: K | E142: 997013631 | F142: Poplatek za uložení na skládce (skládkovné) stavebního odpadu směsného kód odpadu 17 09 04 | G142: t | H142: 8.167 | J142: =ROUND(I142*H142,2) -> 0 | N142: základní | P142: =O142*H142 -> 0 | Q142: 0 | R142: =Q142*H142 -> 0 | S142: 0 | T142: =S142*H142 -> 0 | AR142: 4 | AT142: K | AU142: 2 | AY142: ROZPOCET | BE142: =IF(N142="základní",J142,0) -> 0 | BF142: =IF(N142="snížená",J142,0) -> 0 | BG142: =IF(N142="zákl. přenesená",J142,0) -> 0 | BH142: =IF(N142="sníž. přenesená",J142,0) -> 0 | BI142: =IF(N142="nulová",J142,0) -> 0 | BJ142: 1 | BK142: =ROUND(I142*H142,2) -> 0 | BL142: 4 | BM142: -1541860647
D143: D | E143: 998 | F143: Přesun hmot | J143: =BK143 -> 0 | P143: =P144 -> 0 | R143: =R144 -> 0 | T143: =T144 -> 0 | AR143: 1 | AT143: D | AU143: 1 | AY143: ROZPOCET | BK143: =BK144 -> 0
C144: 8 | D144: K | E144: 998018002 | F144: Přesun hmot pro budovy ruční pro budovy v přes 6 do 12 m | G144: t | H144: 5.354 | J144: =ROUND(I144*H144,2) -> 0 | N144: základní | P144: =O144*H144 -> 0 | Q144: 0 | R144: =Q144*H144 -> 0 | S144: 0 | T144: =S144*H144 -> 0 | AR144: 4 | AT144: K | AU144: 2 | AY144: ROZPOCET | BE144: =IF(N144="základní",J144,0) -> 0 | BF144: =IF(N144="snížená",J144,0) -> 0 | BG144: =IF(N144="zákl. přenesená",J144,0) -> 0 | BH144: =IF(N144="sníž. přenesená",J144,0) -> 0 | BI144: =IF(N144="nulová",J144,0) -> 0 | BJ144: 1 | BK144: =ROUND(I144*H144,2) -> 0 | BL144: 4 | BM144: -800300858
D145: D | E145: PSV | F145: Práce a dodávky PSV | J145: =BK145 -> 0 | P145: =P146 -> 0 | R145: =R146 -> 1.70818 | T145: =T146 -> 4.1847 | AR145: 2 | AT145: D | AU145: 0 | AY145: ROZPOCET | BK145: =BK146 -> 0
D146: D | E146: 772 | F146: Podlahy z kamene | J146: =BK146 -> 0 | P146: =SUM(P147:P153) -> 0 | R146: =SUM(R147:R153) -> 1.70818 | T146: =SUM(T147:T153) -> 4.1847 | AR146: 2 | AT146: D | AU146: 1 | AY146: ROZPOCET | BK146: =SUM(BK147:BK153) -> 0
C147: 9 | D147: K | E147: 77252R4 | F147: Kladení dlažby cementové do malty | G147: m2 | H147: 22.62 | J147: =ROUND(I147*H147,2) -> 0 | N147: základní | P147: =O147*H147 -> 0 | Q147: 0.039 | R147: =Q147*H147 -> 0.88218 | S147: 0 | T147: =S147*H147 -> 0 | AR147: 16 | AT147: K | AU147: 2 | AY147: ROZPOCET | BE147: =IF(N147="základní",J147,0) -> 0 | BF147: =IF(N147="snížená",J147,0) -> 0 | BG147: =IF(N147="zákl. přenesená",J147,0) -> 0 | BH147: =IF(N147="sníž. přenesená",J147,0) -> 0 | BI147: =IF(N147="nulová",J147,0) -> 0 | BJ147: 1 | BK147: =ROUND(I147*H147,2) -> 0 | BL147: 16 | BM147: 491250058
C148: 10 | D148: M | E148: 590R1 | F148: dlažba cementová vel 158x158 x15 mm pro doplnění stávající stejného vzhledu a vlastností | G148: m2 | H148: 14 | J148: =ROUND(I148*H148,2) -> 0 | N148: základní | P148: =O148*H148 -> 0 | Q148: 0.059 | R148: =Q148*H148 -> 0.826 | S148: 0 | T148: =S148*H148 -> 0 | AR148: 8 | AT148: M | AU148: 2 | AY148: ROZPOCET | BE148: =IF(N148="základní",J148,0) -> 0 | BF148: =IF(N148="snížená",J148,0) -> 0 | BG148: =IF(N148="zákl. přenesená",J148,0) -> 0 | BH148: =IF(N148="sníž. přenesená",J148,0) -> 0 | BI148: =IF(N148="nulová",J148,0) -> 0 | BJ148: 1 | BK148: =ROUND(I148*H148,2) -> 0 | BL148: 4 | BM148: -1927469617
D149: VV | F149: 13,592*1,03 'Přepočtené koeficientem množství | H149: 14 | AT149: VV | AU149: 2 | AV149: 2 | AW149: False | AX149: 1 | AY149: ROZPOCET
C150: 11 | D150: K | E150: 77252R1 | F150: Demontáž cementové dlažby k dalšímu použití kladených do malty | G150: m2 | H150: 22.62 | J150: =ROUND(I150*H150,2) -> 0 | N150: základní | P150: =O150*H150 -> 0 | Q150: 0 | R150: =Q150*H150 -> 0 | S150: 0.185 | T150: =S150*H150 -> 4.1847 | AR150: 16 | AT150: K | AU150: 2 | AY150: ROZPOCET | BE150: =IF(N150="základní",J150,0) -> 0 | BF150: =IF(N150="snížená",J150,0) -> 0 | BG150: =IF(N150="zákl. přenesená",J150,0) -> 0 | BH150: =IF(N150="sníž. přenesená",J150,0) -> 0 | BI150: =IF(N150="nulová",J150,0) -> 0 | BJ150: 1 | BK150: =ROUND(I150*H150,2) -> 0 | BL150: 16 | BM150: 1618104139
C151: 12 | D151: K | E151: 77299R2 | F151: Očištění vybouraných dlažeb k dalšímu použití od malty | G151: m2 | H151: 22.62 | J151: =ROUND(I151*H151,2) -> 0 | N151: základní | P151: =O151*H151 -> 0 | Q151: 0 | R151: =Q151*H151 -> 0 | S151: 0 | T151: =S151*H151 -> 0 | AR151: 16 | AT151: K | AU151: 2 | AY151: ROZPOCET | BE151: =IF(N151="základní",J151,0) -> 0 | BF151: =IF(N151="snížená",J151,0) -> 0 | BG151: =IF(N151="zákl. přenesená",J151,0) -> 0 | BH151: =IF(N151="sníž. přenesená",J151,0) -> 0 | BI151: =IF(N151="nulová",J151,0) -> 0 | BJ151: 1 | BK151: =ROUND(I151*H151,2) -> 0 | BL151: 16 | BM151: -698696036
C152: 13 | D152: K | E152: 77299R3 | F152: Očištění vybouraných dlažeb k dalšímu použití tlakovou vodou | G152: m2 | H152: 22.62 | J152: =ROUND(I152*H152,2) -> 0 | N152: základní | P152: =O152*H152 -> 0 | Q152: 0 | R152: =Q152*H152 -> 0 | S152: 0 | T152: =S152*H152 -> 0 | AR152: 16 | AT152: K | AU152: 2 | AY152: ROZPOCET | BE152: =IF(N152="základní",J152,0) -> 0 | BF152: =IF(N152="snížená",J152,0) -> 0 | BG152: =IF(N152="zákl. přenesená",J152,0) -> 0 | BH152: =IF(N152="sníž. přenesená",J152,0) -> 0 | BI152: =IF(N152="nulová",J152,0) -> 0 | BJ152: 1 | BK152: =ROUND(I152*H152,2) -> 0 | BL152: 16 | BM152: 1278447989
C153: 14 | D153: K | E153: 998772312 | F153: Přesun hmot procentní pro podlahy ruční v objektech v přes 6 do 12 m | G153: % | J153: =ROUND(I153*H153,2) -> 0 | N153: základní | P153: =O153*H153 -> 0 | Q153: 0 | R153: =Q153*H153 -> 0 | S153: 0 | T153: =S153*H153 -> 0 | AR153: 16 | AT153: K | AU153: 2 | AY153: ROZPOCET | BE153: =IF(N153="základní",J153,0) -> 0 | BF153: =IF(N153="snížená",J153,0) -> 0 | BG153: =IF(N153="zákl. přenesená",J153,0) -> 0 | BH153: =IF(N153="sníž. přenesená",J153,0) -> 0 | BI153: =IF(N153="nulová",J153,0) -> 0 | BJ153: 1 | BK153: =ROUND(I153*H153,2) -> 0 | BL153: 16 | BM153: -101696112
D154: D | E154: VRN | F154: Vedlejší rozpočtové náklady | J154: =BK154 -> 0 | P154: =P155+P157+P159+P161 -> 0 | R154: =R155+R157+R159+R161 -> 0 | T154: =T155+T157+T159+T161 -> 0 | AR154: 5 | AT154: D | AU154: 0 | AY154: ROZPOCET | BK154: =BK155+BK157+BK159+BK161 -> 0
D155: D | E155: VRN3 | F155: Zařízení staveniště | J155: =BK155 -> 0 | P155: =P156 -> 0 | R155: =R156 -> 0 | T155: =T156 -> 0 | AR155: 5 | AT155: D | AU155: 1 | AY155: ROZPOCET | BK155: =BK156 -> 0
C156: 15 | D156: K | E156: 030001000 | F156: Zařízení staveniště | G156: kpl | H156: 1 | J156: =ROUND(I156*H156,2) -> 0 | N156: základní | P156: =O156*H156 -> 0 | Q156: 0 | R156: =Q156*H156 -> 0 | S156: 0 | T156: =S156*H156 -> 0 | AR156: 1024 | AT156: K | AU156: 2 | AY156: ROZPOCET | BE156: =IF(N156="základní",J156,0) -> 0 | BF156: =IF(N156="snížená",J156,0) -> 0 | BG156: =IF(N156="zákl. přenesená",J156,0) -> 0 | BH156: =IF(N156="sníž. přenesená",J156,0) -> 0 | BI156: =IF(N156="nulová",J156,0) -> 0 | BJ156: 1 | BK156: =ROUND(I156*H156,2) -> 0 | BL156: 1024 | BM156: -1688237564
D157: D | E157: VRN4 | F157: Inženýrská činnost | J157: =BK157 -> 0 | P157: =P158 -> 0 | R157: =R158 -> 0 | T157: =T158 -> 0 | AR157: 5 | AT157: D | AU157: 1 | AY157: ROZPOCET | BK157: =BK158 -> 0
C158: 16 | D158: K | E158: 045203000 | F158: Kompletační činnost | G158: kpl | H158: 1 | J158: =ROUND(I158*H158,2) -> 0 | N158: základní | P158: =O158*H158 -> 0 | Q158: 0 | R158: =Q158*H158 -> 0 | S158: 0 | T158: =S158*H158 -> 0 | AR158: 1024 | AT158: K | AU158: 2 | AY158: ROZPOCET | BE158: =IF(N158="základní",J158,0) -> 0 | BF158: =IF(N158="snížená",J158,0) -> 0 | BG158: =IF(N158="zákl. přenesená",J158,0) -> 0 | BH158: =IF(N158="sníž. přenesená",J158,0) -> 0 | BI158: =IF(N158="nulová",J158,0) -> 0 | BJ158: 1 | BK158: =ROUND(I158*H158,2) -> 0 | BL158: 1024 | BM158: 1706404174
D159: D | E159: VRN6 | F159: Územní vlivy | J159: =BK159 -> 0 | P159: =P160 -> 0 | R159: =R160 -> 0 | T159: =T160 -> 0 | AR159: 5 | AT159: D | AU159: 1 | AY159: ROZPOCET | BK159: =BK160 -> 0
C160: 17 | D160: K | E160: 060001000 | F160: Územní vlivy | G160: kpl | H160: 1 | J160: =ROUND(I160*H160,2) -> 0 | N160: základní | P160: =O160*H160 -> 0 | Q160: 0 | R160: =Q160*H160 -> 0 | S160: 0 | T160: =S160*H160 -> 0 | AR160: 1024 | AT160: K | AU160: 2 | AY160: ROZPOCET | BE160: =IF(N160="základní",J160,0) -> 0 | BF160: =IF(N160="snížená",J160,0) -> 0 | BG160: =IF(N160="zákl. přenesená",J160,0) -> 0 | BH160: =IF(N160="sníž. přenesená",J160,0) -> 0 | BI160: =IF(N160="nulová",J160,0) -> 0 | BJ160: 1 | BK160: =ROUND(I160*H160,2) -> 0 | BL160: 1024 | BM160: -1269351623
D161: D | E161: VRN9 | F161: Ostatní náklady | J161: =BK161 -> 0 | P161: =P162 -> 0 | R161: =R162 -> 0 | T161: =T162 -> 0 | AR161: 5 | AT161: D | AU161: 1 | AY161: ROZPOCET | BK161: =BK162 -> 0
C162: 18 | D162: K | E162: 090001000 | F162: Ostatní náklady | G162: kpl | H162: 1 | J162: =ROUND(I162*H162,2) -> 0 | N162: základní | P162: =O162*H162 -> 0 | Q162: 0 | R162: =Q162*H162 -> 0 | S162: 0 | T162: =S162*H162 -> 0 | AR162: 1024 | AT162: K | AU162: 2 | AY162: ROZPOCET | BE162: =IF(N162="základní",J162,0) -> 0 | BF162: =IF(N162="snížená",J162,0) -> 0 | BG162: =IF(N162="zákl. přenesená",J162,0) -> 0 | BH162: =IF(N162="sníž. přenesená",J162,0) -> 0 | BI162: =IF(N162="nulová",J162,0) -> 0 | BJ162: 1 | BK162: =ROUND(I162*H162,2) -> 0 | BL162: 1024 | BM162: 637890416

Sheet dlažba
A1: KAPLE SV. VÁCLAVA VONOKLASY Na návsi, 252 028 Vonoklasy
A2: HISTORICKÁ DLAŽBA - DOPLNĚNÍ
A3: Název | B3: Schéma/foto | C3: ks | D3: rozměr dlažby | E3: jc/ks | F3: cena celkem | G3: Pozn.
A4: nová dlažba | C4: 1 | D4: 158x158x15 | E4: 0 | F4: =E4*C4 -> 0 | G4: Po šetrném odstranění dlažby v celém prostoru lodě a jejím uložení, bude zjistěn stav souvrství pod dlažbou. V případě potřeby bude dohodnut postup na opravu souvrství pod dlažbou. Po opravě souvrství bude nepoškozená stávající dlažba znovu položena ve středu lodě kaple. Historická dlažba bude po stranách doplněna novou jednobarevnou celoprobarvené keramickou hladké replikou historické dlažby. Ručně sypané, lisované , ostře pálené, vysoce slinuté. Přesný odstín bude vyvzorkován.
A5: Celkem cena
A6: Veškeré rozměry nutno před výrobou ověřit přímo na stavbě !!!! Rozměry nesmí být použity k přípravě výrobně-technic. dokumentace, dokumentace výrobků dodaných na stavbu, dílenských ani výrobních výkresů a jiných výkresů vedoucích k výrobě koncového produktu.

Sheet 07 - Terénní úpravy
L2: >> skryté sloupce << | AT2: {5ca15ea1-34a7-46fa-bd66-6d78e6668e20}
AT3: 2
D4: KRYCÍ LIST SOUPISU PRACÍ | M4: v --- níže se nacházejí doplnkové a pomocné údaje k sestavám --- v | AT4: False
D6: Stavba:
E7: ='Rekapitulace stavby'!K6 -> KAPLE SV VÁCLAVA VONOKLASY Na Návsi, Vonoklasy
D8: Objekt:
E9: 07 - Terénní úpravy
D11: KSO: | I11: CC-CZ:
D12: Místo: | F12: Vonoklasy | I12: Datum: | J12: ='Rekapitulace stavby'!AN8 -> 20. 8. 2025
D14: Zadavatel: | I14: IČ: | J14: =IF('Rekapitulace stavby'!AN10="","",'Rekapitulace stavby'!AN10)
E15: =IF('Rekapitulace stavby'!E11="","",'Rekapitulace stavby'!E11) | I15: DIČ: | J15: =IF('Rekapitulace stavby'!AN11="","",'Rekapitulace stavby'!AN11)
D17: Uchazeč: | I17: IČ: | J17: ='Rekapitulace stavby'!AN13 -> Vyplň údaj
E18: ='Rekapitulace stavby'!E14 -> Vyplň údaj | I18: DIČ: | J18: ='Rekapitulace stavby'!AN14 -> Vyplň údaj
D20: Projektant: | I20: IČ:
E21: Ing.arch.Ester Miluničová | I21: DIČ:
D23: Zpracovatel: | I23: IČ:
E24: Hana Pejšová | I24: DIČ:
D26: Poznámka:
D30: Cena bez DPH | J30: =ROUND(J128, 2) -> 0
F32: Základ daně | I32: Sazba daně | J32: Výše daně
D33: DPH | E33: základní | F33: =ROUND((SUM(BE128:BE181)), 2) -> 0 | I33: 0.21 | J33: =ROUND(((SUM(BE128:BE181))*I33), 2) -> 0
E34: snížená | F34: =ROUND((SUM(BF128:BF181)), 2) -> 0 | I34: 0.12 | J34: =ROUND(((SUM(BF128:BF181))*I34), 2) -> 0
E35: zákl. přenesená | F35: =ROUND((SUM(BG128:BG181)), 2) -> 0 | I35: 0.21 | J35: =0 -> 0
E36: sníž. přenesená | F36: =ROUND((SUM(BH128:BH181)), 2) -> 0 | I36: 0.12 | J36: =0 -> 0
E37: nulová | F37: =ROUND((SUM(BI128:BI181)), 2) -> 0 | I37: 0 | J37: =0 -> 0
D39: Cena s DPH | G39: v | H39: CZK | J39: =SUM(J30:J37) -> 0
D50: Projektant | G50: Zpracovatel
D61: Datum a podpis: | F61: Razítko | G61: Datum a podpis: | J61: Razítko
D65: Objednavatel | G65: Uchazeč
D76: Datum a podpis: | F76: Razítko | G76: Datum a podpis: | J76: Razítko
C82: REKAPITULACE ČLENĚNÍ SOUPISU PRACÍ
C84: Stavba:
E85: =E7 -> KAPLE SV VÁCLAVA VONOKLASY Na Návsi, Vonoklasy
C86: Objekt:
E87: =E9 -> 07 - Terénní úpravy
C89: Místo: | F89: =F12 -> Vonoklasy | I89: Datum: | J89: =IF(J12="","",J12) -> 20. 8. 2025
C91: Zadavatel: | F91: =E15 | I91: Projektant: | J91: =E21 -> Ing.arch.Ester Miluničová
C92: Uchazeč: | F92: =IF(E18="","",E18) -> Vyplň údaj | I92: Zpracovatel: | J92: =E24 -> Hana Pejšová
C94: Kód dílu - Popis | J94: Cena celkem [CZK]
C96: Náklady ze soupisu prací | J96: =J128 -> 0 | AU96: -1
D97: HSV - Práce a dodávky HSV | J97: =J129 -> 0
D98: 1 - Zemní práce | J98: =J130 -> 0
D99: 4 - Vodorovné konstrukce | J99: =J144 -> 0
D100: 5 - Komunikace pozemní | J100: =J150 -> 0
D101: 998 - Přesun hmot | J101: =J167 -> 0
D102: HZS - Hodinové zúčtovací sazby | J102: =J169 -> 0
D103: VRN - Vedlejší rozpočtové náklady | J103: =J171 -> 0
D104: VRN1 - Průzkumné, zeměměřičské a projektové práce | J104: =J172 -> 0
D105: VRN3 - Zařízení staveniště | J105: =J174 -> 0
D106: VRN4 - Inženýrská činnost | J106: =J176 -> 0
D107: VRN6 - Územní vlivy | J107: =J178 -> 0
D108: VRN9 - Ostatní náklady | J108: =J180 -> 0
C115: SOUPIS PRACÍ
C117: Stavba:
E118: =E7 -> KAPLE SV VÁCLAVA VONOKLASY Na Návsi, Vonoklasy
C119: Objekt:
E120: =E9 -> 07 - Terénní úpravy
C122: Místo: | F122: =F12 -> Vonoklasy | I122: Datum: | J122: =IF(J12="","",J12) -> 20. 8. 2025
C124: Zadavatel: | F124: =E15 | I124: Projektant: | J124: =E21 -> Ing.arch.Ester Miluničová
C125: Uchazeč: | F125: =IF(E18="","",E18) -> Vyplň údaj | I125: Zpracovatel: | J125: =E24 -> Hana Pejšová
C127: PČ | D127: Typ | E127: Kód | F127: Popis | G127: MJ | H127: Množství | I127: J.cena [CZK] | J127: Cena celkem [CZK] | K127: Cenová soustava | N127: DPH | O127: J. Nh [h] | P127: Nh celkem [h] | Q127: J. hmotnost [t] | R127: Hmotnost celkem [t] | S127: J. suť [t] | T127: Suť Celkem [t]
C128: Náklady soupisu celkem | J128: =BK128 -> 0 | P128: =P129+P169+P171 -> 0 | R128: =R129+R169+R171 -> 45.261471 | T128: =T129+T169+T171 -> 0 | AT128: D | AU128: -1 | BK128: =BK129+BK169+BK171 -> 0
D129: D | E129: HSV | F129: Práce a dodávky HSV | J129: =BK129 -> 0 | P129: =P130+P144+P150+P167 -> 0 | R129: =R130+R144+R150+R167 -> 45.261471 | T129: =T130+T144+T150+T167 -> 0 | AR129: 1 | AT129: D | AU129: 0 | AY129: ROZPOCET | BK129: =BK130+BK144+BK150+BK167 -> 0
D130: D | E130: 1 | F130: Zemní práce | J130: =BK130 -> 0 | P130: =SUM(P131:P143) -> 0 | R130: =SUM(R131:R143) -> 0 | T130: =SUM(T131:T143) -> 0 | AR130: 1 | AT130: D | AU130: 1 | AY130: ROZPOCET | BK130: =SUM(BK131:BK143) -> 0
C131: 1 | D131: K | E131: 122R1 | F131: Srovnání povrchu (odkopání,doplnění,...) před vraty v suterénu | G131: m2 | H131: 9 | J131: =ROUND(I131*H131,2) -> 0 | N131: základní | P131: =O131*H131 -> 0 | Q131: 0 | R131: =Q131*H131 -> 0 | S131: 0 | T131: =S131*H131 -> 0 | AR131: 4 | AT131: K | AU131: 2 | AY131: ROZPOCET | BE131: =IF(N131="základní",J131,0) -> 0 | BF131: =IF(N131="snížená",J131,0) -> 0 | BG131: =IF(N131="zákl. přenesená",J131,0) -> 0 | BH131: =IF(N131="sníž. přenesená",J131,0) -> 0 | BI131: =IF(N131="nulová",J131,0) -> 0 | BJ131: 1 | BK131: =ROUND(I131*H131,2) -> 0 | BL131: 4 | BM131: 725752468
D132: VV | F132: 9 | H132: 9 | AT132: VV | AU132: 2 | AV132: 2 | AW132: True | AX132: 1 | AY132: ROZPOCET
C133: 2 | D133: K | E133: 122R2 | F133: Srovnání povrchu (odkopání,doplnění,...) před položením kamenných prvků pro posezení a schody | G133: m2 | H133: 25.5 | J133: =ROUND(I133*H133,2) -> 0 | N133: základní | P133: =O133*H133 -> 0 | Q133: 0 | R133: =Q133*H133 -> 0 | S133: 0 | T133: =S133*H133 -> 0 | AR133: 4 | AT133: K | AU133: 2 | AY133: ROZPOCET | BE133: =IF(N133="základní",J133,0) -> 0 | BF133: =IF(N133="snížená",J133,0) -> 0 | BG133: =IF(N133="zákl. přenesená",J133,0) -> 0 | BH133: =IF(N133="sníž. přenesená",J133,0) -> 0 | BI133: =IF(N133="nulová",J133,0) -> 0 | BJ133: 1 | BK133: =ROUND(I133*H133,2) -> 0 | BL133: 4 | BM133: 582218892
C134: 3 | D134: K | E134: 122R3 | F134: Odkopání terénu pro položení žulové dlažby vč podkladní vrstvy a okapového chodníčku (zemnina použita pro srovnání terénu) | G134: m2 | H134: 49.97 | J134: =ROUND(I134*H134,2) -> 0 | N134: základní | P134: =O134*H134 -> 0 | Q134: 0 | R134: =Q134*H134 -> 0 | S134: 0 | T134: =S134*H134 -> 0 | AR134: 4 | AT134: K | AU134: 2 | AY134: ROZPOCET | BE134: =IF(N134="základní",J134,0) -> 0 | BF134: =IF(N134="snížená",J134,0) -> 0 | BG134: =IF(N134="zákl. přenesená",J134,0) -> 0 | BH134: =IF(N134="sníž. přenesená",J134,0) -> 0 | BI134: =IF(N134="nulová",J134,0) -> 0 | BJ134: 1 | BK134: =ROUND(I134*H134,2) -> 0 | BL134: 4 | BM134: -1526087235
D135: VV | F135: 39,8+10,17 | H135: 49.97 | AT135: VV | AU135: 2 | AV135: 2 | AW135: True | AX135: 1 | AY135: ROZPOCET
C136: 4 | D136: K | E136: 181951112 | F136: Úprava pláně se zhutněním strojně pro zpevněné plochy | G136: m2 | H136: 58.97 | J136: =ROUND(I136*H136,2) -> 0 | N136: základní | P136: =O136*H136 -> 0 | Q136: 0 | R136: =Q136*H136 -> 0 | S136: 0 | T136: =S136*H136 -> 0 | AR136: 4 | AT136: K | AU136: 2 | AY136: ROZPOCET | BE136: =IF(N136="základní",J136,0) -> 0 | BF136: =IF(N136="snížená",J136,0) -> 0 | BG136: =IF(N136="zákl. přenesená",J136,0) -> 0 | BH136: =IF(N136="sníž. přenesená",J136,0) -> 0 | BI136: =IF(N136="nulová",J136,0) -> 0 | BJ136: 1 | BK136: =ROUND(I136*H136,2) -> 0 | BL136: 4 | BM136: 1884493108
D137: VV | F137: chodníček | AT137: VV | AU137: 2 | AV137: 1 | AW137: True | AX137: 0 | AY137: ROZPOCET
D138: VV | F138: 0,6*(6,475+2,455+2,025+5,995) | H138: 10.17 | AT138: VV | AU138: 2 | AV138: 2 | AW138: True | AX138: 0 | AY138: ROZPOCET
D139: VV | F139: před vraty | AT139: VV | AU139: 2 | AV139: 1 | AW139: True | AX139: 0 | AY139: ROZPOCET
D140: VV | F140: 9 | H140: 9 | AT140: VV | AU140: 2 | AV140: 2 | AW140: True | AX140: 0 | AY140: ROZPOCET
D141: VV | F141: plocha před kaplí | AT141: VV | AU141: 2 | AV141: 1 | AW141: True | AX141: 0 | AY141: ROZPOCET
D142: VV | F142: 39,8 | H142: 39.8 | AT142: VV | AU142: 2 | AV142: 2 | AW142: True | AX142: 0 | AY142: ROZPOCET
D143: VV | F143: Součet | H143: 58.97 | AT143: VV | AU143: 2 | AV143: 4 | AW143: True | AX143: 1 | AY143: ROZPOCET
D144: D | E144: 4 | F144: Vodorovné konstrukce | J144: =BK144 -> 0 | P144: =SUM(P145:P147) -> 0 | R144: =SUM(R145:R147) -> 2.893128 | T144: =SUM(T145:T147) -> 0 | AR144: 1 | AT144: D | AU144: 1 | AY144: ROZPOCET | BK144: =SUM(BK145:BK148) -> 0
C145: 5 | D145: K | E145: 434191423-2 | F145: Osazení kamenných schodů pro posezení ve dvou řadách na pevný stabilní podklad | G145: m | H145: 5.92 | J145: =ROUND(I145*H145,2) -> 0 | N145: základní | P145: =O145*H145 -> 0 | Q145: 0.03465 | R145: =Q145*H145 -> 0.205128 | S145: 0 | T145: =S145*H145 -> 0 | AR145: 4 | AT145: K | AU145: 2 | AY145: ROZPOCET | BE145: =IF(N145="základní",J145,0) -> 0 | BF145: =IF(N145="snížená",J145,0) -> 0 | BG145: =IF(N145="zákl. přenesená",J145,0) -> 0 | BH145: =IF(N145="sníž. přenesená",J145,0) -> 0 | BI145: =IF(N145="nulová",J145,0) -> 0 | BJ145: 1 | BK145: =ROUND(I145*H145,2) -> 0 | BL145: 4 | BM145: -784235916
D146: VV | F146: 1,48*4 | H146: 5.92 | AT146: VV | AU146: 2 | AV146: 1 | AW146: True | AX146: 0 | AY146: ROZPOCET
C147: 6 | D147: M | E147: 583880R2 | F147: stupeň pro posezení žulový rovný a obloukový dle provedené dokumentace | G147: m | H147: 6 | J147: =ROUND(I147*H147,2) -> 0 | N147: základní | P147: =O147*H147 -> 0 | Q147: 0.448 | R147: =Q147*H147 -> 2.688 | S147: 0 | T147: =S147*H147 -> 0 | AR147: 8 | AT147: M | AU147: 2 | AY147: ROZPOCET | BE147: =IF(N147="základní",J147,0) -> 0 | BF147: =IF(N147="snížená",J147,0) -> 0 | BG147: =IF(N147="zákl. přenesená",J147,0) -> 0 | BH147: =IF(N147="sníž. přenesená",J147,0) -> 0 | BI147: =IF(N147="nulová",J147,0) -> 0 | BJ147: 1 | BK147: =ROUND(I147*H147,2) -> 0 | BL147: 4 | BM147: -1976963976
C148: 7 | D148: K | E148: 327215221 | F148: Zeď pro posezení z prefabrikovaných gabionů dvouzákrutová síť povrch galfan vyplněná kamenem | G148: m3 | H148: 8.025 | J148: =ROUND(I148*H148,2) -> 0 | N148: základní | O148: 1.478 | P148: =O148*H148 -> 11.86095 | Q148: 2.31154 | R148: =Q148*H148 -> 18.550109 | S148: 0 | T148: =S148*H148 -> 0 | AR148: 4 | AT148: K | AU148: 2 | AY148: ROZPOCET | BE148: =IF(N148="základní",J148,0) -> 0 | BF148: =IF(N148="snížená",J148,0) -> 0 | BG148: =IF(N148="zákl. přenesená",J148,0) -> 0 | BH148: =IF(N148="sníž. přenesená",J148,0) -> 0 | BI148: =IF(N148="nulová",J148,0) -> 0 | BJ148: 1 | BK148: =ROUND(I148*H148,2) -> 0 | BL148: 4 | BM148: -522260813
D149: VV | F149: 1,15*8,2*0,78+0,75*2,975*0,3 | H149: 8.025 | AT149: VV | AU149: 2 | AV149: 2 | AW149: True | AX149: 1 | AY149: ROZPOCET
D150: D | E150: 5 | F150: Komunikace pozemní | J150: =BK150 -> 0 | P150: =SUM(P151:P166) -> 0 | R150: =SUM(R151:R166) -> 42.368343 | T150: =SUM(T151:T166) -> 0 | AR150: 1 | AT150: D | AU150: 1 | AY150: ROZPOCET | BK150: =SUM(BK151:BK166) -> 0
C151: 7 | D151: K | E151: 564831011 | F151: Podklad ze štěrkodrtě ŠD plochy tl 100 mm | G151: m2 | H151: 39.8 | J151: =ROUND(I151*H151,2) -> 0 | N151: základní | P151: =O151*H151 -> 0 | Q151: 0.23 | R151: =Q151*H151 -> 9.154 | S151: 0 | T151: =S151*H151 -> 0 | AR151: 4 | AT151: K | AU151: 2 | AY151: ROZPOCET | BE151: =IF(N151="základní",J151,0) -> 0 | BF151: =IF(N151="snížená",J151,0) -> 0 | BG151: =IF(N151="zákl. přenesená",J151,0) -> 0 | BH151: =IF(N151="sníž. přenesená",J151,0) -> 0 | BI151: =IF(N151="nulová",J151,0) -> 0 | BJ151: 1 | BK151: =ROUND(I151*H151,2) -> 0 | BL151: 4 | BM151: 692242109
C152: 8 | D152: K | E152: 564851011 | F152: Podklad ze štěrkodrtě ŠD tl 150 mm | G152: m2 | H152: 9 | J152: =ROUND(I152*H152,2) -> 0 | N152: základní | P152: =O152*H152 -> 0 | Q152: 0.345 | R152: =Q152*H152 -> 3.105 | S152: 0 | T152: =S152*H152 -> 0 | AR152: 4 | AT152: K | AU152: 2 | AY152: ROZPOCET | BE152: =IF(N152="základní",J152,0) -> 0 | BF152: =IF(N152="snížená",J152,0) -> 0 | BG152: =IF(N152="zákl. přenesená",J152,0) -> 0 | BH152: =IF(N152="sníž. přenesená",J152,0) -> 0 | BI152: =IF(N152="nulová",J152,0) -> 0 | BJ152: 1 | BK152: =ROUND(I152*H152,2) -> 0 | BL152: 4 | BM152: -1125551692
D153: VV | F153: pod mlatovou plochu | AT153: VV | AU153: 2 | AV153: 1 | AW153: True | AX153: 0 | AY153: ROZPOCET
D154: VV | F154: 9 | H154: 9 | AT154: VV | AU154: 2 | AV154: 2 | AW154: True | AX154: 1 | AY154: ROZPOCET
C155: 9 | D155: K | E155: 564851011 | F155: Podklad ze štěrkodrtě ŠD tl 150 mm | G155: m2 | H155: 39.8 | J155: =ROUND(I155*H155,2) -> 0 | N155: základní | P155: =O155*H155 -> 0 | Q155: 0.345 | R155: =Q155*H155 -> 13.731 | S155: 0 | T155: =S155*H155 -> 0 | AR155: 4 | AT155: K | AU155: 2 | AY155: ROZPOCET | BE155: =IF(N155="základní",J155,0) -> 0 | BF155: =IF(N155="snížená",J155,0) -> 0 | BG155: =IF(N155="zákl. přenesená",J155,0) -> 0 | BH155: =IF(N155="sníž. přenesená",J155,0) -> 0 | BI155: =IF(N155="nulová",J155,0) -> 0 | BJ155: 1 | BK155: =ROUND(I155*H155,2) -> 0 | BL155: 4 | BM155: -1827705980
D156: VV | F156: pod zžulovou kostku | AT156: VV | AU156: 2 | AV156: 1 | AW156: True | AX156: 0 | AY156: ROZPOCET
D157: VV | F157: 39,8 | H157: 39.8 | AT157: VV | AU157: 2 | AV157: 2 | AW157: True | AX157: 1 | AY157: ROZPOCET
C158: 10 | D158: K | E158: 564R1 | F158: Mlatová plocha tl 60 mm se zhutněním před vraty v suterénu | G158: m2 | H158: 9 | J158: =ROUND(I158*H158,2) -> 0 | N158: základní | P158: =O158*H158 -> 0 | Q158: 0.20394 | R158: =Q158*H158 -> 1.83546 | S158: 0 | T158: =S158*H158 -> 0 | AR158: 4 | AT158: K | AU158: 2 | AY158: ROZPOCET | BE158: =IF(N158="základní",J158,0) -> 0 | BF158: =IF(N158="snížená",J158,0) -> 0 | BG158: =IF(N158="zákl. přenesená",J158,0) -> 0 | BH158: =IF(N158="sníž. přenesená",J158,0) -> 0 | BI158: =IF(N158="nulová",J158,0) -> 0 | BJ158: 1 | BK158: =ROUND(I158*H158,2) -> 0 | BL158: 4 | BM158: 1500816852
C159: 11 | D159: K | E159: 591211111 | F159: Kladení dlažby z kostek drobných z kamene do lože z kameniva těženého tl 50 mm | G159: m2 | H159: 39.8 | J159: =ROUND(I159*H159,2) -> 0 | N159: základní | P159: =O159*H159 -> 0 | Q159: 0.1837 | R159: =Q159*H159 -> 7.31126 | S159: 0 | T159: =S159*H159 -> 0 | AR159: 4 | AT159: K | AU159: 2 | AY159: ROZPOCET | BE159: =IF(N159="základní",J159,0) -> 0 | BF159: =IF(N159="snížená",J159,0) -> 0 | BG159: =IF(N159="zákl. přenesená",J159,0) -> 0 | BH159: =IF(N159="sníž. přenesená",J159,0) -> 0 | BI159: =IF(N159="nulová",J159,0) -> 0 | BJ159: 1 | BK159: =ROUND(I159*H159,2) -> 0 | BL159: 4 | BM159: -1549380038
C160: 12 | D160: M | E160: 58381010 | F160: kostka řezanoštípaná dlažební žula 6x6x4cm | G160: m2 | H160: 40.596 | J160: =ROUND(I160*H160,2) -> 0 | N160: základní | P160: =O160*H160 -> 0 | Q160: 0.118 | R160: =Q160*H160 -> 4.790328 | S160: 0 | T160: =S160*H160 -> 0 | AR160: 8 | AT160: M | AU160: 2 | AY160: ROZPOCET | BE160: =IF(N160="základní",J160,0) -> 0 | BF160: =IF(N160="snížená",J160,0) -> 0 | BG160: =IF(N160="zákl. přenesená",J160,0) -> 0 | BH160: =IF(N160="sníž. přenesená",J160,0) -> 0 | BI160: =IF(N160="nulová",J160,0) -> 0 | BJ160: 1 | BK160: =ROUND(I160*H160,2) -> 0 | BL160: 4 | BM160: -1031178356
D161: VV | F161: 39,8*1,02 'Přepočtené koeficientem množství | H161: 40.596 | AT161: VV | AU161: 2 | AV161: 2 | AW161: False | AX161: 1 | AY161: ROZPOCET
C162: 13 | D162: K | E162: 596811120 | F162: Kladení kamenné dlažby do lože z kameniva tl do 30 mm, velikosti dlažby do 0,09 m2 | G162: m2 | H162: 10.17 | J162: =ROUND(I162*H162,2) -> 0 | N162: základní | P162: =O162*H162 -> 0 | Q162: 0.101 | R162: =Q162*H162 -> 1.02717 | S162: 0 | T162: =S162*H162 -> 0 | AR162: 4 | AT162: K | AU162: 2 | AY162: ROZPOCET | BE162: =IF(N162="základní",J162,0) -> 0 | BF162: =IF(N162="snížená",J162,0) -> 0 | BG162: =IF(N162="zákl. přenesená",J162,0) -> 0 | BH162: =IF(N162="sníž. přenesená",J162,0) -> 0 | BI162: =IF(N162="nulová",J162,0) -> 0 | BJ162: 1 | BK162: =ROUND(I162*H162,2) -> 0 | BL162: 4 | BM162: -956016376
D163: VV | F163: okapovýc chodníček | AT163: VV | AU163: 2 | AV163: 1 | AW163: True | AX163: 0 | AY163: ROZPOCET
D164: VV | F164: 0,6*(6,475+2,455+2,025+5,995) | H164: 10.17 | AT164: VV | AU164: 2 | AV164: 2 | AW164: True | AX164: 1 | AY164: ROZPOCET
C165: 14 | D165: M | E165: 58381169 | F165: deska dlažební tryskaná žula 600x600mm tl 50mm | G165: m2 | H165: 10.475 | J165: =ROUND(I165*H165,2) -> 0 | N165: základní | P165: =O165*H165 -> 0 | Q165: 0.135 | R165: =Q165*H165 -> 1.414125 | S165: 0 | T165: =S165*H165 -> 0 | AR165: 8 | AT165: M | AU165: 2 | AY165: ROZPOCET | BE165: =IF(N165="základní",J165,0) -> 0 | BF165: =IF(N165="snížená",J165,0) -> 0 | BG165: =IF(N165="zákl. přenesená",J165,0) -> 0 | BH165: =IF(N165="sníž. přenesená",J165,0) -> 0 | BI165: =IF(N165="nulová",J165,0) -> 0 | BJ165: 1 | BK165: =ROUND(I165*H165,2) -> 0 | BL165: 4 | BM165: -329013388
D166: VV | F166: 10,17*1,03 'Přepočtené koeficientem množství | H166: 10.475 | AT166: VV | AU166: 2 | AV166: 2 | AW166: False | AX166: 1 | AY166: ROZPOCET
...

Sheet zvon a hodiny
A1: KAPLE SV. VÁCLAVA VONOKLASY Na návsi, 252 028 Vonoklasy
A2: ZVON A HODINY
A3: Název | B3: Schéma/foto | C3: ks | D3: rozměr | E3: jc/ks | F3: cena celkem | G3: Pozn.
A4: zvon | C4: 1 | E4: 0 | F4: =E4*C4 -> 0 | G4: Kontrola kotvení a časomíry. Přívod el. proudu
A5: hodiny | C5: 1 | D5: ⌀ 0,5 | E5: 0 | F5: =E5*C5 -> 0 | G5: Instalace nových hodin nebo oprava stávajících. Přívod el. proudu
A6: Celkem cena
A7: Veškeré rozměry nutno před výrobou ověřit přímo na stavbě !!!! Rozměry nesmí být použity k přípravě výrobně-technic. dokumentace, dokumentace výrobků dodaných na stavbu, dílenských ani výrobních výkresů a jiných výkresů vedoucích k výrobě koncového produktu.
